BEGIN:VCALENDAR
VERSION:2.0
PRODID:-//Nukkekamari - ECPv6.15.20//NONSGML v1.0//EN
CALSCALE:GREGORIAN
METHOD:PUBLISH
X-WR-CALNAME:Nukkekamari
X-ORIGINAL-URL:https://nukkekamari.fi
X-WR-CALDESC:Tapahtumat Nukkekamari
REFRESH-INTERVAL;VALUE=DURATION:PT1H
X-Robots-Tag:noindex
X-PUBLISHED-TTL:PT1H
BEGIN:VTIMEZONE
TZID:Europe/Helsinki
BEGIN:DAYLIGHT
TZOFFSETFROM:+0200
TZOFFSETTO:+0300
TZNAME:EEST
DTSTART:20240331T010000
END:DAYLIGHT
BEGIN:STANDARD
TZOFFSETFROM:+0300
TZOFFSETTO:+0200
TZNAME:EET
DTSTART:20241027T010000
END:STANDARD
BEGIN:DAYLIGHT
TZOFFSETFROM:+0200
TZOFFSETTO:+0300
TZNAME:EEST
DTSTART:20250330T010000
END:DAYLIGHT
BEGIN:STANDARD
TZOFFSETFROM:+0300
TZOFFSETTO:+0200
TZNAME:EET
DTSTART:20251026T010000
END:STANDARD
BEGIN:DAYLIGHT
TZOFFSETFROM:+0200
TZOFFSETTO:+0300
TZNAME:EEST
DTSTART:20260329T010000
END:DAYLIGHT
BEGIN:STANDARD
TZOFFSETFROM:+0300
TZOFFSETTO:+0200
TZNAME:EET
DTSTART:20261025T010000
END:STANDARD
END:VTIMEZONE
BEGIN:VEVENT
DTSTART;TZID=Europe/Helsinki:20250402T100000
DTEND;TZID=Europe/Helsinki:20250402T130000
DTSTAMP:20260425T163627
CREATED:20241214T121911Z
LAST-MODIFIED:20241214T121911Z
UID:3565-1743588000-1743598800@nukkekamari.fi
SUMMARY:Perinnelelutyöpaja: nukkeja ja nalleja B 12342K
DESCRIPTION:Ajankohta22.1.–16.4.2025\nPäivä ja kellonaikaKe  \n10:00–13:00 \n\nIlmoittautuminen alkaa7.1.2025 18:30\nHintaluokatKurssimaksu 54\,00 €\n\nTule tutustumaan antiikkilelujen ihmeelliseen maailmaan ja tekemään itse ikioma nukke tai pehmolelu mohairkankaasta. Voit valmistaa perinteisin menetelmin Martta-nuken\, antiikkinallen\, tontun tai perinnepehmon (kissan\, kanin tai koiran) mohairkankaasta. Lisätietoa netissä.  \n\n\nLisätiedot \n\n\nTutustu opiskelijoiden kokemuksiin opintopistekurssista: https://peda.net/id/6f64c4d8555 \n*** Nukkea valmistaessa opit hiomaan\, pohjustamaan ja maalaamaan nuken kasvot. Vartalo ommellaan kankaasta ja täytetään tiiviiksi sahanpurulla. Perinnepehmot ommellaan käsin mohairkankaasta. Pahvinivelet saavat lelut liikuttamaan kaikkia jäseniä ja käsin puhalletut lasisilmät saavat lelut elämään. Täytemateriaalina käytetään ekokuitua. Saat paljon tietoa lelujen historiasta. Nuken tai perinnepehmon voi valmistaa vaikkapa lahjaksi. Kurssilla ehtii valmistamaan vain toisen\, joko Martta-nuken tai perinnepehmolelun. Materiaalikustannus Martta-nukesta 23 e. Nukkepaketit alkaen 31 e. Perinnepehmolelut mohairkankaasta alkaen 35 e/hahmo. Opettajalta voi ostaa materiaalia. Opettaja lähettää kirjeen kurssista ennen kurssin alkua.
URL:https://nukkekamari.fi/tapahtuma/perinnelelutyopaja-nukkeja-ja-nalleja-b-12342k-9/
END:VEVENT
BEGIN:VEVENT
DTSTART;TZID=Europe/Helsinki:20250407T161500
DTEND;TZID=Europe/Helsinki:20250407T191500
DTSTAMP:20260425T163627
CREATED:20241214T120010Z
LAST-MODIFIED:20241214T120010Z
UID:3545-1744042500-1744053300@nukkekamari.fi
SUMMARY:Perinnelelutyöpaja: nukkeja ja nalleja A 12340K
DESCRIPTION:Ajankohta20.1.–14.4.2025\nPäivä ja kellonaikaMa  \n16:15–19:15 \n\nIlmoittautuminen alkaa7.1.2025 18:30\nHintaluokatKurssimaksu 54\,00 €\n\nTule tutustumaan antiikkilelujen ihmeelliseen maailmaan ja tekemään itse ikioma nukke tai pehmolelu mohairkankaasta. Voit valmistaa perinteisin menetelmin Martta-nuken\, antiikkinallen\, tontun tai perinnepehmon (kissan\, kanin tai koiran) mohairkankaasta. Lisätietoa netissä.\n\nLisätiedot \n\n\nTutustu opiskelijoiden kokemuksiin opintopistekurssista: https://peda.net/id/6f64c4d8555 \n*** Nukkea valmistaessa opit hiomaan\, pohjustamaan ja maalaamaan nuken kasvot. Vartalo ommellaan kankaasta ja täytetään tiiviiksi sahanpurulla. Perinnepehmot ommellaan käsin mohairkankaasta. Pahvinivelet saavat lelut liikuttamaan kaikkia jäseniä ja käsin puhalletut lasisilmät saavat lelut elämään. Täytemateriaalina käytetään ekokuitua. Saat paljon tietoa lelujen historiasta. Nuken tai perinnepehmon voi valmistaa vaikkapa lahjaksi. Kurssilla ehtii valmistamaan vain toisen\, joko Martta-nuken tai perinnepehmolelun. Materiaalikustannus Martta-nukesta 23 e. Nukkepaketit alkaen 31 e. Perinnepehmolelut mohairkankaasta alkaen 35 e/hahmo. Opettajalta voi ostaa materiaalia. Opettaja lähettää kirjeen kurssista ennen kurssin alkua.
URL:https://nukkekamari.fi/tapahtuma/perinnelelutyopaja-nukkeja-ja-nalleja-a-12340k-8/
END:VEVENT
BEGIN:VEVENT
DTSTART;TZID=Europe/Helsinki:20250409T100000
DTEND;TZID=Europe/Helsinki:20250409T130000
DTSTAMP:20260425T163627
CREATED:20241214T122100Z
LAST-MODIFIED:20241214T122100Z
UID:3567-1744192800-1744203600@nukkekamari.fi
SUMMARY:Perinnelelutyöpaja: nukkeja ja nalleja B 12342K
DESCRIPTION:  \nTule tutustumaan antiikkilelujen ihmeelliseen maailmaan ja tekemään itse ikioma nukke tai pehmolelu mohairkankaasta. Voit valmistaa perinteisin menetelmin Martta-nuken\, antiikkinallen\, tontun tai perinnepehmon (kissan\, kanin tai koiran) mohairkankaasta. Lisätietoa netissä.  \n\n\nLisätiedot \n\n\nTutustu opiskelijoiden kokemuksiin opintopistekurssista: https://peda.net/id/6f64c4d8555 \n*** Nukkea valmistaessa opit hiomaan\, pohjustamaan ja maalaamaan nuken kasvot. Vartalo ommellaan kankaasta ja täytetään tiiviiksi sahanpurulla. Perinnepehmot ommellaan käsin mohairkankaasta. Pahvinivelet saavat lelut liikuttamaan kaikkia jäseniä ja käsin puhalletut lasisilmät saavat lelut elämään. Täytemateriaalina käytetään ekokuitua. Saat paljon tietoa lelujen historiasta. Nuken tai perinnepehmon voi valmistaa vaikkapa lahjaksi. Kurssilla ehtii valmistamaan vain toisen\, joko Martta-nuken tai perinnepehmolelun. Materiaalikustannus Martta-nukesta 23 e. Nukkepaketit alkaen 31 e. Perinnepehmolelut mohairkankaasta alkaen 35 e/hahmo. Opettajalta voi ostaa materiaalia. Opettaja lähettää kirjeen kurssista ennen kurssin alkua. \n 
URL:https://nukkekamari.fi/tapahtuma/perinnelelutyopaja-nukkeja-ja-nalleja-b-12342k-10/
END:VEVENT
BEGIN:VEVENT
DTSTART;TZID=Europe/Helsinki:20250414T161500
DTEND;TZID=Europe/Helsinki:20250414T191500
DTSTAMP:20260425T163627
CREATED:20241214T120138Z
LAST-MODIFIED:20241214T120138Z
UID:3547-1744647300-1744658100@nukkekamari.fi
SUMMARY:Perinnelelutyöpaja: nukkeja ja nalleja A 12340K
DESCRIPTION:Ajankohta20.1.–14.4.2025\nPäivä ja kellonaikaMa  \n16:15–19:15 \n\nIlmoittautuminen alkaa7.1.2025 18:30\nHintaluokatKurssimaksu 54\,00 €\n\nTule tutustumaan antiikkilelujen ihmeelliseen maailmaan ja tekemään itse ikioma nukke tai pehmolelu mohairkankaasta. Voit valmistaa perinteisin menetelmin Martta-nuken\, antiikkinallen\, tontun tai perinnepehmon (kissan\, kanin tai koiran) mohairkankaasta. Lisätietoa netissä.\n\nLisätiedot \n\n\nTutustu opiskelijoiden kokemuksiin opintopistekurssista: https://peda.net/id/6f64c4d8555 \n*** Nukkea valmistaessa opit hiomaan\, pohjustamaan ja maalaamaan nuken kasvot. Vartalo ommellaan kankaasta ja täytetään tiiviiksi sahanpurulla. Perinnepehmot ommellaan käsin mohairkankaasta. Pahvinivelet saavat lelut liikuttamaan kaikkia jäseniä ja käsin puhalletut lasisilmät saavat lelut elämään. Täytemateriaalina käytetään ekokuitua. Saat paljon tietoa lelujen historiasta. Nuken tai perinnepehmon voi valmistaa vaikkapa lahjaksi. Kurssilla ehtii valmistamaan vain toisen\, joko Martta-nuken tai perinnepehmolelun. Materiaalikustannus Martta-nukesta 23 e. Nukkepaketit alkaen 31 e. Perinnepehmolelut mohairkankaasta alkaen 35 e/hahmo. Opettajalta voi ostaa materiaalia. Opettaja lähettää kirjeen kurssista ennen kurssin alkua. \n 
URL:https://nukkekamari.fi/tapahtuma/perinnelelutyopaja-nukkeja-ja-nalleja-a-12340k-9/
END:VEVENT
BEGIN:VEVENT
DTSTART;TZID=Europe/Helsinki:20250416T100000
DTEND;TZID=Europe/Helsinki:20250416T130000
DTSTAMP:20260425T163627
CREATED:20241214T122210Z
LAST-MODIFIED:20241214T122217Z
UID:3569-1744797600-1744808400@nukkekamari.fi
SUMMARY:Perinnelelutyöpaja: nukkeja ja nalleja B 12342K
DESCRIPTION:Ajankohta22.1.–16.4.2025\n\nPäivä ja kellonaikaKe  \n10:00–13:00 \n\nIlmoittautuminen alkaa7.1.2025 18:30\nHintaluokatKurssimaksu 54\,00 €\n\n\nTule tutustumaan antiikkilelujen ihmeelliseen maailmaan ja tekemään itse ikioma nukke tai pehmolelu mohairkankaasta. Voit valmistaa perinteisin menetelmin Martta-nuken\, antiikkinallen\, tontun tai perinnepehmon (kissan\, kanin tai koiran) mohairkankaasta. Lisätietoa netissä. \n\n\nLisätiedot \n\n\nTutustu opiskelijoiden kokemuksiin opintopistekurssista: https://peda.net/id/6f64c4d8555 \n*** Nukkea valmistaessa opit hiomaan\, pohjustamaan ja maalaamaan nuken kasvot. Vartalo ommellaan kankaasta ja täytetään tiiviiksi sahanpurulla. Perinnepehmot ommellaan käsin mohairkankaasta. Pahvinivelet saavat lelut liikuttamaan kaikkia jäseniä ja käsin puhalletut lasisilmät saavat lelut elämään. Täytemateriaalina käytetään ekokuitua. Saat paljon tietoa lelujen historiasta. Nuken tai perinnepehmon voi valmistaa vaikkapa lahjaksi. Kurssilla ehtii valmistamaan vain toisen\, joko Martta-nuken tai perinnepehmolelun. Materiaalikustannus Martta-nukesta 23 e. Nukkepaketit alkaen 31 e. Perinnepehmolelut mohairkankaasta alkaen 35 e/hahmo. Opettajalta voi ostaa materiaalia. Opettaja lähettää kirjeen kurssista ennen kurssin alkua.
URL:https://nukkekamari.fi/tapahtuma/perinnelelutyopaja-nukkeja-ja-nalleja-b-12342k-11/
END:VEVENT
END:VCALENDAR