BEGIN:VCALENDAR
VERSION:2.0
PRODID:-//Nukkekamari - ECPv6.15.20//NONSGML v1.0//EN
CALSCALE:GREGORIAN
METHOD:PUBLISH
X-WR-CALNAME:Nukkekamari
X-ORIGINAL-URL:https://nukkekamari.fi
X-WR-CALDESC:Tapahtumat Nukkekamari
REFRESH-INTERVAL;VALUE=DURATION:PT1H
X-Robots-Tag:noindex
X-PUBLISHED-TTL:PT1H
BEGIN:VTIMEZONE
TZID:Europe/Helsinki
BEGIN:DAYLIGHT
TZOFFSETFROM:+0200
TZOFFSETTO:+0300
TZNAME:EEST
DTSTART:20240331T010000
END:DAYLIGHT
BEGIN:STANDARD
TZOFFSETFROM:+0300
TZOFFSETTO:+0200
TZNAME:EET
DTSTART:20241027T010000
END:STANDARD
BEGIN:DAYLIGHT
TZOFFSETFROM:+0200
TZOFFSETTO:+0300
TZNAME:EEST
DTSTART:20250330T010000
END:DAYLIGHT
BEGIN:STANDARD
TZOFFSETFROM:+0300
TZOFFSETTO:+0200
TZNAME:EET
DTSTART:20251026T010000
END:STANDARD
BEGIN:DAYLIGHT
TZOFFSETFROM:+0200
TZOFFSETTO:+0300
TZNAME:EEST
DTSTART:20260329T010000
END:DAYLIGHT
BEGIN:STANDARD
TZOFFSETFROM:+0300
TZOFFSETTO:+0200
TZNAME:EET
DTSTART:20261025T010000
END:STANDARD
END:VTIMEZONE
BEGIN:VEVENT
DTSTART;TZID=Europe/Helsinki:20250303T161500
DTEND;TZID=Europe/Helsinki:20250303T191500
DTSTAMP:20260425T150911
CREATED:20241214T114127Z
LAST-MODIFIED:20241214T115209Z
UID:3532-1741018500-1741029300@nukkekamari.fi
SUMMARY:Perinnelelutyöpaja: nukkeja ja nalleja A 12340K
DESCRIPTION:Ajankohta20.1.–14.4.2025\n\nPäivä ja kellonaikaMa  \n16:15–19:15 \n\nIlmoittautuminen alkaa7.1.2025 18:30\nHintaluokatKurssimaksu 54\,00 €\n\nTule tutustumaan antiikkilelujen ihmeelliseen maailmaan ja tekemään itse ikioma nukke tai pehmolelu mohairkankaasta. Voit valmistaa perinteisin menetelmin Martta-nuken\, antiikkinallen\, tontun tai perinnepehmon (kissan\, kanin tai koiran) mohairkankaasta. Lisätietoa netissä.\n\nLisätiedot \n\n\nTutustu opiskelijoiden kokemuksiin opintopistekurssista: https://peda.net/id/6f64c4d8555 \n*** Nukkea valmistaessa opit hiomaan\, pohjustamaan ja maalaamaan nuken kasvot. Vartalo ommellaan kankaasta ja täytetään tiiviiksi sahanpurulla. Perinnepehmot ommellaan käsin mohairkankaasta. Pahvinivelet saavat lelut liikuttamaan kaikkia jäseniä ja käsin puhalletut lasisilmät saavat lelut elämään. Täytemateriaalina käytetään ekokuitua. Saat paljon tietoa lelujen historiasta. Nuken tai perinnepehmon voi valmistaa vaikkapa lahjaksi. Kurssilla ehtii valmistamaan vain toisen\, joko Martta-nuken tai perinnepehmolelun. Materiaalikustannus Martta-nukesta 23 e. Nukkepaketit alkaen 31 e. Perinnepehmolelut mohairkankaasta alkaen 35 e/hahmo. Opettajalta voi ostaa materiaalia. Opettaja lähettää kirjeen kurssista ennen kurssin alkua.
URL:https://nukkekamari.fi/tapahtuma/perinnelelutyopaja-nukkeja-ja-nalleja-a-12340k-3/
END:VEVENT
BEGIN:VEVENT
DTSTART;TZID=Europe/Helsinki:20250305T100000
DTEND;TZID=Europe/Helsinki:20250305T130000
DTSTAMP:20260425T150911
CREATED:20241214T121409Z
LAST-MODIFIED:20241214T121409Z
UID:3557-1741168800-1741179600@nukkekamari.fi
SUMMARY:Perinnelelutyöpaja: nukkeja ja nalleja B 12342K
DESCRIPTION:Ajankohta22.1.–16.4.2025\nPäivä ja kellonaikaKe  \n10:00–13:00 \n\nIlmoittautuminen alkaa7.1.2025 18:30\nHintaluokatKurssimaksu 54\,00 €\n\nTule tutustumaan antiikkilelujen ihmeelliseen maailmaan ja tekemään itse ikioma nukke tai pehmolelu mohairkankaasta. Voit valmistaa perinteisin menetelmin Martta-nuken\, antiikkinallen\, tontun tai perinnepehmon (kissan\, kanin tai koiran) mohairkankaasta. Lisätietoa netissä.  \n\n\nLisätiedot \n\n\nTutustu opiskelijoiden kokemuksiin opintopistekurssista: https://peda.net/id/6f64c4d8555 \n*** Nukkea valmistaessa opit hiomaan\, pohjustamaan ja maalaamaan nuken kasvot. Vartalo ommellaan kankaasta ja täytetään tiiviiksi sahanpurulla. Perinnepehmot ommellaan käsin mohairkankaasta. Pahvinivelet saavat lelut liikuttamaan kaikkia jäseniä ja käsin puhalletut lasisilmät saavat lelut elämään. Täytemateriaalina käytetään ekokuitua. Saat paljon tietoa lelujen historiasta. Nuken tai perinnepehmon voi valmistaa vaikkapa lahjaksi. Kurssilla ehtii valmistamaan vain toisen\, joko Martta-nuken tai perinnepehmolelun. Materiaalikustannus Martta-nukesta 23 e. Nukkepaketit alkaen 31 e. Perinnepehmolelut mohairkankaasta alkaen 35 e/hahmo. Opettajalta voi ostaa materiaalia. Opettaja lähettää kirjeen kurssista ennen kurssin alkua. \n 
URL:https://nukkekamari.fi/tapahtuma/perinnelelutyopaja-nukkeja-ja-nalleja-b-12342k-5/
END:VEVENT
BEGIN:VEVENT
DTSTART;TZID=Europe/Helsinki:20250307T170000
DTEND;TZID=Europe/Helsinki:20250307T210000
DTSTAMP:20260425T150911
CREATED:20241214T124219Z
LAST-MODIFIED:20241214T124219Z
UID:3584-1741366800-1741381200@nukkekamari.fi
SUMMARY:Nukkeja\, nalleja ja tonttuja 110412\, Sataopisto\, Eura
DESCRIPTION:Ajankohta7.–15.3.2025\nPäivä ja kellonaikaPe  \n17:00–21:00 \nLa  \n10:00–16:30 \n\nIlmoittautuminen on avoinna\nIlmoittaudu viimeistään28.2.2025 0:00\nHintaluokatKurssimaksu 44\,00\n\nTule tutustumaan antiikkilelujen ihmeelliseen maailmaan ja tekemään itse ikioma nukke tai pehmolelu mohairkankaasta. Voit valmistaa perinteisin menetelmin Martta-nuken\, antiikkinallen\, tontun tai perinnepehmon (kissan\, kanin tai koiran) mohairkankaasta. Lisätietoa netissä. Nukkea valmistaessa opit hiomaan\, pohjustamaan ja maalaamaan nuken kasvot. Vartalo ommellaan kankaasta ja täytetään tiiviiksi sahanpurulla. Perinnepehmot ommellaan käsin mohairkankaasta. Pahvinivelet saavat lelut liikuttamaan kaikkia jäseniä ja käsin puhalletut lasisilmät saavat lelut elämään. Täytemateriaalina käytetään ekokuitua. Saat paljon tietoa lelujen historiasta. Nuken tai perinnepehmon voi valmistaa vaikkapa lahjaksi. Kurssilla ehtii valmistamaan vain toisen\, joko Martta-nuken tai perinnepehmolelun. Materiaalikustannus Martta-nukesta 23 e. Nukkepaketit alkaen 31 e. Perinnepehmolelut mohairkankaasta alkaen 35 e/hahmo. Opettajalta voi ostaa materiaalia. Opettaja lähettää kirjeen kurssista ennen kurssin alkua. Kurssipäivät:8.3.-9.3.sekä 22.-23.3. 2024. Pe klo 17.00-21.00\, la klo 10.00-16.30.\n\nLisätiedot \n\nVoit suorittaa kurssin opintopistekurssina eli noppakurssina. Perinnelelutyöpaja: nukkeja ja nalleja (1 op)\n\n 
URL:https://nukkekamari.fi/tapahtuma/nukkeja-nalleja-ja-tonttuja-110412-sataopisto-eura/
END:VEVENT
BEGIN:VEVENT
DTSTART;TZID=Europe/Helsinki:20250308T100000
DTEND;TZID=Europe/Helsinki:20250308T163000
DTSTAMP:20260425T150911
CREATED:20241214T124350Z
LAST-MODIFIED:20241214T124350Z
UID:3586-1741428000-1741451400@nukkekamari.fi
SUMMARY:Nukkeja\, nalleja ja tonttuja 110412\, Sataopisto\, Eura
DESCRIPTION:Ajankohta7.–15.3.2025\nPäivä ja kellonaikaPe  \n17:00–21:00 \nLa  \n10:00–16:30 \n\nIlmoittautuminen on avoinna\nIlmoittaudu viimeistään28.2.2025 0:00\nHintaluokatKurssimaksu 44\,00 €\n\nTule tutustumaan antiikkilelujen ihmeelliseen maailmaan ja tekemään itse ikioma nukke tai pehmolelu mohairkankaasta. Voit valmistaa perinteisin menetelmin Martta-nuken\, antiikkinallen\, tontun tai perinnepehmon (kissan\, kanin tai koiran) mohairkankaasta. Lisätietoa netissä. Nukkea valmistaessa opit hiomaan\, pohjustamaan ja maalaamaan nuken kasvot. Vartalo ommellaan kankaasta ja täytetään tiiviiksi sahanpurulla. Perinnepehmot ommellaan käsin mohairkankaasta. Pahvinivelet saavat lelut liikuttamaan kaikkia jäseniä ja käsin puhalletut lasisilmät saavat lelut elämään. Täytemateriaalina käytetään ekokuitua. Saat paljon tietoa lelujen historiasta. Nuken tai perinnepehmon voi valmistaa vaikkapa lahjaksi. Kurssilla ehtii valmistamaan vain toisen\, joko Martta-nuken tai perinnepehmolelun. Materiaalikustannus Martta-nukesta 23 e. Nukkepaketit alkaen 31 e. Perinnepehmolelut mohairkankaasta alkaen 35 e/hahmo. Opettajalta voi ostaa materiaalia. Opettaja lähettää kirjeen kurssista ennen kurssin alkua. Kurssipäivät:8.3.-9.3.sekä 22.-23.3. 2024. Pe klo 17.00-21.00\, la klo 10.00-16.30.\n\nLisätiedot \n\nVoit suorittaa kurssin opintopistekurssina eli noppakurssina. Perinnelelutyöpaja: nukkeja ja nalleja (1 op)
URL:https://nukkekamari.fi/tapahtuma/nukkeja-nalleja-ja-tonttuja-110412-sataopisto-eura-2/
END:VEVENT
BEGIN:VEVENT
DTSTART;TZID=Europe/Helsinki:20250310T161500
DTEND;TZID=Europe/Helsinki:20250310T191500
DTSTAMP:20260425T150911
CREATED:20241214T115359Z
LAST-MODIFIED:20241214T115416Z
UID:3535-1741623300-1741634100@nukkekamari.fi
SUMMARY:Perinnelelutyöpaja: nukkeja ja nalleja A 12340K
DESCRIPTION:Ajankohta20.1.–14.4.2025\n\nPäivä ja kellonaikaMa  \n16:15–19:15 \n\nIlmoittautuminen alkaa7.1.2025 18:30\nHintaluokatKurssimaksu 54\,00 €\n\nTule tutustumaan antiikkilelujen ihmeelliseen maailmaan ja tekemään itse ikioma nukke tai pehmolelu mohairkankaasta. Voit valmistaa perinteisin menetelmin Martta-nuken\, antiikkinallen\, tontun tai perinnepehmon (kissan\, kanin tai koiran) mohairkankaasta. Lisätietoa netissä.\n\nLisätiedot \n\n\nTutustu opiskelijoiden kokemuksiin opintopistekurssista: https://peda.net/id/6f64c4d8555 \n*** Nukkea valmistaessa opit hiomaan\, pohjustamaan ja maalaamaan nuken kasvot. Vartalo ommellaan kankaasta ja täytetään tiiviiksi sahanpurulla. Perinnepehmot ommellaan käsin mohairkankaasta. Pahvinivelet saavat lelut liikuttamaan kaikkia jäseniä ja käsin puhalletut lasisilmät saavat lelut elämään. Täytemateriaalina käytetään ekokuitua. Saat paljon tietoa lelujen historiasta. Nuken tai perinnepehmon voi valmistaa vaikkapa lahjaksi. Kurssilla ehtii valmistamaan vain toisen\, joko Martta-nuken tai perinnepehmolelun. Materiaalikustannus Martta-nukesta 23 e. Nukkepaketit alkaen 31 e. Perinnepehmolelut mohairkankaasta alkaen 35 e/hahmo. Opettajalta voi ostaa materiaalia. Opettaja lähettää kirjeen kurssista ennen kurssin alkua.
URL:https://nukkekamari.fi/tapahtuma/perinnelelutyopaja-nukkeja-ja-nalleja-a-12340k-4/
END:VEVENT
BEGIN:VEVENT
DTSTART;TZID=Europe/Helsinki:20250312T100000
DTEND;TZID=Europe/Helsinki:20250312T130000
DTSTAMP:20260425T150911
CREATED:20241214T121545Z
LAST-MODIFIED:20241214T121545Z
UID:3559-1741773600-1741784400@nukkekamari.fi
SUMMARY:Perinnelelutyöpaja: nukkeja ja nalleja B 12342K
DESCRIPTION:Ajankohta22.1.–16.4.2025\nPäivä ja kellonaikaKe  \n10:00–13:00 \n\nIlmoittautuminen alkaa7.1.2025 18:30\nHintaluokatKurssimaksu 54\,00 €\n\nule tutustumaan antiikkilelujen ihmeelliseen maailmaan ja tekemään itse ikioma nukke tai pehmolelu mohairkankaasta. Voit valmistaa perinteisin menetelmin Martta-nuken\, antiikkinallen\, tontun tai perinnepehmon (kissan\, kanin tai koiran) mohairkankaasta. Lisätietoa netissä.  \n\n\nLisätiedot \n\n\nTutustu opiskelijoiden kokemuksiin opintopistekurssista: https://peda.net/id/6f64c4d8555 \n*** Nukkea valmistaessa opit hiomaan\, pohjustamaan ja maalaamaan nuken kasvot. Vartalo ommellaan kankaasta ja täytetään tiiviiksi sahanpurulla. Perinnepehmot ommellaan käsin mohairkankaasta. Pahvinivelet saavat lelut liikuttamaan kaikkia jäseniä ja käsin puhalletut lasisilmät saavat lelut elämään. Täytemateriaalina käytetään ekokuitua. Saat paljon tietoa lelujen historiasta. Nuken tai perinnepehmon voi valmistaa vaikkapa lahjaksi. Kurssilla ehtii valmistamaan vain toisen\, joko Martta-nuken tai perinnepehmolelun. Materiaalikustannus Martta-nukesta 23 e. Nukkepaketit alkaen 31 e. Perinnepehmolelut mohairkankaasta alkaen 35 e/hahmo. Opettajalta voi ostaa materiaalia. Opettaja lähettää kirjeen kurssista ennen kurssin alkua.
URL:https://nukkekamari.fi/tapahtuma/perinnelelutyopaja-nukkeja-ja-nalleja-b-12342k-6/
END:VEVENT
BEGIN:VEVENT
DTSTART;TZID=Europe/Helsinki:20250314T170000
DTEND;TZID=Europe/Helsinki:20250314T210000
DTSTAMP:20260425T150911
CREATED:20241214T124459Z
LAST-MODIFIED:20241214T124459Z
UID:3588-1741971600-1741986000@nukkekamari.fi
SUMMARY:Nukkeja\, nalleja ja tonttuja 110412\, Sataopisto\, Eura
DESCRIPTION:Ajankohta7.–15.3.2025\nPäivä ja kellonaikaPe  \n17:00–21:00 \nLa  \n10:00–16:30 \n\nIlmoittautuminen on avoinna\nIlmoittaudu viimeistään28.2.2025 0:00\nHintaluokatKurssimaksu 44\,00 €\n\nTule tutustumaan antiikkilelujen ihmeelliseen maailmaan ja tekemään itse ikioma nukke tai pehmolelu mohairkankaasta. Voit valmistaa perinteisin menetelmin Martta-nuken\, antiikkinallen\, tontun tai perinnepehmon (kissan\, kanin tai koiran) mohairkankaasta. Lisätietoa netissä. Nukkea valmistaessa opit hiomaan\, pohjustamaan ja maalaamaan nuken kasvot. Vartalo ommellaan kankaasta ja täytetään tiiviiksi sahanpurulla. Perinnepehmot ommellaan käsin mohairkankaasta. Pahvinivelet saavat lelut liikuttamaan kaikkia jäseniä ja käsin puhalletut lasisilmät saavat lelut elämään. Täytemateriaalina käytetään ekokuitua. Saat paljon tietoa lelujen historiasta. Nuken tai perinnepehmon voi valmistaa vaikkapa lahjaksi. Kurssilla ehtii valmistamaan vain toisen\, joko Martta-nuken tai perinnepehmolelun. Materiaalikustannus Martta-nukesta 23 e. Nukkepaketit alkaen 31 e. Perinnepehmolelut mohairkankaasta alkaen 35 e/hahmo. Opettajalta voi ostaa materiaalia. Opettaja lähettää kirjeen kurssista ennen kurssin alkua. Kurssipäivät:8.3.-9.3.sekä 22.-23.3. 2024. Pe klo 17.00-21.00\, la klo 10.00-16.30.\n\nLisätiedot \n\nVoit suorittaa kurssin opintopistekurssina eli noppakurssina. Perinnelelutyöpaja: nukkeja ja nalleja (1 op)
URL:https://nukkekamari.fi/tapahtuma/nukkeja-nalleja-ja-tonttuja-110412-sataopisto-eura-3/
END:VEVENT
BEGIN:VEVENT
DTSTART;TZID=Europe/Helsinki:20250317T161500
DTEND;TZID=Europe/Helsinki:20250317T191500
DTSTAMP:20260425T150911
CREATED:20241214T115609Z
LAST-MODIFIED:20241214T115609Z
UID:3539-1742228100-1742238900@nukkekamari.fi
SUMMARY:Perinnelelutyöpaja: nukkeja ja nalleja A 12340K
DESCRIPTION:Ajankohta20.1.–14.4.2025\nPäivä ja kellonaikaMa  \n16:15–19:15 \n\nIlmoittautuminen alkaa7.1.2025 18:30\nHintaluokatKurssimaksu 54\,00 €\n\nTule tutustumaan antiikkilelujen ihmeelliseen maailmaan ja tekemään itse ikioma nukke tai pehmolelu mohairkankaasta. Voit valmistaa perinteisin menetelmin Martta-nuken\, antiikkinallen\, tontun tai perinnepehmon (kissan\, kanin tai koiran) mohairkankaasta. Lisätietoa netissä.\n\nLisätiedot \n\n\nTutustu opiskelijoiden kokemuksiin opintopistekurssista: https://peda.net/id/6f64c4d8555 \n*** Nukkea valmistaessa opit hiomaan\, pohjustamaan ja maalaamaan nuken kasvot. Vartalo ommellaan kankaasta ja täytetään tiiviiksi sahanpurulla. Perinnepehmot ommellaan käsin mohairkankaasta. Pahvinivelet saavat lelut liikuttamaan kaikkia jäseniä ja käsin puhalletut lasisilmät saavat lelut elämään. Täytemateriaalina käytetään ekokuitua. Saat paljon tietoa lelujen historiasta. Nuken tai perinnepehmon voi valmistaa vaikkapa lahjaksi. Kurssilla ehtii valmistamaan vain toisen\, joko Martta-nuken tai perinnepehmolelun. Materiaalikustannus Martta-nukesta 23 e. Nukkepaketit alkaen 31 e. Perinnepehmolelut mohairkankaasta alkaen 35 e/hahmo. Opettajalta voi ostaa materiaalia. Opettaja lähettää kirjeen kurssista ennen kurssin alkua.
URL:https://nukkekamari.fi/tapahtuma/perinnelelutyopaja-nukkeja-ja-nalleja-a-12340k-5/
END:VEVENT
BEGIN:VEVENT
DTSTART;TZID=Europe/Helsinki:20250319T100000
DTEND;TZID=Europe/Helsinki:20250319T130000
DTSTAMP:20260425T150911
CREATED:20241214T121653Z
LAST-MODIFIED:20241214T121653Z
UID:3561-1742378400-1742389200@nukkekamari.fi
SUMMARY:Perinnelelutyöpaja: nukkeja ja nalleja B 12342K
DESCRIPTION:Ajankohta22.1.–16.4.2025\nPäivä ja kellonaikaKe  \n10:00–13:00 \n\nIlmoittautuminen alkaa7.1.2025 18:30\nHintaluokatKurssimaksu 54\,00 €\n\nTule tutustumaan antiikkilelujen ihmeelliseen maailmaan ja tekemään itse ikioma nukke tai pehmolelu mohairkankaasta. Voit valmistaa perinteisin menetelmin Martta-nuken\, antiikkinallen\, tontun tai perinnepehmon (kissan\, kanin tai koiran) mohairkankaasta. Lisätietoa netissä.  \n\n\nLisätiedot \n\n\nTutustu opiskelijoiden kokemuksiin opintopistekurssista: https://peda.net/id/6f64c4d8555 \n*** Nukkea valmistaessa opit hiomaan\, pohjustamaan ja maalaamaan nuken kasvot. Vartalo ommellaan kankaasta ja täytetään tiiviiksi sahanpurulla. Perinnepehmot ommellaan käsin mohairkankaasta. Pahvinivelet saavat lelut liikuttamaan kaikkia jäseniä ja käsin puhalletut lasisilmät saavat lelut elämään. Täytemateriaalina käytetään ekokuitua. Saat paljon tietoa lelujen historiasta. Nuken tai perinnepehmon voi valmistaa vaikkapa lahjaksi. Kurssilla ehtii valmistamaan vain toisen\, joko Martta-nuken tai perinnepehmolelun. Materiaalikustannus Martta-nukesta 23 e. Nukkepaketit alkaen 31 e. Perinnepehmolelut mohairkankaasta alkaen 35 e/hahmo. Opettajalta voi ostaa materiaalia. Opettaja lähettää kirjeen kurssista ennen kurssin alkua. \n\n\n 
URL:https://nukkekamari.fi/tapahtuma/perinnelelutyopaja-nukkeja-ja-nalleja-b-12342k-7/
END:VEVENT
BEGIN:VEVENT
DTSTART;TZID=Europe/Helsinki:20250324T161500
DTEND;TZID=Europe/Helsinki:20250324T191500
DTSTAMP:20260425T150911
CREATED:20241214T115734Z
LAST-MODIFIED:20241214T115734Z
UID:3541-1742832900-1742843700@nukkekamari.fi
SUMMARY:Perinnelelutyöpaja: nukkeja ja nalleja A 12340K
DESCRIPTION:Ajankohta20.1.–14.4.2025\nPäivä ja kellonaikaMa  \n16:15–19:15 \n\nIlmoittautuminen alkaa7.1.2025 18:30\nHintaluokatKurssimaksu 54\,00 €\n\nTule tutustumaan antiikkilelujen ihmeelliseen maailmaan ja tekemään itse ikioma nukke tai pehmolelu mohairkankaasta. Voit valmistaa perinteisin menetelmin Martta-nuken\, antiikkinallen\, tontun tai perinnepehmon (kissan\, kanin tai koiran) mohairkankaasta. Lisätietoa netissä.\n\nLisätiedot \n\n\nTutustu opiskelijoiden kokemuksiin opintopistekurssista: https://peda.net/id/6f64c4d8555 \n*** Nukkea valmistaessa opit hiomaan\, pohjustamaan ja maalaamaan nuken kasvot. Vartalo ommellaan kankaasta ja täytetään tiiviiksi sahanpurulla. Perinnepehmot ommellaan käsin mohairkankaasta. Pahvinivelet saavat lelut liikuttamaan kaikkia jäseniä ja käsin puhalletut lasisilmät saavat lelut elämään. Täytemateriaalina käytetään ekokuitua. Saat paljon tietoa lelujen historiasta. Nuken tai perinnepehmon voi valmistaa vaikkapa lahjaksi. Kurssilla ehtii valmistamaan vain toisen\, joko Martta-nuken tai perinnepehmolelun. Materiaalikustannus Martta-nukesta 23 e. Nukkepaketit alkaen 31 e. Perinnepehmolelut mohairkankaasta alkaen 35 e/hahmo. Opettajalta voi ostaa materiaalia. Opettaja lähettää kirjeen kurssista ennen kurssin alkua.
URL:https://nukkekamari.fi/tapahtuma/perinnelelutyopaja-nukkeja-ja-nalleja-a-12340k-6/
END:VEVENT
BEGIN:VEVENT
DTSTART;TZID=Europe/Helsinki:20250326T100000
DTEND;TZID=Europe/Helsinki:20250326T130000
DTSTAMP:20260425T150911
CREATED:20241214T121753Z
LAST-MODIFIED:20241214T121753Z
UID:3563-1742983200-1742994000@nukkekamari.fi
SUMMARY:Perinnelelutyöpaja: nukkeja ja nalleja B 12342K
DESCRIPTION:Tule tutustumaan antiikkilelujen ihmeelliseen maailmaan ja tekemään itse ikioma nukke tai pehmolelu mohairkankaasta. Voit valmistaa perinteisin menetelmin Martta-nuken\, antiikkinallen\, tontun tai perinnepehmon (kissan\, kanin tai koiran) mohairkankaasta. Lisätietoa netissä.  \n\n\nLisätiedot \n\n\nTutustu opiskelijoiden kokemuksiin opintopistekurssista: https://peda.net/id/6f64c4d8555 \n*** Nukkea valmistaessa opit hiomaan\, pohjustamaan ja maalaamaan nuken kasvot. Vartalo ommellaan kankaasta ja täytetään tiiviiksi sahanpurulla. Perinnepehmot ommellaan käsin mohairkankaasta. Pahvinivelet saavat lelut liikuttamaan kaikkia jäseniä ja käsin puhalletut lasisilmät saavat lelut elämään. Täytemateriaalina käytetään ekokuitua. Saat paljon tietoa lelujen historiasta. Nuken tai perinnepehmon voi valmistaa vaikkapa lahjaksi. Kurssilla ehtii valmistamaan vain toisen\, joko Martta-nuken tai perinnepehmolelun. Materiaalikustannus Martta-nukesta 23 e. Nukkepaketit alkaen 31 e. Perinnepehmolelut mohairkankaasta alkaen 35 e/hahmo. Opettajalta voi ostaa materiaalia. Opettaja lähettää kirjeen kurssista ennen kurssin alkua. \n 
URL:https://nukkekamari.fi/tapahtuma/perinnelelutyopaja-nukkeja-ja-nalleja-b-12342k-8/
END:VEVENT
BEGIN:VEVENT
DTSTART;TZID=Europe/Helsinki:20250331T161500
DTEND;TZID=Europe/Helsinki:20250331T191500
DTSTAMP:20260425T150911
CREATED:20241214T115851Z
LAST-MODIFIED:20241214T115851Z
UID:3543-1743437700-1743448500@nukkekamari.fi
SUMMARY:Perinnelelutyöpaja: nukkeja ja nalleja A 12340K
DESCRIPTION:Ajankohta20.1.–14.4.2025\nPäivä ja kellonaikaMa  \n16:15–19:15 \n\nIlmoittautuminen alkaa7.1.2025 18:30\nHintaluokatKurssimaksu 54\,00 €\n\nTule tutustumaan antiikkilelujen ihmeelliseen maailmaan ja tekemään itse ikioma nukke tai pehmolelu mohairkankaasta. Voit valmistaa perinteisin menetelmin Martta-nuken\, antiikkinallen\, tontun tai perinnepehmon (kissan\, kanin tai koiran) mohairkankaasta. Lisätietoa netissä.\n\nLisätiedot \n\n\nTutustu opiskelijoiden kokemuksiin opintopistekurssista: https://peda.net/id/6f64c4d8555 \n*** Nukkea valmistaessa opit hiomaan\, pohjustamaan ja maalaamaan nuken kasvot. Vartalo ommellaan kankaasta ja täytetään tiiviiksi sahanpurulla. Perinnepehmot ommellaan käsin mohairkankaasta. Pahvinivelet saavat lelut liikuttamaan kaikkia jäseniä ja käsin puhalletut lasisilmät saavat lelut elämään. Täytemateriaalina käytetään ekokuitua. Saat paljon tietoa lelujen historiasta. Nuken tai perinnepehmon voi valmistaa vaikkapa lahjaksi. Kurssilla ehtii valmistamaan vain toisen\, joko Martta-nuken tai perinnepehmolelun. Materiaalikustannus Martta-nukesta 23 e. Nukkepaketit alkaen 31 e. Perinnepehmolelut mohairkankaasta alkaen 35 e/hahmo. Opettajalta voi ostaa materiaalia. Opettaja lähettää kirjeen kurssista ennen kurssin alkua.
URL:https://nukkekamari.fi/tapahtuma/perinnelelutyopaja-nukkeja-ja-nalleja-a-12340k-7/
END:VEVENT
END:VCALENDAR