BEGIN:VCALENDAR
VERSION:2.0
PRODID:-//Nukkekamari - ECPv6.15.20//NONSGML v1.0//EN
CALSCALE:GREGORIAN
METHOD:PUBLISH
X-WR-CALNAME:Nukkekamari
X-ORIGINAL-URL:https://nukkekamari.fi
X-WR-CALDESC:Tapahtumat Nukkekamari
REFRESH-INTERVAL;VALUE=DURATION:PT1H
X-Robots-Tag:noindex
X-PUBLISHED-TTL:PT1H
BEGIN:VTIMEZONE
TZID:Europe/Helsinki
BEGIN:DAYLIGHT
TZOFFSETFROM:+0200
TZOFFSETTO:+0300
TZNAME:EEST
DTSTART:20240331T010000
END:DAYLIGHT
BEGIN:STANDARD
TZOFFSETFROM:+0300
TZOFFSETTO:+0200
TZNAME:EET
DTSTART:20241027T010000
END:STANDARD
BEGIN:DAYLIGHT
TZOFFSETFROM:+0200
TZOFFSETTO:+0300
TZNAME:EEST
DTSTART:20250330T010000
END:DAYLIGHT
BEGIN:STANDARD
TZOFFSETFROM:+0300
TZOFFSETTO:+0200
TZNAME:EET
DTSTART:20251026T010000
END:STANDARD
BEGIN:DAYLIGHT
TZOFFSETFROM:+0200
TZOFFSETTO:+0300
TZNAME:EEST
DTSTART:20260329T010000
END:DAYLIGHT
BEGIN:STANDARD
TZOFFSETFROM:+0300
TZOFFSETTO:+0200
TZNAME:EET
DTSTART:20261025T010000
END:STANDARD
END:VTIMEZONE
BEGIN:VEVENT
DTSTART;TZID=Europe/Helsinki:20250201T100000
DTEND;TZID=Europe/Helsinki:20250201T163000
DTSTAMP:20260425T133811
CREATED:20241214T123440Z
LAST-MODIFIED:20241214T123440Z
UID:3577-1738404000-1738427400@nukkekamari.fi
SUMMARY:Perinnelelutyöpaja: Nukkeja ja nalleja (1 op) 1111K01K\, Kiikoinen\, Sastamala
DESCRIPTION:Ajankohta31.1.–15.2.2025\nPäivä ja kellonaikaPe  \n17:00–20:45 \nLa  \n10:00–16:30 \n\nIlmoittautuminen on avoinna\nIlmoittaudu viimeistään24.1.2025 23:59\nHintaluokatKurssimaksu 42\,00 €\n\nTule tutustumaan antiikkilelujen ihmeelliseen maailmaan ja tekemään itse ikioma nukke tai pehmolelu mohairkankaasta. Voit valmistaa perinteisin menetelmin Martta-nuken\, antiikkinallen\, tontun tai perinnepehmon (kissan\, kanin tai koiran) mohairkankaasta. Kokoontuu myös la 1.2. ja pe 14.2. 2025.\n\n\nOpetuksen tavoitteet \n\nKurssilla opitaan valmistamaan antiikkinalle tai -nukke. Nukkea valmistaessasi opit hiomaan\, pohjustamaan\, ja maalaamaan tasaisen väripohjan nuken päähän ja käsiin. Opit maalaamaan nukelle kasvot ja hiukset. Opit ompelemaan vartalon kankaasta ja täyttämään muotoillen sen tiiviiksi sahanpurulla. Perinteistä antiikkinallea valmistaessa opitaan käsittelemään ja tulkitsemaan kaavoja. Opit ompelemaan nallen osat käsin mohairkankaasta\, lisäämään pahvinivelet ja käsin puhalletut lasisilmät. Opit täyttämään nallen muotoillen puukuidulla. Kurssilla opitaan lelujen ja myös Martta-nukkien historiasta.
URL:https://nukkekamari.fi/tapahtuma/perinnelelutyopaja-nukkeja-ja-nalleja-1-op-1111k01k-kiikoinen-sastamala/
END:VEVENT
BEGIN:VEVENT
DTSTART;TZID=Europe/Helsinki:20250203T161500
DTEND;TZID=Europe/Helsinki:20250203T191500
DTSTAMP:20260425T133811
CREATED:20241214T113424Z
LAST-MODIFIED:20241214T113424Z
UID:3528-1738599300-1738610100@nukkekamari.fi
SUMMARY:Perinnelelutyöpaja: nukkeja ja nalleja A 12340K
DESCRIPTION:Ajankohta20.1.–14.4.2025\nPäivä ja kellonaikaMa  \n16:15–19:15 \n\nIlmoittautuminen alkaa7.1.2025 18:30\nHintaluokatKurssimaksu 54\,00 €\n\nTule tutustumaan antiikkilelujen ihmeelliseen maailmaan ja tekemään itse ikioma nukke tai pehmolelu mohairkankaasta. Voit valmistaa perinteisin menetelmin Martta-nuken\, antiikkinallen\, tontun tai perinnepehmon (kissan\, kanin tai koiran) mohairkankaasta. Lisätietoa netissä.\n\nLisätiedot \n\n\nTutustu opiskelijoiden kokemuksiin opintopistekurssista: https://peda.net/id/6f64c4d8555 \n*** Nukkea valmistaessa opit hiomaan\, pohjustamaan ja maalaamaan nuken kasvot. Vartalo ommellaan kankaasta ja täytetään tiiviiksi sahanpurulla. Perinnepehmot ommellaan käsin mohairkankaasta. Pahvinivelet saavat lelut liikuttamaan kaikkia jäseniä ja käsin puhalletut lasisilmät saavat lelut elämään. Täytemateriaalina käytetään ekokuitua. Saat paljon tietoa lelujen historiasta. Nuken tai perinnepehmon voi valmistaa vaikkapa lahjaksi. Kurssilla ehtii valmistamaan vain toisen\, joko Martta-nuken tai perinnepehmolelun. Materiaalikustannus Martta-nukesta 23 e. Nukkepaketit alkaen 31 e. Perinnepehmolelut mohairkankaasta alkaen 35 e/hahmo. Opettajalta voi ostaa materiaalia. Opettaja lähettää kirjeen kurssista ennen kurssin alkua.
URL:https://nukkekamari.fi/tapahtuma/perinnelelutyopaja-nukkeja-ja-nalleja-a-12340k/
END:VEVENT
BEGIN:VEVENT
DTSTART;TZID=Europe/Helsinki:20250205T100000
DTEND;TZID=Europe/Helsinki:20250205T130000
DTSTAMP:20260425T133811
CREATED:20241214T120947Z
LAST-MODIFIED:20241214T120947Z
UID:3551-1738749600-1738760400@nukkekamari.fi
SUMMARY:Perinnelelutyöpaja: nukkeja ja nalleja B 12342K
DESCRIPTION:22.1.–16.4.2025\nPäivä ja kellonaikaKe  \n10:00–13:00 \n\nIlmoittautuminen alkaa7.1.2025 18:30\nHintaluokatKurssimaksu 54\,00 €\n\nTule tutustumaan antiikkilelujen ihmeelliseen maailmaan ja tekemään itse ikioma nukke tai pehmolelu mohairkankaasta. Voit valmistaa perinteisin menetelmin Martta-nuken\, antiikkinallen\, tontun tai perinnepehmon (kissan\, kanin tai koiran) mohairkankaasta. Lisätietoa netissä.  \n\n\nLisätiedot \n\n\nTutustu opiskelijoiden kokemuksiin opintopistekurssista: https://peda.net/id/6f64c4d8555 \n*** Nukkea valmistaessa opit hiomaan\, pohjustamaan ja maalaamaan nuken kasvot. Vartalo ommellaan kankaasta ja täytetään tiiviiksi sahanpurulla. Perinnepehmot ommellaan käsin mohairkankaasta. Pahvinivelet saavat lelut liikuttamaan kaikkia jäseniä ja käsin puhalletut lasisilmät saavat lelut elämään. Täytemateriaalina käytetään ekokuitua. Saat paljon tietoa lelujen historiasta. Nuken tai perinnepehmon voi valmistaa vaikkapa lahjaksi. Kurssilla ehtii valmistamaan vain toisen\, joko Martta-nuken tai perinnepehmolelun. Materiaalikustannus Martta-nukesta 23 e. Nukkepaketit alkaen 31 e. Perinnepehmolelut mohairkankaasta alkaen 35 e/hahmo. Opettajalta voi ostaa materiaalia. Opettaja lähettää kirjeen kurssista ennen kurssin alkua.
URL:https://nukkekamari.fi/tapahtuma/perinnelelutyopaja-nukkeja-ja-nalleja-b-12342k-2/
END:VEVENT
BEGIN:VEVENT
DTSTART;TZID=Europe/Helsinki:20250210T161500
DTEND;TZID=Europe/Helsinki:20250210T191500
DTSTAMP:20260425T133811
CREATED:20241214T113845Z
LAST-MODIFIED:20241214T113845Z
UID:3530-1739204100-1739214900@nukkekamari.fi
SUMMARY:Perinnelelutyöpaja: nukkeja ja nalleja A 12340K
DESCRIPTION:Ajankohta20.1.–14.4.2025\nPäivä ja kellonaikaMa  \n16:15–19:15 \n\nIlmoittautuminen alkaa7.1.2025 18:30\nHintaluokatKurssimaksu 54\,00 €\n\nTule tutustumaan antiikkilelujen ihmeelliseen maailmaan ja tekemään itse ikioma nukke tai pehmolelu mohairkankaasta. Voit valmistaa perinteisin menetelmin Martta-nuken\, antiikkinallen\, tontun tai perinnepehmon (kissan\, kanin tai koiran) mohairkankaasta. Lisätietoa netissä.\n\nLisätiedot \n\n\nTutustu opiskelijoiden kokemuksiin opintopistekurssista: https://peda.net/id/6f64c4d8555 \n*** Nukkea valmistaessa opit hiomaan\, pohjustamaan ja maalaamaan nuken kasvot. Vartalo ommellaan kankaasta ja täytetään tiiviiksi sahanpurulla. Perinnepehmot ommellaan käsin mohairkankaasta. Pahvinivelet saavat lelut liikuttamaan kaikkia jäseniä ja käsin puhalletut lasisilmät saavat lelut elämään. Täytemateriaalina käytetään ekokuitua. Saat paljon tietoa lelujen historiasta. Nuken tai perinnepehmon voi valmistaa vaikkapa lahjaksi. Kurssilla ehtii valmistamaan vain toisen\, joko Martta-nuken tai perinnepehmolelun. Materiaalikustannus Martta-nukesta 23 e. Nukkepaketit alkaen 31 e. Perinnepehmolelut mohairkankaasta alkaen 35 e/hahmo. Opettajalta voi ostaa materiaalia. Opettaja lähettää kirjeen kurssista ennen kurssin alkua.
URL:https://nukkekamari.fi/tapahtuma/perinnelelutyopaja-nukkeja-ja-nalleja-a-12340k-2/
END:VEVENT
BEGIN:VEVENT
DTSTART;TZID=Europe/Helsinki:20250212T100000
DTEND;TZID=Europe/Helsinki:20250212T130000
DTSTAMP:20260425T133811
CREATED:20241214T121110Z
LAST-MODIFIED:20241214T121110Z
UID:3553-1739354400-1739365200@nukkekamari.fi
SUMMARY:Perinnelelutyöpaja: nukkeja ja nalleja B 12342K
DESCRIPTION:Ajankohta22.1.–16.4.2025\nPäivä ja kellonaikaKe  \n10:00–13:00 \n\nIlmoittautuminen alkaa7.1.2025 18:30\nHintaluokatKurssimaksu 54\,00 €\n\nTule tutustumaan antiikkilelujen ihmeelliseen maailmaan ja tekemään itse ikioma nukke tai pehmolelu mohairkankaasta. Voit valmistaa perinteisin menetelmin Martta-nuken\, antiikkinallen\, tontun tai perinnepehmon (kissan\, kanin tai koiran) mohairkankaasta. Lisätietoa netissä.  \n\n\nLisätiedot \n\n\nTutustu opiskelijoiden kokemuksiin opintopistekurssista: https://peda.net/id/6f64c4d8555 \n*** Nukkea valmistaessa opit hiomaan\, pohjustamaan ja maalaamaan nuken kasvot. Vartalo ommellaan kankaasta ja täytetään tiiviiksi sahanpurulla. Perinnepehmot ommellaan käsin mohairkankaasta. Pahvinivelet saavat lelut liikuttamaan kaikkia jäseniä ja käsin puhalletut lasisilmät saavat lelut elämään. Täytemateriaalina käytetään ekokuitua. Saat paljon tietoa lelujen historiasta. Nuken tai perinnepehmon voi valmistaa vaikkapa lahjaksi. Kurssilla ehtii valmistamaan vain toisen\, joko Martta-nuken tai perinnepehmolelun. Materiaalikustannus Martta-nukesta 23 e. Nukkepaketit alkaen 31 e. Perinnepehmolelut mohairkankaasta alkaen 35 e/hahmo. Opettajalta voi ostaa materiaalia. Opettaja lähettää kirjeen kurssista ennen kurssin alkua. \n 
URL:https://nukkekamari.fi/tapahtuma/perinnelelutyopaja-nukkeja-ja-nalleja-b-12342k-3/
END:VEVENT
BEGIN:VEVENT
DTSTART;TZID=Europe/Helsinki:20250214T170000
DTEND;TZID=Europe/Helsinki:20250214T204500
DTSTAMP:20260425T133811
CREATED:20241214T123618Z
LAST-MODIFIED:20241214T123618Z
UID:3579-1739552400-1739565900@nukkekamari.fi
SUMMARY:Perinnelelutyöpaja: Nukkeja ja nalleja (1 op) 1111K01K\, Kiikoinen\, Sastamalan opisto
DESCRIPTION:Ajankohta31.1.–15.2.2025\nPäivä ja kellonaikaPe  \n17:00–20:45 \nLa  \n10:00–16:30 \n\nIlmoittautuminen on avoinna\nIlmoittaudu viimeistään24.1.2025 23:59\nHintaluokatKurssimaksu 42\,00 €\n\nTule tutustumaan antiikkilelujen ihmeelliseen maailmaan ja tekemään itse ikioma nukke tai pehmolelu mohairkankaasta. Voit valmistaa perinteisin menetelmin Martta-nuken\, antiikkinallen\, tontun tai perinnepehmon (kissan\, kanin tai koiran) mohairkankaasta. Kokoontuu myös la 1.2. ja pe 14.2. 2025.\n\n\nOpetuksen tavoitteet \n\nKurssilla opitaan valmistamaan antiikkinalle tai -nukke. Nukkea valmistaessasi opit hiomaan\, pohjustamaan\, ja maalaamaan tasaisen väripohjan nuken päähän ja käsiin. Opit maalaamaan nukelle kasvot ja hiukset. Opit ompelemaan vartalon kankaasta ja täyttämään muotoillen sen tiiviiksi sahanpurulla. Perinteistä antiikkinallea valmistaessa opitaan käsittelemään ja tulkitsemaan kaavoja. Opit ompelemaan nallen osat käsin mohairkankaasta\, lisäämään pahvinivelet ja käsin puhalletut lasisilmät. Opit täyttämään nallen muotoillen puukuidulla. Kurssilla opitaan lelujen ja myös Martta-nukkien historiasta.\n\nArviointi \n\nKurssi arvioidaan hyväksytty/hylätty. Hyväksytyssä suorituksessa kurssilainen valmistaa joko antiikkinallen tai -nuken kurssin tavoitteiden mukaisesti.
URL:https://nukkekamari.fi/tapahtuma/perinnelelutyopaja-nukkeja-ja-nalleja-1-op-1111k01k-kiikoinen-sastamalan-opisto/
END:VEVENT
BEGIN:VEVENT
DTSTART;TZID=Europe/Helsinki:20250215T100000
DTEND;TZID=Europe/Helsinki:20250215T163000
DTSTAMP:20260425T133811
CREATED:20241214T123738Z
LAST-MODIFIED:20241214T123738Z
UID:3581-1739613600-1739637000@nukkekamari.fi
SUMMARY:Perinnelelutyöpaja: Nukkeja ja nalleja (1 op) 1111K01K\, Kiikoinen\, Sastamalan opisto
DESCRIPTION:Ajankohta31.1.–15.2.2025\nPäivä ja kellonaikaPe  \n17:00–20:45 \nLa  \n10:00–16:30 \n\nIlmoittautuminen on avoinna\nIlmoittaudu viimeistään24.1.2025 23:59\nHintaluokatKurssimaksu 42\,00 €\n\nTule tutustumaan antiikkilelujen ihmeelliseen maailmaan ja tekemään itse ikioma nukke tai pehmolelu mohairkankaasta. Voit valmistaa perinteisin menetelmin Martta-nuken\, antiikkinallen\, tontun tai perinnepehmon (kissan\, kanin tai koiran) mohairkankaasta. Kokoontuu myös la 1.2. ja pe 14.2. 2025.\n\n\nOpetuksen tavoitteet \n\nKurssilla opitaan valmistamaan antiikkinalle tai -nukke. Nukkea valmistaessasi opit hiomaan\, pohjustamaan\, ja maalaamaan tasaisen väripohjan nuken päähän ja käsiin. Opit maalaamaan nukelle kasvot ja hiukset. Opit ompelemaan vartalon kankaasta ja täyttämään muotoillen sen tiiviiksi sahanpurulla. Perinteistä antiikkinallea valmistaessa opitaan käsittelemään ja tulkitsemaan kaavoja. Opit ompelemaan nallen osat käsin mohairkankaasta\, lisäämään pahvinivelet ja käsin puhalletut lasisilmät. Opit täyttämään nallen muotoillen puukuidulla. Kurssilla opitaan lelujen ja myös Martta-nukkien historiasta.\n\nArviointi \n\nKurssi arvioidaan hyväksytty/hylätty. Hyväksytyssä suorituksessa kurssilainen valmistaa joko antiikkinallen tai -nuken kurssin tavoitteiden mukaisesti.
URL:https://nukkekamari.fi/tapahtuma/perinnelelutyopaja-nukkeja-ja-nalleja-1-op-1111k01k-kiikoinen-sastamalan-opisto-2/
END:VEVENT
BEGIN:VEVENT
DTSTART;TZID=Europe/Helsinki:20250224T161500
DTEND;TZID=Europe/Helsinki:20250224T191500
DTSTAMP:20260425T133811
CREATED:20241214T122452Z
LAST-MODIFIED:20241214T122452Z
UID:3573-1740413700-1740424500@nukkekamari.fi
SUMMARY:Perinnelelutyöpaja: nukkeja ja nalleja A 12340K
DESCRIPTION:Ajankohta20.1.–14.4.2025\nPäivä ja kellonaikaMa  \n16:15–19:15 \n\nIlmoittautuminen alkaa7.1.2025 18:30\nHintaluokatKurssimaksu 54\,00 €\n\nTule tutustumaan antiikkilelujen ihmeelliseen maailmaan ja tekemään itse ikioma nukke tai pehmolelu mohairkankaasta. Voit valmistaa perinteisin menetelmin Martta-nuken\, antiikkinallen\, tontun tai perinnepehmon (kissan\, kanin tai koiran) mohairkankaasta. Lisätietoa netissä.\n\nLisätiedot \n\n\nTutustu opiskelijoiden kokemuksiin opintopistekurssista: https://peda.net/id/6f64c4d8555 \n*** Nukkea valmistaessa opit hiomaan\, pohjustamaan ja maalaamaan nuken kasvot. Vartalo ommellaan kankaasta ja täytetään tiiviiksi sahanpurulla. Perinnepehmot ommellaan käsin mohairkankaasta. Pahvinivelet saavat lelut liikuttamaan kaikkia jäseniä ja käsin puhalletut lasisilmät saavat lelut elämään. Täytemateriaalina käytetään ekokuitua. Saat paljon tietoa lelujen historiasta. Nuken tai perinnepehmon voi valmistaa vaikkapa lahjaksi. Kurssilla ehtii valmistamaan vain toisen\, joko Martta-nuken tai perinnepehmolelun. Materiaalikustannus Martta-nukesta 23 e. Nukkepaketit alkaen 31 e. Perinnepehmolelut mohairkankaasta alkaen 35 e/hahmo. Opettajalta voi ostaa materiaalia. Opettaja lähettää kirjeen kurssista ennen kurssin alkua. \n 
URL:https://nukkekamari.fi/tapahtuma/perinnelelutyopaja-nukkeja-ja-nalleja-a-12340k-10/
END:VEVENT
BEGIN:VEVENT
DTSTART;TZID=Europe/Helsinki:20250226T100000
DTEND;TZID=Europe/Helsinki:20250226T130000
DTSTAMP:20260425T133811
CREATED:20241214T121242Z
LAST-MODIFIED:20241214T121242Z
UID:3555-1740564000-1740574800@nukkekamari.fi
SUMMARY:Perinnelelutyöpaja: nukkeja ja nalleja B 12342K
DESCRIPTION:Ajankohta22.1.–16.4.2025\nPäivä ja kellonaikaKe  \n10:00–13:00 \n\nIlmoittautuminen alkaa7.1.2025 18:30\nHintaluokatKurssimaksu 54\,00 €\n\nTule tutustumaan antiikkilelujen ihmeelliseen maailmaan ja tekemään itse ikioma nukke tai pehmolelu mohairkankaasta. Voit valmistaa perinteisin menetelmin Martta-nuken\, antiikkinallen\, tontun tai perinnepehmon (kissan\, kanin tai koiran) mohairkankaasta. Lisätietoa netissä.  \n\n\nLisätiedot \n\n\nTutustu opiskelijoiden kokemuksiin opintopistekurssista: https://peda.net/id/6f64c4d8555 \n*** Nukkea valmistaessa opit hiomaan\, pohjustamaan ja maalaamaan nuken kasvot. Vartalo ommellaan kankaasta ja täytetään tiiviiksi sahanpurulla. Perinnepehmot ommellaan käsin mohairkankaasta. Pahvinivelet saavat lelut liikuttamaan kaikkia jäseniä ja käsin puhalletut lasisilmät saavat lelut elämään. Täytemateriaalina käytetään ekokuitua. Saat paljon tietoa lelujen historiasta. Nuken tai perinnepehmon voi valmistaa vaikkapa lahjaksi. Kurssilla ehtii valmistamaan vain toisen\, joko Martta-nuken tai perinnepehmolelun. Materiaalikustannus Martta-nukesta 23 e. Nukkepaketit alkaen 31 e. Perinnepehmolelut mohairkankaasta alkaen 35 e/hahmo. Opettajalta voi ostaa materiaalia. Opettaja lähettää kirjeen kurssista ennen kurssin alkua.
URL:https://nukkekamari.fi/tapahtuma/perinnelelutyopaja-nukkeja-ja-nalleja-b-12342k-4/
END:VEVENT
END:VCALENDAR