BEGIN:VCALENDAR
VERSION:2.0
PRODID:-//Nukkekamari - ECPv6.15.20//NONSGML v1.0//EN
CALSCALE:GREGORIAN
METHOD:PUBLISH
X-ORIGINAL-URL:https://nukkekamari.fi
X-WR-CALDESC:Tapahtumat Nukkekamari
REFRESH-INTERVAL;VALUE=DURATION:PT1H
X-Robots-Tag:noindex
X-PUBLISHED-TTL:PT1H
BEGIN:VTIMEZONE
TZID:Europe/Helsinki
BEGIN:DAYLIGHT
TZOFFSETFROM:+0200
TZOFFSETTO:+0300
TZNAME:EEST
DTSTART:20230326T010000
END:DAYLIGHT
BEGIN:STANDARD
TZOFFSETFROM:+0300
TZOFFSETTO:+0200
TZNAME:EET
DTSTART:20231029T010000
END:STANDARD
BEGIN:DAYLIGHT
TZOFFSETFROM:+0200
TZOFFSETTO:+0300
TZNAME:EEST
DTSTART:20240331T010000
END:DAYLIGHT
BEGIN:STANDARD
TZOFFSETFROM:+0300
TZOFFSETTO:+0200
TZNAME:EET
DTSTART:20241027T010000
END:STANDARD
BEGIN:DAYLIGHT
TZOFFSETFROM:+0200
TZOFFSETTO:+0300
TZNAME:EEST
DTSTART:20250330T010000
END:DAYLIGHT
BEGIN:STANDARD
TZOFFSETFROM:+0300
TZOFFSETTO:+0200
TZNAME:EET
DTSTART:20251026T010000
END:STANDARD
END:VTIMEZONE
BEGIN:VEVENT
DTSTART;TZID=Europe/Helsinki:20240613T100000
DTEND;TZID=Europe/Helsinki:20240613T190000
DTSTAMP:20260425T000332
CREATED:20240527T102752Z
LAST-MODIFIED:20240527T102752Z
UID:3390-1718272800-1718305200@nukkekamari.fi
SUMMARY:Nukke- ja Nalletapahtuma 13.6.2024 klo 10-19
DESCRIPTION:Nukke- ja Nalletapahtuma 13.6.2024 klo 10-19\n\n\n\nMyytävänä: uusia mohair-kankaita\, nuken kenkiä\, sukkia\, peruukkeja\, vanhoja nukkeja ym. \nTarjouksia\, arvontaa\, ”Nukkemuseo” avoinna. Ota mukaan oma nukkesi tai nallesi tunnistettavaksi tai arvioitavaksi terveystarkastukseen. Ota kaveri mukaan-. Tervetuloa!
URL:https://nukkekamari.fi/tapahtuma/nukke-ja-nalletapahtuma-13-6-2024-klo-10-19/
END:VEVENT
END:VCALENDAR