BEGIN:VCALENDAR
VERSION:2.0
PRODID:-//Nukkekamari - ECPv6.15.20//NONSGML v1.0//EN
CALSCALE:GREGORIAN
METHOD:PUBLISH
X-WR-CALNAME:Nukkekamari
X-ORIGINAL-URL:https://nukkekamari.fi
X-WR-CALDESC:Tapahtumat Nukkekamari
REFRESH-INTERVAL;VALUE=DURATION:PT1H
X-Robots-Tag:noindex
X-PUBLISHED-TTL:PT1H
BEGIN:VTIMEZONE
TZID:Europe/Helsinki
BEGIN:DAYLIGHT
TZOFFSETFROM:+0200
TZOFFSETTO:+0300
TZNAME:EEST
DTSTART:20230326T010000
END:DAYLIGHT
BEGIN:STANDARD
TZOFFSETFROM:+0300
TZOFFSETTO:+0200
TZNAME:EET
DTSTART:20231029T010000
END:STANDARD
BEGIN:DAYLIGHT
TZOFFSETFROM:+0200
TZOFFSETTO:+0300
TZNAME:EEST
DTSTART:20240331T010000
END:DAYLIGHT
BEGIN:STANDARD
TZOFFSETFROM:+0300
TZOFFSETTO:+0200
TZNAME:EET
DTSTART:20241027T010000
END:STANDARD
BEGIN:DAYLIGHT
TZOFFSETFROM:+0200
TZOFFSETTO:+0300
TZNAME:EEST
DTSTART:20250330T010000
END:DAYLIGHT
BEGIN:STANDARD
TZOFFSETFROM:+0300
TZOFFSETTO:+0200
TZNAME:EET
DTSTART:20251026T010000
END:STANDARD
END:VTIMEZONE
BEGIN:VEVENT
DTSTART;TZID=Europe/Helsinki:20240308T080000
DTEND;TZID=Europe/Helsinki:20240309T170000
DTSTAMP:20260424T205759
CREATED:20240220T171855Z
LAST-MODIFIED:20240220T182052Z
UID:3346-1709884800-1710003600@nukkekamari.fi
SUMMARY:110411 Perinnelelu\, Eura
DESCRIPTION:Tule tutustumaan antiikkilelujen ihmeelliseen maailmaan ja tekemään itse ikioma nukke tai pehmolelu mohairkankaasta. Voit valmistaa perinteisin menetelmin Martta-nuken\, antiikkinallen\, tontun tai perinnepehmon (kissan\, kanin tai koiran) mohairkankaasta. Lisätietoa netissä. Nukkea valmistaessa opit hiomaan\, pohjustamaan ja maalaamaan nuken kasvot. Vartalo ommellaan kankaasta ja täytetään tiiviiksi sahanpurulla. Perinnepehmot ommellaan käsin mohairkankaasta. Pahvinivelet saavat lelut liikuttamaan kaikkia jäseniä ja käsin puhalletut lasisilmät saavat lelut elämään. Täytemateriaalina käytetään ekokuitua. Saat paljon tietoa lelujen historiasta. Nuken tai perinnepehmon voi valmistaa vaikkapa lahjaksi. Kurssilla ehtii valmistamaan vain toisen\, joko Martta-nuken tai perinnepehmolelun. Materiaalikustannus Martta-nukesta 23 e. Nukkepaketit alkaen 31 e. Perinnepehmolelut mohairkankaasta alkaen 35 e/hahmo. Opettajalta voi ostaa materiaalia. Opettaja lähettää kirjeen kurssista ennen kurssin alkua. Kurssipäivät:8.3.-9.3.sekä 22.-23.3. 2024. Pe klo 17.00-21.00\, la klo 10.00-16.30. \nOpettaja: Ruuhikorpi-Mäki Teija \n  \nPaikkatilanne: Osallistujamaksimi 14\, kurssilla on tilaa. \nOpetuspaikka: Kännö\, sininen luokka\, Kännöntie 9\, 27500 Kauttua \n\nOpetuskieli: Suomi \nPäivä ja kello: Pe: 17.00 – 21.00 La: 10.00 – 16.30 \nKevätlukukausi: 8.3.2024 – 23.3.2024 \nKurssimaksu: 40\,00 € \nIlmoittautuminen alkaa: 11.12.2023 9.00 \nIlmoittaudu viimeistään: 1.3.2024 0.00 \nIlmoittaudu tästä \n 
URL:https://nukkekamari.fi/tapahtuma/110411-perinnelelu-eura/
END:VEVENT
BEGIN:VEVENT
DTSTART;TZID=Europe/Helsinki:20240322T080000
DTEND;TZID=Europe/Helsinki:20240323T170000
DTSTAMP:20260424T205759
CREATED:20240220T172418Z
LAST-MODIFIED:20240220T172549Z
UID:3351-1711094400-1711213200@nukkekamari.fi
SUMMARY:110411 Perinnelelu\, Eura
DESCRIPTION:Tule tutustumaan antiikkilelujen ihmeelliseen maailmaan ja tekemään itse ikioma nukke tai pehmolelu mohairkankaasta. Voit valmistaa perinteisin menetelmin Martta-nuken\, antiikkinallen\, tontun tai perinnepehmon (kissan\, kanin tai koiran) mohairkankaasta. Lisätietoa netissä. Nukkea valmistaessa opit hiomaan\, pohjustamaan ja maalaamaan nuken kasvot. Vartalo ommellaan kankaasta ja täytetään tiiviiksi sahanpurulla. Perinnepehmot ommellaan käsin mohairkankaasta. Pahvinivelet saavat lelut liikuttamaan kaikkia jäseniä ja käsin puhalletut lasisilmät saavat lelut elämään. Täytemateriaalina käytetään ekokuitua. Saat paljon tietoa lelujen historiasta. Nuken tai perinnepehmon voi valmistaa vaikkapa lahjaksi. Kurssilla ehtii valmistamaan vain toisen\, joko Martta-nuken tai perinnepehmolelun. Materiaalikustannus Martta-nukesta 23 e. Nukkepaketit alkaen 31 e. Perinnepehmolelut mohairkankaasta alkaen 35 e/hahmo. Opettajalta voi ostaa materiaalia. Opettaja lähettää kirjeen kurssista ennen kurssin alkua. Kurssipäivät:8.3.-9.3.sekä 22.-23.3. 2024. Pe klo 17.00-21.00\, la klo 10.00-16.30. \nOpettaja: Ruuhikorpi-Mäki Teija \n  \nPaikkatilanne: Osallistujamaksimi 14\, kurssilla on tilaa. \nOpetuspaikka: Kännö\, sininen luokka\, Kännöntie 9\, 27500 Kauttua \n\nOpetuskieli: Suomi \nPäivä ja kello: Pe: 17.00 – 21.00 La: 10.00 – 16.30 \nKevätlukukausi: 8.3.2024 – 23.3.2024 \nKurssimaksu: 40\,00 € \nIlmoittautuminen alkaa: 11.12.2023 9.00 \nIlmoittaudu viimeistään: 1.3.2024 0.00 \nIlmoittaudu tästä \n 
URL:https://nukkekamari.fi/tapahtuma/110411-perinnelelu-eura-2/
END:VEVENT
END:VCALENDAR