BEGIN:VCALENDAR
VERSION:2.0
PRODID:-//Nukkekamari - ECPv6.15.20//NONSGML v1.0//EN
CALSCALE:GREGORIAN
METHOD:PUBLISH
X-ORIGINAL-URL:https://nukkekamari.fi
X-WR-CALDESC:Tapahtumat Nukkekamari
REFRESH-INTERVAL;VALUE=DURATION:PT1H
X-Robots-Tag:noindex
X-PUBLISHED-TTL:PT1H
BEGIN:VTIMEZONE
TZID:Europe/Helsinki
BEGIN:DAYLIGHT
TZOFFSETFROM:+0200
TZOFFSETTO:+0300
TZNAME:EEST
DTSTART:20220327T010000
END:DAYLIGHT
BEGIN:STANDARD
TZOFFSETFROM:+0300
TZOFFSETTO:+0200
TZNAME:EET
DTSTART:20221030T010000
END:STANDARD
BEGIN:DAYLIGHT
TZOFFSETFROM:+0200
TZOFFSETTO:+0300
TZNAME:EEST
DTSTART:20230326T010000
END:DAYLIGHT
BEGIN:STANDARD
TZOFFSETFROM:+0300
TZOFFSETTO:+0200
TZNAME:EET
DTSTART:20231029T010000
END:STANDARD
BEGIN:DAYLIGHT
TZOFFSETFROM:+0200
TZOFFSETTO:+0300
TZNAME:EEST
DTSTART:20240331T010000
END:DAYLIGHT
BEGIN:STANDARD
TZOFFSETFROM:+0300
TZOFFSETTO:+0200
TZNAME:EET
DTSTART:20241027T010000
END:STANDARD
END:VTIMEZONE
BEGIN:VEVENT
DTSTART;TZID=Europe/Helsinki:20230911T161500
DTEND;TZID=Europe/Helsinki:20230911T191500
DTSTAMP:20260424T175800
CREATED:20230821T185921Z
LAST-MODIFIED:20230821T192305Z
UID:3272-1694448900-1694459700@nukkekamari.fi
SUMMARY:Perinnelelutyöpaja: nukkeja ja nalleja A\, Porin seudun kansalaisopisto
DESCRIPTION:Opetusjakso11.9.–27.11.2023\n\nPäivä ja kellonaikaMa  \n16:15–19:15 \n\nIlmoittautuminen alkaa22.8.2023 18:30\nHintaluokatKurssimaksu 46\,00 €\nTule tutustumaan antiikkilelujen ihmeelliseen maailmaan ja tekemään itse ikioma nukke tai pehmolelu mohairkankaasta. Voit valmistaa perinteisin menetelmin Martta-nuken\, antiikkinallen\, tontun tai perinnepehmon (kissan\, kanin tai koiran) mohairkankaasta. Lisätietoa netissä. Ei kokoontumista 9.10. \n\n\nLisätiedot \n\n*** Nukkea valmistaessa opit hiomaan\, pohjustamaan ja maalaamaan nuken kasvot. Vartalo ommellaan kankaasta ja täytetään tiiviiksi sahanpurulla. Perinnepehmot ommellaan käsin mohairkankaasta. Pahvinivelet saavat lelut liikuttamaan kaikkia jäseniä ja käsin puhalletut lasisilmät saavat lelut elämään. Täytemateriaalina käytetään ekokuitua. Saat paljon tietoa lelujen historiasta. Nuken tai perinnepehmon voi valmistaa vaikkapa lahjaksi. Kurssilla ehtii valmistamaan vain toisen\, joko Martta-nuken tai perinnepehmolelun. Materiaalikustannus Martta-nukesta 23 e. Nukkepaketit alkaen 31 e. Perinnepehmolelut mohairkankaasta alkaen 35 e/hahmo. Opettajalta voi ostaa materiaalia. Opettaja lähettää kirjeen kurssista ennen kurssin alkua.
URL:https://nukkekamari.fi/tapahtuma/perinnelelutyopaja-nukkeja-ja-nalleja-a-porin-seudun-kansalaisopisto/
LOCATION:Porin seudun kansalaisopisto\, Gallen-Kallelankatu 14\, Pori\, 28100\, Suomi
ATTACH;FMTTYPE=image/jpeg:https://nukkekamari.fi/wp-content/uploads/2021/01/A9CA8C3D-5BDC-4D2A-97F3-FD71ED32630D_1_201_a.jpeg
END:VEVENT
END:VCALENDAR