BEGIN:VCALENDAR
VERSION:2.0
PRODID:-//Nukkekamari - ECPv6.15.20//NONSGML v1.0//EN
CALSCALE:GREGORIAN
METHOD:PUBLISH
X-WR-CALNAME:Nukkekamari
X-ORIGINAL-URL:https://nukkekamari.fi
X-WR-CALDESC:Tapahtumat Nukkekamari
REFRESH-INTERVAL;VALUE=DURATION:PT1H
X-Robots-Tag:noindex
X-PUBLISHED-TTL:PT1H
BEGIN:VTIMEZONE
TZID:Europe/Helsinki
BEGIN:DAYLIGHT
TZOFFSETFROM:+0200
TZOFFSETTO:+0300
TZNAME:EEST
DTSTART:20220327T010000
END:DAYLIGHT
BEGIN:STANDARD
TZOFFSETFROM:+0300
TZOFFSETTO:+0200
TZNAME:EET
DTSTART:20221030T010000
END:STANDARD
BEGIN:DAYLIGHT
TZOFFSETFROM:+0200
TZOFFSETTO:+0300
TZNAME:EEST
DTSTART:20230326T010000
END:DAYLIGHT
BEGIN:STANDARD
TZOFFSETFROM:+0300
TZOFFSETTO:+0200
TZNAME:EET
DTSTART:20231029T010000
END:STANDARD
BEGIN:DAYLIGHT
TZOFFSETFROM:+0200
TZOFFSETTO:+0300
TZNAME:EEST
DTSTART:20240331T010000
END:DAYLIGHT
BEGIN:STANDARD
TZOFFSETFROM:+0300
TZOFFSETTO:+0200
TZNAME:EET
DTSTART:20241027T010000
END:STANDARD
END:VTIMEZONE
BEGIN:VEVENT
DTSTART;TZID=Europe/Helsinki:20230403T161500
DTEND;TZID=Europe/Helsinki:20230403T191500
DTSTAMP:20260424T143331
CREATED:20230102T182213Z
LAST-MODIFIED:20230102T182213Z
UID:3145-1680538500-1680549300@nukkekamari.fi
SUMMARY:Perinnelelutyöpaja: nukkeja ja nalleja A 12162K\, Porin seudun kansalaisopisto
DESCRIPTION:Tule tutustumaan antiikkilelujen ihmeelliseen maailmaan ja tekemään itse ikioma nukke tai pehmolelu mohairkankaasta. Voit valmistaa perinteisin menetelmin Martta-nuken\, antiikkinallen\, tontun tai perinnepehmon (kissan\, kanin tai koiran) mohairkankaasta. Lisätietoa netissä.\nLisätiedot\n*** Nukkea valmistaessa opit hiomaan\, pohjustamaan ja maalaamaan nuken kasvot. Vartalo ommellaan kankaasta ja täytetään tiiviiksi sahanpurulla. Perinnepehmot ommellaan käsin mohairkankaasta. Pahvinivelet saavat lelut liikuttamaan kaikkia jäseniä ja käsin puhalletut lasisilmät saavat lelut elämään. Täytemateriaalina käytetään ekokuitua. Saat paljon tietoa lelujen historiasta. Nuken tai perinnepehmon voi valmistaa vaikkapa lahjaksi. Kurssilla ehtii valmistamaan vain toisen\, joko Martta-nuken tai perinnepehmolelun. Materiaalikustannus Martta-nukesta 23 e. Nukkepaketit alkaen 31 e. Perinnepehmolelut mohairkankaasta alkaen 35 e/hahmo. Opettajalta voi ostaa materiaalia. Opettaja lähettää kirjeen kurssista ennen kurssin alkua.
URL:https://nukkekamari.fi/tapahtuma/perinnelelutyopaja-nukkeja-ja-nalleja-a-12162k-porin-seudun-kansalaisopisto-11/
LOCATION:Porin seudun kansalaisopisto\, Gallen-Kallelankatu 14\, Pori\, 28100\, Suomi
END:VEVENT
BEGIN:VEVENT
DTSTART;TZID=Europe/Helsinki:20230405T100000
DTEND;TZID=Europe/Helsinki:20230405T130000
DTSTAMP:20260424T143331
CREATED:20230103T095322Z
LAST-MODIFIED:20230103T095322Z
UID:3185-1680688800-1680699600@nukkekamari.fi
SUMMARY:Perinnelelutyöpaja: nukkeja ja nalleja B 12164K\, Porin seudun kansalaisopisto
DESCRIPTION:Tule tutustumaan antiikkilelujen ihmeelliseen maailmaan ja tekemään itse ikioma nukke tai pehmolelu mohairkankaasta. Voit valmistaa perinteisin menetelmin Martta-nuken\, antiikkinallen\, tontun tai perinnepehmon (kissan\, kanin tai koiran) mohairkankaasta. Lisätietoa netissä.\nLisätiedot\n*** Nukkea valmistaessa opit hiomaan\, pohjustamaan ja maalaamaan nuken kasvot. Vartalo ommellaan kankaasta ja täytetään tiiviiksi sahanpurulla. Perinnepehmot ommellaan käsin mohairkankaasta. Pahvinivelet saavat lelut liikuttamaan kaikkia jäseniä ja käsin puhalletut lasisilmät saavat lelut elämään. Täytemateriaalina käytetään ekokuitua. Saat paljon tietoa lelujen historiasta. Nuken tai perinnepehmon voi valmistaa vaikkapa lahjaksi. Kurssilla ehtii valmistamaan vain toisen\, joko Martta-nuken tai perinnepehmolelun. Materiaalikustannus Martta-nukesta 23 e. Nukkepaketit alkaen 31 e. Perinnepehmolelut mohairkankaasta alkaen 35 e/hahmo. Opettajalta voi ostaa materiaalia. Opettaja lähettää kirjeen kurssista ennen kurssin alkua.
URL:https://nukkekamari.fi/tapahtuma/perinnelelutyopaja-nukkeja-ja-nalleja-b-12164k-porin-seudun-kansalaisopisto-10/
LOCATION:Porin seudun kansalaisopisto\, Gallen-Kallelankatu 14\, Pori\, 28100\, Suomi
CATEGORIES:Kurssit
END:VEVENT
BEGIN:VEVENT
DTSTART;TZID=Europe/Helsinki:20230405T170000
DTEND;TZID=Europe/Helsinki:20230405T183000
DTSTAMP:20260424T143331
CREATED:20230103T093152Z
LAST-MODIFIED:20230103T093152Z
UID:3165-1680714000-1680719400@nukkekamari.fi
SUMMARY:Perinnelelukurssi etänä 12166EK\, Porin seudun kansalaisopisto
DESCRIPTION:Etäopetus Teams-kokousympäristössä keskiviikkoisin 25.1.-5.4. klo 17-18.30. Kurssia tuetaan myös WhatsApp-sovelluksella. Tule tutustumaan antiikkilelujen ihmeelliseen maailmaan ja tekemään itse ikioma Martta-nukke tai pehmolelu mohairkankaasta. Voit valmistaa perinteisin menetelmin Martta-nuken\, antiikkinallen tai perinnepehmon mohairkankaasta (kissan\, kanin tai koiran). Lisätietoa netissä.\nLisätiedot\nKurssi sisältää paljon tietoa myös Martta-nukkien ja antiikkinallejen historiasta. Kurssilla annetaan ohjeita nukkien vaatetuksesta\, joita voi valmistaa ommellen\, neuloen tai virkaten.\nMateriaaleista eri maksu. Nukkepaketit alkaen 31 e. Opettajalta voi ostaa materiaalia. Opettaja lähettää kurssista kirjeen ennen kurssin alkua.\nKurssi toteutetaan Microsoft Teams -avusteisena. Koulutukseen osallistumiseen riittää\, että sinulla on toimiva nettiyhteys ja Internet-selain joko tietokoneessasi\, tabletissasi tai älypuhelimessasi. Selaimista toimii Mozilla Firefox ja Google Chrome. Katso tarkemmat ohjeet kurssin liitetiedostosta.
URL:https://nukkekamari.fi/tapahtuma/perinnelelukurssi-etana-12166ek-porin-seudun-kansalaisopisto-10/
CATEGORIES:Kurssit
END:VEVENT
END:VCALENDAR