BEGIN:VCALENDAR
VERSION:2.0
PRODID:-//Nukkekamari - ECPv6.15.20//NONSGML v1.0//EN
CALSCALE:GREGORIAN
METHOD:PUBLISH
X-ORIGINAL-URL:https://nukkekamari.fi
X-WR-CALDESC:Tapahtumat Nukkekamari
REFRESH-INTERVAL;VALUE=DURATION:PT1H
X-Robots-Tag:noindex
X-PUBLISHED-TTL:PT1H
BEGIN:VTIMEZONE
TZID:Europe/Helsinki
BEGIN:DAYLIGHT
TZOFFSETFROM:+0200
TZOFFSETTO:+0300
TZNAME:EEST
DTSTART:20200329T010000
END:DAYLIGHT
BEGIN:STANDARD
TZOFFSETFROM:+0300
TZOFFSETTO:+0200
TZNAME:EET
DTSTART:20201025T010000
END:STANDARD
BEGIN:DAYLIGHT
TZOFFSETFROM:+0200
TZOFFSETTO:+0300
TZNAME:EEST
DTSTART:20210328T010000
END:DAYLIGHT
BEGIN:STANDARD
TZOFFSETFROM:+0300
TZOFFSETTO:+0200
TZNAME:EET
DTSTART:20211031T010000
END:STANDARD
BEGIN:DAYLIGHT
TZOFFSETFROM:+0200
TZOFFSETTO:+0300
TZNAME:EEST
DTSTART:20220327T010000
END:DAYLIGHT
BEGIN:STANDARD
TZOFFSETFROM:+0300
TZOFFSETTO:+0200
TZNAME:EET
DTSTART:20221030T010000
END:STANDARD
END:VTIMEZONE
BEGIN:VEVENT
DTSTART;TZID=Europe/Helsinki:20210129T170000
DTEND;TZID=Europe/Helsinki:20210129T201500
DTSTAMP:20260419T192744
CREATED:20210108T083816Z
LAST-MODIFIED:20210108T084138Z
UID:2676-1611939600-1611951300@nukkekamari.fi
SUMMARY:Rauman kansalaisopisto\, 1104071 Nukke\, tonttu tai maahinen
DESCRIPTION:1104071 Nukke\, tonttu tai maahinen\n\n\nTutustu vanhojen lelujen ihmeelliseen maailmaan ja tee ikioma nukke\, tonttu tai maahinen. Voit valmistaa perinteisin menetelmin Martta-nuken\, Heubach-tehtaan luonnenuken\, tontun tai maahisen. Opit hiomaan\, pohjustamaan ja maalaamaan nuken kasvot. Vartalo ommellaan kankaasta ja täytetään tiiviiksi. Kurssilla saat paljon tietoa nukkien ja tonttujen historiasta. Materiaaleista ja työvälineiden käytöstä 23 € maksu. Nukkepaketit alkaen 26 €. Kokoontumiset pe-su 29.-31.1.2021 ja 12.-14.2.2021 Ilmoittautuminen 22.1. mennessä materiaalitilausten vuoksi. Kurssilaisille lähetetään tietoa  kurssista ja materiaaleista. Lisätietoja www.nukkekamari.fi \nKurssi siirtyy verkkoon\, jos lähiopetus kielletään. \nOpettaja: opettaja Teija Ruuhikorpi-Mäki \nPaikkatilanne: Osallistujamaksimi 12\, kurssilla on tilaa. \nOpetuspaikka: Pyynpään opisto\, käsityö 2\, Vähäkinnontie 7\, 26100 RAUMA \n\nPäivä ja kello: Pe: 17.00 – 20.15 La: 10.00 – 16.30 Su: 10.00 – 16.30 \nKevätlukukausi: 29.1.2021 – 14.2.2021 (40 oppituntia) \nKurssimaksu: 41\,00 € \nIlmoittautuminen alkaa: 4.1.2021 18.00 \nNäytä kurssin kalenteri \n\nPe 29.01.2021 17:00 – 20:15  Pyynpään opisto\, käsityö 2\nLa 30.01.2021 10:00 – 16:30  Pyynpään opisto\, käsityö 2\nSu 31.01.2021 10:00 – 16:30  Pyynpään opisto\, käsityö 2\nPe 12.02.2021 17:00 – 20:15  Pyynpään opisto\, käsityö 2\nLa 13.02.2021 10:00 – 16:30  Pyynpään opisto\, käsityö 2\nSu 14.02.2021 10:00 – 16:30  Pyynpään opisto\, käsityö 2\n\n\n 
URL:https://nukkekamari.fi/tapahtuma/rauman-kansalaisopisto-1104071-nukke-tonttu-tai-maahinen/
END:VEVENT
BEGIN:VEVENT
DTSTART;TZID=Europe/Helsinki:20210130T100000
DTEND;TZID=Europe/Helsinki:20210130T163000
DTSTAMP:20260419T192744
CREATED:20210108T083948Z
LAST-MODIFIED:20210108T084030Z
UID:2678-1612000800-1612024200@nukkekamari.fi
SUMMARY:Rauman kansalaisopisto\, 1104071 Nukke\, tonttu tai maahinen
DESCRIPTION:1104071 Nukke\, tonttu tai maahinen\n\n\nTutustu vanhojen lelujen ihmeelliseen maailmaan ja tee ikioma nukke\, tonttu tai maahinen. Voit valmistaa perinteisin menetelmin Martta-nuken\, Heubach-tehtaan luonnenuken\, tontun tai maahisen. Opit hiomaan\, pohjustamaan ja maalaamaan nuken kasvot. Vartalo ommellaan kankaasta ja täytetään tiiviiksi. Kurssilla saat paljon tietoa nukkien ja tonttujen historiasta. Materiaaleista ja työvälineiden käytöstä 23 € maksu. Nukkepaketit alkaen 26 €. Kokoontumiset pe-su 29.-31.1.2021 ja 12.-14.2.2021 Ilmoittautuminen 22.1. mennessä materiaalitilausten vuoksi. Kurssilaisille lähetetään tietoa  kurssista ja materiaaleista. Lisätietoja www.nukkekamari.fi \nKurssi siirtyy verkkoon\, jos lähiopetus kielletään. \nOpettaja: opettaja Teija Ruuhikorpi-Mäki \nPaikkatilanne: Osallistujamaksimi 12\, kurssilla on tilaa. \nOpetuspaikka: Pyynpään opisto\, käsityö 2\, Vähäkinnontie 7\, 26100 RAUMA \n\nPäivä ja kello: Pe: 17.00 – 20.15 La: 10.00 – 16.30 Su: 10.00 – 16.30 \nKevätlukukausi: 29.1.2021 – 14.2.2021 (40 oppituntia) \nKurssimaksu: 41\,00 € \nIlmoittautuminen alkaa: 4.1.2021 18.00 \nNäytä kurssin kalenteri \n\nPe 29.01.2021 17:00 – 20:15  Pyynpään opisto\, käsityö 2\nLa 30.01.2021 10:00 – 16:30  Pyynpään opisto\, käsityö 2\nSu 31.01.2021 10:00 – 16:30  Pyynpään opisto\, käsityö 2\nPe 12.02.2021 17:00 – 20:15  Pyynpään opisto\, käsityö 2\nLa 13.02.2021 10:00 – 16:30  Pyynpään opisto\, käsityö 2\nSu 14.02.2021 10:00 – 16:30  Pyynpään opisto\, käsityö 2\n\n\n 
URL:https://nukkekamari.fi/tapahtuma/rauman-kansalaisopisto-1104071-nukke-tonttu-tai-maahinen-2/
END:VEVENT
BEGIN:VEVENT
DTSTART;TZID=Europe/Helsinki:20210131T100000
DTEND;TZID=Europe/Helsinki:20210131T163000
DTSTAMP:20260419T192744
CREATED:20210108T084253Z
LAST-MODIFIED:20210108T084253Z
UID:2682-1612087200-1612110600@nukkekamari.fi
SUMMARY:Rauman kansalaisopisto\, 1104071 Nukke\, tonttu tai maahinen
DESCRIPTION:Tutustu vanhojen lelujen ihmeelliseen maailmaan ja tee ikioma nukke\, tonttu tai maahinen. Voit valmistaa perinteisin menetelmin Martta-nuken\, Heubach-tehtaan luonnenuken\, tontun tai maahisen. Opit hiomaan\, pohjustamaan ja maalaamaan nuken kasvot. Vartalo ommellaan kankaasta ja täytetään tiiviiksi. Kurssilla saat paljon tietoa nukkien ja tonttujen historiasta. Materiaaleista ja työvälineiden käytöstä 23 € maksu. Nukkepaketit alkaen 26 €. Kokoontumiset pe-su 29.-31.1.2021 ja 12.-14.2.2021 Ilmoittautuminen 22.1. mennessä materiaalitilausten vuoksi. Kurssilaisille lähetetään tietoa  kurssista ja materiaaleista. Lisätietoja www.nukkekamari.fi \nKurssi siirtyy verkkoon\, jos lähiopetus kielletään. \n  \nOpettaja: opettaja Teija Ruuhikorpi-Mäki \nPaikkatilanne: Osallistujamaksimi 12\, kurssilla on tilaa. \nOpetuspaikka: Pyynpään opisto\, käsityö 2\, Vähäkinnontie 7\, 26100 RAUMA \n\nPäivä ja kello: Pe: 17.00 – 20.15 La: 10.00 – 16.30 Su: 10.00 – 16.30 \nKevätlukukausi: 29.1.2021 – 14.2.2021 (40 oppituntia) \nKurssimaksu: 41\,00 € \nIlmoittautuminen alkaa: 4.1.2021 18.00 \nNäytä kurssin kalenteri \n\nPe 29.01.2021 17:00 – 20:15  Pyynpään opisto\, käsityö 2\nLa 30.01.2021 10:00 – 16:30  Pyynpään opisto\, käsityö 2\nSu 31.01.2021 10:00 – 16:30  Pyynpään opisto\, käsityö 2\nPe 12.02.2021 17:00 – 20:15  Pyynpään opisto\, käsityö 2\nLa 13.02.2021 10:00 – 16:30  Pyynpään opisto\, käsityö 2\nSu 14.02.2021 10:00 – 16:30  Pyynpään opisto\, käsityö 2
URL:https://nukkekamari.fi/tapahtuma/rauman-kansalaisopisto-1104071-nukke-tonttu-tai-maahinen-3/
END:VEVENT
END:VCALENDAR