BEGIN:VCALENDAR
VERSION:2.0
PRODID:-//Nukkekamari - ECPv6.15.20//NONSGML v1.0//EN
CALSCALE:GREGORIAN
METHOD:PUBLISH
X-WR-CALNAME:Nukkekamari
X-ORIGINAL-URL:https://nukkekamari.fi
X-WR-CALDESC:Tapahtumat Nukkekamari
REFRESH-INTERVAL;VALUE=DURATION:PT1H
X-Robots-Tag:noindex
X-PUBLISHED-TTL:PT1H
BEGIN:VTIMEZONE
TZID:Europe/Helsinki
BEGIN:DAYLIGHT
TZOFFSETFROM:+0200
TZOFFSETTO:+0300
TZNAME:EEST
DTSTART:20190331T010000
END:DAYLIGHT
BEGIN:STANDARD
TZOFFSETFROM:+0300
TZOFFSETTO:+0200
TZNAME:EET
DTSTART:20191027T010000
END:STANDARD
BEGIN:DAYLIGHT
TZOFFSETFROM:+0200
TZOFFSETTO:+0300
TZNAME:EEST
DTSTART:20200329T010000
END:DAYLIGHT
BEGIN:STANDARD
TZOFFSETFROM:+0300
TZOFFSETTO:+0200
TZNAME:EET
DTSTART:20201025T010000
END:STANDARD
BEGIN:DAYLIGHT
TZOFFSETFROM:+0200
TZOFFSETTO:+0300
TZNAME:EEST
DTSTART:20210328T010000
END:DAYLIGHT
BEGIN:STANDARD
TZOFFSETFROM:+0300
TZOFFSETTO:+0200
TZNAME:EET
DTSTART:20211031T010000
END:STANDARD
END:VTIMEZONE
BEGIN:VEVENT
DTSTART;VALUE=DATE:20200706
DTEND;VALUE=DATE:20200711
DTSTAMP:20260419T180308
CREATED:20200117T163551Z
LAST-MODIFIED:20200117T163551Z
UID:2348-1593993600-1594425599@nukkekamari.fi
SUMMARY:Nukkekurssi Kankaanpään opisto
DESCRIPTION:Kurssin aikataulu: vko 28\, 6.-10.7.2020\n\nKurssin sisältö: Oletko kiinnostunut uudesta harrastuksesta? Haluatko jatkaa mielenkiintoista harrastustasi? Tule tutustumaan antiikkinukkien ihmeelliseen maailmaan ja tekemään itse ikioma nukke. Voit valmistaa perinteisin menetelmin Martta-nuken\, Heubach-tehtaan luonnenuken tai leikittävän Sveitsin nuken. Opit hiomaan\, pohjustamaan ja maalaamaan nuken kasvot. Vartalo ommellaan kankaasta ja täytetään tiiviiksi. Saat paljon tietoa nukkien historiasta ja eri aikakausien vaatetuksesta. Vaatteita voi valmistaa ommellen\, neuloen tai virkaten. Materiaaleista ja työvälineiden käytöstä  23 e maksu. Nukkepaketit alkaen 31 e. Kurssilaisille lähetetään tietoa kurssista ja materiaaleista. Ohjaajana artenomi\, ammattiaineiden opettaja Teija Ruuhikorpi-Mäki.
URL:https://nukkekamari.fi/tapahtuma/nukkekurssi-kankaanpaan-opisto-2/
END:VEVENT
BEGIN:VEVENT
DTSTART;VALUE=DATE:20200720
DTEND;VALUE=DATE:20200725
DTSTAMP:20260419T180308
CREATED:20200117T163637Z
LAST-MODIFIED:20200117T163637Z
UID:2350-1595203200-1595635199@nukkekamari.fi
SUMMARY:Vanhan ajan perinneleluja Kankaanpään opisto
DESCRIPTION:Kurssin aikataulu: vko 30\, 20.-24.7.2020\n\nKurssin sisältö: Martatkin tekivät aikoinaan jo 1900-luvun alusta lähtien perinneleluja\, kuten kissoja\, koiria\, sekä nukkien mallisia tonttuja ja enkeleitä. Kurssilla valmistetaan nostalginen vanhan ajan perinnelelu mohairkankaasta\, tonttu tai enkeli. Perinnepehmot ommellaan käsin mohairkankaasta. Pahvinivelet saavat lelut liikuttamaan kaikkia jäseniä ja käsin puhalletut lasisilmät saavat lelut elämään. Täytemateriaalina käytetään ekokuitua. Tontuille ja enkeleille tehdään taipuisa vartalo ja ommellaan yksilölliset vaatteet. Jokainen tonttu ja enkeli  saa nimen ja tehtävän. Opettaja tuo kaikki tarvittavat materiaalit ja työvälineet. Materiaalikustannus tontusta 23 e\, tonttujen pääaihiot alkaen 31 e. Perinnepehmolelut mohairkankaasta alkaen 35 e/ hahmo. Kurssilaisille lähetetään kirje ennen kurssin alkua. Opettajana artenomi\, ammattiaineiden opettaja Teija Ruuhikorpi-Mäki.
URL:https://nukkekamari.fi/tapahtuma/vanhan-ajan-perinneleluja-kankaanpaan-opisto-2/
CATEGORIES:Kurssit
END:VEVENT
END:VCALENDAR