BEGIN:VCALENDAR
VERSION:2.0
PRODID:-//Nukkekamari - ECPv6.15.20//NONSGML v1.0//EN
CALSCALE:GREGORIAN
METHOD:PUBLISH
X-ORIGINAL-URL:https://nukkekamari.fi
X-WR-CALDESC:Tapahtumat Nukkekamari
REFRESH-INTERVAL;VALUE=DURATION:PT1H
X-Robots-Tag:noindex
X-PUBLISHED-TTL:PT1H
BEGIN:VTIMEZONE
TZID:Europe/Helsinki
BEGIN:DAYLIGHT
TZOFFSETFROM:+0200
TZOFFSETTO:+0300
TZNAME:EEST
DTSTART:20180325T010000
END:DAYLIGHT
BEGIN:STANDARD
TZOFFSETFROM:+0300
TZOFFSETTO:+0200
TZNAME:EET
DTSTART:20181028T010000
END:STANDARD
BEGIN:DAYLIGHT
TZOFFSETFROM:+0200
TZOFFSETTO:+0300
TZNAME:EEST
DTSTART:20190331T010000
END:DAYLIGHT
BEGIN:STANDARD
TZOFFSETFROM:+0300
TZOFFSETTO:+0200
TZNAME:EET
DTSTART:20191027T010000
END:STANDARD
BEGIN:DAYLIGHT
TZOFFSETFROM:+0200
TZOFFSETTO:+0300
TZNAME:EEST
DTSTART:20200329T010000
END:DAYLIGHT
BEGIN:STANDARD
TZOFFSETFROM:+0300
TZOFFSETTO:+0200
TZNAME:EET
DTSTART:20201025T010000
END:STANDARD
END:VTIMEZONE
BEGIN:VEVENT
DTSTART;TZID=Europe/Helsinki:20190913T163000
DTEND;TZID=Europe/Helsinki:20190913T211500
DTSTAMP:20260424T114104
CREATED:20190813T133810Z
LAST-MODIFIED:20190813T133810Z
UID:2004-1568392200-1568409300@nukkekamari.fi
SUMMARY:12846S NALLEKAHVILA B PORINSEUDUN KANSALAISOPISTO
DESCRIPTION:Pe 13.9. klo 16.30-21.15\, la 14.9. klo 9-15.30\, su 15.9. klo 9-15.30 ja ke 18.9. klo 16.15-20. \nOpit valmistamaan aidon antiikkinallen tai perinnelelun mohairkankaasta: koira\, kettu\, kissa\, kani tai vedettävä karhu. Opetetaan myös mohairkankaan maalausta\, värjäystä ja vanhentamista. Työ ommellaan käsin. *** Pahvinivelet saavat lelut liikuttamaan kaikkia jäseniä ja käsin puhalletut lasisilmät saavat lelut elämään. Täytemateriaalina käytetään ekokuitua. Perinnelelun voi valmistaa vaikka lahjaksi. Opettajalta voi ostaa materiaalia. Materiaaleista eri maksu\, alkaen 35 e / hahmo. Ota mukaan: sakset\, nuppineulat\, merkitsemisvälineet (tussi)\, silmäneula ja nahkaneula. \nOpettaja: Ruuhikorpi-Mäki Teija \nPaikkatilanne: Osallistujamaksimi 12\, kurssilla on tilaa. \nOpetuspaikka:  Opistotalo: Trappukamari\, Gallen-Kallelankatu 14\, 28100 Pori  \n\nPäivä ja kello: Ke: 16.15 – 20.00 Pe: 16.30 – 21.15 La: 09.00 – 15.30 Su: 09.00 – 15.30 \nSyyslukukausi: 13.9.2019 – 18.9.2019 (27 oppituntia) \nKurssimaksu: 35\,00 € \nIlmoittautuminen alkaa: 26.8.2019 9:30 (Ilmoittautumisen alkamiseen 13 päivää)
URL:https://nukkekamari.fi/tapahtuma/12846s-nallekahvila-b-porinseudun-kansalaisopisto/
END:VEVENT
BEGIN:VEVENT
DTSTART;TZID=Europe/Helsinki:20190914T090000
DTEND;TZID=Europe/Helsinki:20190914T153000
DTSTAMP:20260424T114104
CREATED:20190813T133855Z
LAST-MODIFIED:20190813T133855Z
UID:2008-1568451600-1568475000@nukkekamari.fi
SUMMARY:12846S NALLEKAHVILA B PORINSEUDUN KANSALAISOPISTO
DESCRIPTION:Pe 13.9. klo 16.30-21.15\, la 14.9. klo 9-15.30\, su 15.9. klo 9-15.30 ja ke 18.9. klo 16.15-20. \nOpit valmistamaan aidon antiikkinallen tai perinnelelun mohairkankaasta: koira\, kettu\, kissa\, kani tai vedettävä karhu. Opetetaan myös mohairkankaan maalausta\, värjäystä ja vanhentamista. Työ ommellaan käsin. *** Pahvinivelet saavat lelut liikuttamaan kaikkia jäseniä ja käsin puhalletut lasisilmät saavat lelut elämään. Täytemateriaalina käytetään ekokuitua. Perinnelelun voi valmistaa vaikka lahjaksi. Opettajalta voi ostaa materiaalia. Materiaaleista eri maksu\, alkaen 35 e / hahmo. Ota mukaan: sakset\, nuppineulat\, merkitsemisvälineet (tussi)\, silmäneula ja nahkaneula. \nOpettaja: Ruuhikorpi-Mäki Teija \nPaikkatilanne: Osallistujamaksimi 12\, kurssilla on tilaa. \nOpetuspaikka:  Opistotalo: Trappukamari\, Gallen-Kallelankatu 14\, 28100 Pori  \n\nPäivä ja kello: Ke: 16.15 – 20.00 Pe: 16.30 – 21.15 La: 09.00 – 15.30 Su: 09.00 – 15.30 \nSyyslukukausi: 13.9.2019 – 18.9.2019 (27 oppituntia) \nKurssimaksu: 35\,00 € \nIlmoittautuminen alkaa: 26.8.2019 9:30 (Ilmoittautumisen alkamiseen 13 päivää)
URL:https://nukkekamari.fi/tapahtuma/12846s-nallekahvila-b-porinseudun-kansalaisopisto-2/
END:VEVENT
BEGIN:VEVENT
DTSTART;TZID=Europe/Helsinki:20190915T090000
DTEND;TZID=Europe/Helsinki:20190915T153000
DTSTAMP:20260424T114104
CREATED:20190813T133928Z
LAST-MODIFIED:20190813T133928Z
UID:2010-1568538000-1568561400@nukkekamari.fi
SUMMARY:12846S NALLEKAHVILA B PORINSEUDUN KANSALAISOPISTO
DESCRIPTION:Pe 13.9. klo 16.30-21.15\, la 14.9. klo 9-15.30\, su 15.9. klo 9-15.30 ja ke 18.9. klo 16.15-20. \nOpit valmistamaan aidon antiikkinallen tai perinnelelun mohairkankaasta: koira\, kettu\, kissa\, kani tai vedettävä karhu. Opetetaan myös mohairkankaan maalausta\, värjäystä ja vanhentamista. Työ ommellaan käsin. *** Pahvinivelet saavat lelut liikuttamaan kaikkia jäseniä ja käsin puhalletut lasisilmät saavat lelut elämään. Täytemateriaalina käytetään ekokuitua. Perinnelelun voi valmistaa vaikka lahjaksi. Opettajalta voi ostaa materiaalia. Materiaaleista eri maksu\, alkaen 35 e / hahmo. Ota mukaan: sakset\, nuppineulat\, merkitsemisvälineet (tussi)\, silmäneula ja nahkaneula. \nOpettaja: Ruuhikorpi-Mäki Teija \nPaikkatilanne: Osallistujamaksimi 12\, kurssilla on tilaa. \nOpetuspaikka:  Opistotalo: Trappukamari\, Gallen-Kallelankatu 14\, 28100 Pori  \n\nPäivä ja kello: Ke: 16.15 – 20.00 Pe: 16.30 – 21.15 La: 09.00 – 15.30 Su: 09.00 – 15.30 \nSyyslukukausi: 13.9.2019 – 18.9.2019 (27 oppituntia) \nKurssimaksu: 35\,00 € \nIlmoittautuminen alkaa: 26.8.2019 9:30 (Ilmoittautumisen alkamiseen 13 päivää)
URL:https://nukkekamari.fi/tapahtuma/12846s-nallekahvila-b-porinseudun-kansalaisopisto-3/
END:VEVENT
BEGIN:VEVENT
DTSTART;TZID=Europe/Helsinki:20190916T161500
DTEND;TZID=Europe/Helsinki:20190916T191500
DTSTAMP:20260424T114104
CREATED:20190813T134213Z
LAST-MODIFIED:20190813T134213Z
UID:2014-1568650500-1568661300@nukkekamari.fi
SUMMARY:12842S NUKKEKURSSI PORINSEUDUN KANSALAISOPISTO
DESCRIPTION:Oletko kiinnostunut uudesta harrastuksesta? Haluatko jatkaa mielenkiintoista harrastustasi? Tule tutustumaan antiikkinukkien ihmeelliseen maailmaan ja tekemään itse ikioma nukke. Voit valmistaa perinteisin menetelmin Martta-nuken\, Heubach-tehtaan luonnenuken\, nukkekodin nuken tai leikittävän Sveitsinnuken. Huom. Ei kokoontumista 23.9. *** Opit hiomaan\, pohjustamaan ja maalaamaan nuken kasvot. Vartalo ommellaan kankaasta ja täytetään tiiviiksi. Saat paljon tietoa nukkien historiasta ja eri aikakausien vaatetuksesta\, joita voi valmistaa ommellen\, neuloen tai virkaten. Materiaaleista ja työvälineiden käytöstä 23 e maksu. Nukkepaketit alkaen 31 e. Kurssilaisille lähetetään tietoa kurssista ja materiaaleista. \nOpettaja: Ruuhikorpi-Mäki Teija \nPaikkatilanne: Osallistujamaksimi 12\, kurssilla on tilaa. \nOpetuspaikka:  Opistotalo: Trappukamari\, Gallen-Kallelankatu 14\, 28100 Pori  \n\nPäivä ja kello: Ma: 16.15 – 19.15 \nSyyslukukausi: 16.9.2019 – 2.12.2019 (40 oppituntia) \nKurssimaksu: 44\,00 € \nIlmoittautuminen alkaa: 26.8.2019 9:30 (Ilmoittautumisen alkamiseen 13 päivää)
URL:https://nukkekamari.fi/tapahtuma/12842s-nukkekurssi-porinseudun-kansalaisopisto/
END:VEVENT
BEGIN:VEVENT
DTSTART;TZID=Europe/Helsinki:20190918T091500
DTEND;TZID=Europe/Helsinki:20190918T121500
DTSTAMP:20260424T114104
CREATED:20190813T132810Z
LAST-MODIFIED:20190813T132843Z
UID:1981-1568798100-1568808900@nukkekamari.fi
SUMMARY:12844S NALLEKAHVILA A PORINSEUDUN KANSALAISOPISTO
DESCRIPTION:Opit valmistamaan aidon antiikkinallen tai perinnelelun mohairkankaasta: koira\, kettu\, kissa\, kani tai vedettävä karhu. Opetetaan myös mohairkankaan maalausta\, värjäystä ja vanhentamista. Työ ommellaan käsin. Huom. Ei kokoontumista 25.9. ja 13.11.*** Pahvinivelet saavat lelut liikuttamaan kaikkia jäseniä ja käsin puhalletut lasisilmät saavat lelut elämään. Täytemateriaalina käytetään ekokuitua. Perinnelelun voi valmistaa vaikka lahjaksi. Opettajalta voi ostaa materiaalia. Materiaaleista eri maksu\, alkaen 35 e / hahmo. Ota mukaan: sakset\, nuppineulat\, merkitsemisvälineet (tussi)\, silmäneula ja nahkaneula. \nOpettaja: Ruuhikorpi-Mäki Teija \nPaikkatilanne: Osallistujamaksimi 12\, kurssilla on tilaa. \nOpetuspaikka:  Opistotalo: Trappukamari\, Gallen-Kallelankatu 14\, 28100 Pori  \n\nPäivä ja kello: Ke: 09.15 – 12.15 \nSyyslukukausi: 18.9.2019 – 11.12.2019 (40 oppituntia) \nKurssimaksu: 44\,00 € \nIlmoittautuminen alkaa: 26.8.2019 9:30 (Ilmoittautumisen alkamiseen 13 päivää)
URL:https://nukkekamari.fi/tapahtuma/12844s-nallekahvila-a-porinseudun-kansalaisopisto/
END:VEVENT
BEGIN:VEVENT
DTSTART;TZID=Europe/Helsinki:20190918T161500
DTEND;TZID=Europe/Helsinki:20190918T200000
DTSTAMP:20260424T114104
CREATED:20190813T134017Z
LAST-MODIFIED:20190813T134017Z
UID:2012-1568823300-1568836800@nukkekamari.fi
SUMMARY:12846S NALLEKAHVILA B PORINSEUDUN KANSALAISOPISTO
DESCRIPTION:Pe 13.9. klo 16.30-21.15\, la 14.9. klo 9-15.30\, su 15.9. klo 9-15.30 ja ke 18.9. klo 16.15-20. \nOpit valmistamaan aidon antiikkinallen tai perinnelelun mohairkankaasta: koira\, kettu\, kissa\, kani tai vedettävä karhu. Opetetaan myös mohairkankaan maalausta\, värjäystä ja vanhentamista. Työ ommellaan käsin. *** Pahvinivelet saavat lelut liikuttamaan kaikkia jäseniä ja käsin puhalletut lasisilmät saavat lelut elämään. Täytemateriaalina käytetään ekokuitua. Perinnelelun voi valmistaa vaikka lahjaksi. Opettajalta voi ostaa materiaalia. Materiaaleista eri maksu\, alkaen 35 e / hahmo. Ota mukaan: sakset\, nuppineulat\, merkitsemisvälineet (tussi)\, silmäneula ja nahkaneula. \nOpettaja: Ruuhikorpi-Mäki Teija \nPaikkatilanne: Osallistujamaksimi 12\, kurssilla on tilaa. \nOpetuspaikka:  Opistotalo: Trappukamari\, Gallen-Kallelankatu 14\, 28100 Pori  \n\nPäivä ja kello: Ke: 16.15 – 20.00 Pe: 16.30 – 21.15 La: 09.00 – 15.30 Su: 09.00 – 15.30 \nSyyslukukausi: 13.9.2019 – 18.9.2019 (27 oppituntia) \nKurssimaksu: 35\,00 € \nIlmoittautuminen alkaa: 26.8.2019 9:30 (Ilmoittautumisen alkamiseen 13 päivää)
URL:https://nukkekamari.fi/tapahtuma/12846s-nallekahvila-b-porinseudun-kansalaisopisto-4/
END:VEVENT
BEGIN:VEVENT
DTSTART;TZID=Europe/Helsinki:20190919T100000
DTEND;TZID=Europe/Helsinki:20190919T130000
DTSTAMP:20260424T114104
CREATED:20190813T134957Z
LAST-MODIFIED:20190813T134957Z
UID:2034-1568887200-1568898000@nukkekamari.fi
SUMMARY:12848S PERINNELELUJA - NUKKE TAI PEHMOLELU PORINSEUDUN KANSALAISOPISTO
DESCRIPTION:Tule tutustumaan antiikkilelujen ihmeelliseen maailmaan ja tekemään itse ikioma nukke tai pehmolelu mohairkankaasta. Voit valmistaa perinteisin menetelmin Martta-nuken\, antiikkinallen\, tai perinnepehmon mohairkankaasta (kissan\, kanin tai koiran). Ei kokoontumista 26.9. ja 14.11. *** Nukkea valmistaessa opit hiomaan\, pohjustamaan ja maalaamaan nuken kasvot. Vartalo ommellaan kankaasta ja täytetään tiiviiksi sahanpurulla. Perinnepehmot ommellaan käsin mohairkankaasta. Pahvinivelet saavat lelut liikuttamaan kaikkia jäseniä ja käsin puhalletut lasisilmät saavat lelut elämään. Täytemateriaalina käytetään ekokuitua. Saat paljon tietoa lelujen historiasta. Nuken tai perinnepehmon voi valmistaa vaikkapa lahjaksi. Kurssilla ehtii valmistamaan vain toisen\, joko Martta-nuken tai perinnepehmolelun. Materiaalikustannus Martta-nukesta 23 e. Nukkepaketit alkaen 31 e. Perinnepehmolelut mohairkankaasta alkaen 35 e/hahmo. Opettajalta voi ostaa materiaalia. Opettaja lähettää kirjeen kurssista ennen kurssin alkua. \nOpettaja: Ruuhikorpi-Mäki Teija \nPaikkatilanne: Osallistujamaksimi 12\, kurssilla on tilaa. \nOpetuspaikka:  Opistotalo: Trappukamari\, Gallen-Kallelankatu 14\, 28100 Pori  \n\nPäivä ja kello: To: 10.00 – 13.00 \nSyyslukukausi: 19.9.2019 – 12.12.2019 (40 oppituntia) \nKurssimaksu: 44\,00 € \nIlmoittautuminen alkaa: 26.8.2019 9:30 (Ilmoittautumisen alkamiseen 13 päivää)
URL:https://nukkekamari.fi/tapahtuma/12848s-perinneleluja-nukke-tai-pehmolelu-porinseudun-kansalaisopisto/
END:VEVENT
BEGIN:VEVENT
DTSTART;VALUE=DATE:20190920
DTEND;VALUE=DATE:20190927
DTSTAMP:20260424T114104
CREATED:20190813T142114Z
LAST-MODIFIED:20190813T142114Z
UID:2098-1568937600-1569542399@nukkekamari.fi
SUMMARY:NUKKEKAMARI LOMALLA!
DESCRIPTION:
URL:https://nukkekamari.fi/tapahtuma/nukkekamari-lomalla-3/
END:VEVENT
BEGIN:VEVENT
DTSTART;TZID=Europe/Helsinki:20190927T170000
DTEND;TZID=Europe/Helsinki:20190927T201500
DTSTAMP:20260424T114104
CREATED:20190813T140012Z
LAST-MODIFIED:20190813T140012Z
UID:2062-1569603600-1569615300@nukkekamari.fi
SUMMARY:1104070 NUKKE-KURSSI RAUMAN KANSALAISOPISTO
DESCRIPTION:Tutustu antiikkinukkien ihmeelliseen maailmaan ja tee ikioma nukke. Voit valmistaa perinteisin menetelmin Martta-nuken\, Heubach-tehtaan luonnenuken tai leikittävän Sveitsin nuken. Opit hiomaan\, pohjustamaan ja maalaamaan nuken kasvot. Vartalo ommellaan kankaasta ja täytetään tiiviiksi. Kurssilla saat paljon tietoa nukkien historiasta ja eri aikakausien vaatetuksesta. Materiaaleista ja työvälineiden käytöstä 23 € maksu. Nukkepaketit alkaen 26 €. Kokoontumiset pe-su 27.-29.9. ja 11.-13.10. Ilmoittautuminen 20.9. mennessä materiaalitilausten vuoksi. Kurssilaisille lähetetään tietoa  kurssista ja materiaaleista. Lisätietoja www.nukkekamari.fi \nOpettaja: opettaja Teija Ruuhikorpi-Mäki \nPaikkatilanne: Osallistujamaksimi 14\, kurssilla on tilaa. \nOpetuspaikka:  Pyynpään opisto\, käsityö 1\, Vähäkinnontie 7\, 26100 RAUMA  \n\nPäivä ja kello: Pe: 17.00 – 20.15 La: 10.00 – 16.30 Su: 10.00 – 16.30 \nSyyslukukausi: 27.9.2019 – 13.10.2019 (40 oppituntia) \nKurssimaksu: 41\,00 € \nIlmoittautuminen alkaa: 28.8.2019 18:00 (Ilmoittautumisen alkamiseen 15 päivää)
URL:https://nukkekamari.fi/tapahtuma/1104070-nukke-kurssi-rauman-kansalaisopisto/
END:VEVENT
BEGIN:VEVENT
DTSTART;TZID=Europe/Helsinki:20190928T100000
DTEND;TZID=Europe/Helsinki:20190928T163000
DTSTAMP:20260424T114104
CREATED:20190813T140058Z
LAST-MODIFIED:20190813T140058Z
UID:2064-1569664800-1569688200@nukkekamari.fi
SUMMARY:1104070 NUKKE-KURSSI RAUMAN KANSALAISOPISTO
DESCRIPTION:Tutustu antiikkinukkien ihmeelliseen maailmaan ja tee ikioma nukke. Voit valmistaa perinteisin menetelmin Martta-nuken\, Heubach-tehtaan luonnenuken tai leikittävän Sveitsin nuken. Opit hiomaan\, pohjustamaan ja maalaamaan nuken kasvot. Vartalo ommellaan kankaasta ja täytetään tiiviiksi. Kurssilla saat paljon tietoa nukkien historiasta ja eri aikakausien vaatetuksesta. Materiaaleista ja työvälineiden käytöstä 23 € maksu. Nukkepaketit alkaen 26 €. Kokoontumiset pe-su 27.-29.9. ja 11.-13.10. Ilmoittautuminen 20.9. mennessä materiaalitilausten vuoksi. Kurssilaisille lähetetään tietoa  kurssista ja materiaaleista. Lisätietoja www.nukkekamari.fi \nOpettaja: opettaja Teija Ruuhikorpi-Mäki \nPaikkatilanne: Osallistujamaksimi 14\, kurssilla on tilaa. \nOpetuspaikka:  Pyynpään opisto\, käsityö 1\, Vähäkinnontie 7\, 26100 RAUMA  \n\nPäivä ja kello: Pe: 17.00 – 20.15 La: 10.00 – 16.30 Su: 10.00 – 16.30 \nSyyslukukausi: 27.9.2019 – 13.10.2019 (40 oppituntia) \nKurssimaksu: 41\,00 € \nIlmoittautuminen alkaa: 28.8.2019 18:00 (Ilmoittautumisen alkamiseen 15 päivää)
URL:https://nukkekamari.fi/tapahtuma/1104070-nukke-kurssi-rauman-kansalaisopisto-2/
END:VEVENT
BEGIN:VEVENT
DTSTART;TZID=Europe/Helsinki:20190929T100000
DTEND;TZID=Europe/Helsinki:20190929T163000
DTSTAMP:20260424T114104
CREATED:20190813T140124Z
LAST-MODIFIED:20190813T140124Z
UID:2066-1569751200-1569774600@nukkekamari.fi
SUMMARY:1104070 NUKKE-KURSSI RAUMAN KANSALAISOPISTO
DESCRIPTION:Tutustu antiikkinukkien ihmeelliseen maailmaan ja tee ikioma nukke. Voit valmistaa perinteisin menetelmin Martta-nuken\, Heubach-tehtaan luonnenuken tai leikittävän Sveitsin nuken. Opit hiomaan\, pohjustamaan ja maalaamaan nuken kasvot. Vartalo ommellaan kankaasta ja täytetään tiiviiksi. Kurssilla saat paljon tietoa nukkien historiasta ja eri aikakausien vaatetuksesta. Materiaaleista ja työvälineiden käytöstä 23 € maksu. Nukkepaketit alkaen 26 €. Kokoontumiset pe-su 27.-29.9. ja 11.-13.10. Ilmoittautuminen 20.9. mennessä materiaalitilausten vuoksi. Kurssilaisille lähetetään tietoa  kurssista ja materiaaleista. Lisätietoja www.nukkekamari.fi \nOpettaja: opettaja Teija Ruuhikorpi-Mäki \nPaikkatilanne: Osallistujamaksimi 14\, kurssilla on tilaa. \nOpetuspaikka:  Pyynpään opisto\, käsityö 1\, Vähäkinnontie 7\, 26100 RAUMA  \n\nPäivä ja kello: Pe: 17.00 – 20.15 La: 10.00 – 16.30 Su: 10.00 – 16.30 \nSyyslukukausi: 27.9.2019 – 13.10.2019 (40 oppituntia) \nKurssimaksu: 41\,00 € \nIlmoittautuminen alkaa: 28.8.2019 18:00 (Ilmoittautumisen alkamiseen 15 päivää)
URL:https://nukkekamari.fi/tapahtuma/1104070-nukke-kurssi-rauman-kansalaisopisto-3/
END:VEVENT
BEGIN:VEVENT
DTSTART;TZID=Europe/Helsinki:20190930T161500
DTEND;TZID=Europe/Helsinki:20190930T191500
DTSTAMP:20260424T114104
CREATED:20190813T134321Z
LAST-MODIFIED:20190813T134321Z
UID:2016-1569860100-1569870900@nukkekamari.fi
SUMMARY:12842S NUKKEKURSSI PORINSEUDUN KANSALAISOPISTO
DESCRIPTION:Oletko kiinnostunut uudesta harrastuksesta? Haluatko jatkaa mielenkiintoista harrastustasi? Tule tutustumaan antiikkinukkien ihmeelliseen maailmaan ja tekemään itse ikioma nukke. Voit valmistaa perinteisin menetelmin Martta-nuken\, Heubach-tehtaan luonnenuken\, nukkekodin nuken tai leikittävän Sveitsinnuken. Huom. Ei kokoontumista 23.9. *** Opit hiomaan\, pohjustamaan ja maalaamaan nuken kasvot. Vartalo ommellaan kankaasta ja täytetään tiiviiksi. Saat paljon tietoa nukkien historiasta ja eri aikakausien vaatetuksesta\, joita voi valmistaa ommellen\, neuloen tai virkaten. Materiaaleista ja työvälineiden käytöstä 23 e maksu. Nukkepaketit alkaen 31 e. Kurssilaisille lähetetään tietoa kurssista ja materiaaleista. \nOpettaja: Ruuhikorpi-Mäki Teija \nPaikkatilanne: Osallistujamaksimi 12\, kurssilla on tilaa. \nOpetuspaikka:  Opistotalo: Trappukamari\, Gallen-Kallelankatu 14\, 28100 Pori  \n\nPäivä ja kello: Ma: 16.15 – 19.15 \nSyyslukukausi: 16.9.2019 – 2.12.2019 (40 oppituntia) \nKurssimaksu: 44\,00 € \nIlmoittautuminen alkaa: 26.8.2019 9:30 (Ilmoittautumisen alkamiseen 13 päivää)
URL:https://nukkekamari.fi/tapahtuma/12842s-nukkekurssi-porinseudun-kansalaisopisto-2/
END:VEVENT
END:VCALENDAR