BEGIN:VCALENDAR
VERSION:2.0
PRODID:-//Nukkekamari - ECPv6.15.20//NONSGML v1.0//EN
CALSCALE:GREGORIAN
METHOD:PUBLISH
X-WR-CALNAME:Nukkekamari
X-ORIGINAL-URL:https://nukkekamari.fi
X-WR-CALDESC:Tapahtumat Nukkekamari
REFRESH-INTERVAL;VALUE=DURATION:PT1H
X-Robots-Tag:noindex
X-PUBLISHED-TTL:PT1H
BEGIN:VTIMEZONE
TZID:Europe/Helsinki
BEGIN:DAYLIGHT
TZOFFSETFROM:+0200
TZOFFSETTO:+0300
TZNAME:EEST
DTSTART:20180325T010000
END:DAYLIGHT
BEGIN:STANDARD
TZOFFSETFROM:+0300
TZOFFSETTO:+0200
TZNAME:EET
DTSTART:20181028T010000
END:STANDARD
BEGIN:DAYLIGHT
TZOFFSETFROM:+0200
TZOFFSETTO:+0300
TZNAME:EEST
DTSTART:20190331T010000
END:DAYLIGHT
BEGIN:STANDARD
TZOFFSETFROM:+0300
TZOFFSETTO:+0200
TZNAME:EET
DTSTART:20191027T010000
END:STANDARD
BEGIN:DAYLIGHT
TZOFFSETFROM:+0200
TZOFFSETTO:+0300
TZNAME:EEST
DTSTART:20200329T010000
END:DAYLIGHT
BEGIN:STANDARD
TZOFFSETFROM:+0300
TZOFFSETTO:+0200
TZNAME:EET
DTSTART:20201025T010000
END:STANDARD
END:VTIMEZONE
BEGIN:VEVENT
DTSTART;TZID=Europe/Helsinki:20190401T161500
DTEND;TZID=Europe/Helsinki:20190401T191500
DTSTAMP:20260424T192147
CREATED:20190224T161241Z
LAST-MODIFIED:20190224T161241Z
UID:1839-1554135300-1554146100@nukkekamari.fi
SUMMARY:12222K NUKKEKURSSI A PORIN SEUDUN KANSALAISOPISTO
DESCRIPTION:Oletko kiinnostunut uudesta harrastuksesta? Haluatko jatkaa mielenkiintoista harrastustasi? Tule tutustumaan antiikkinukkien ihmeelliseen maailmaan ja tekemään itse ikioma nukke. Voit valmistaa perinteisin menetelmin Martta-nuken\, Heubach-tehtaan luonnenuken\, nukkekodin nuken tai leikittävän Sveitsinnuken. Lisätietoa ja tarvittavat materiaalit netissä. *** Opit hiomaan\, pohjustamaan ja maalaamaan nuken kasvot. Vartalo ommellaan kankaasta ja täytetään tiiviiksi. Saat paljon tietoa nukkien historiasta ja eri aikakausien vaatetuksesta\, joita voi valmistaa ommellen\, neuloen tai virkaten. Materiaaleista ja työvälineiden käytöstä 23 e maksu. Nukkepaketit alkaen 31 e. Kurssilaisille lähetetään tietoa kurssista ja materiaaleista. \nOpettaja: Ruuhikorpi-Mäki Teija \nPaikkatilanne: Osallistujamaksimi 12\, kurssi on täynnä\, voit ilmoittautua varalle. \nOpetuspaikka:  Opistotalo: Trappukamari\, Gallen-Kallelankatu 14\, 28100 Pori  \n\nPäivä ja kello: Ma: 16.15 – 19.15 \nKevätlukukausi: 28.1.2019 – 8.4.2019 (40 oppituntia) \nKurssimaksu: 40\,00 € \nIlmoittautuminen alkaa: 9.1.2019 9:30:00
URL:https://nukkekamari.fi/tapahtuma/12222k-nukkekurssi-a-porin-seudun-kansalaisopisto-9/
END:VEVENT
BEGIN:VEVENT
DTSTART;TZID=Europe/Helsinki:20190403T091500
DTEND;TZID=Europe/Helsinki:20190403T121500
DTSTAMP:20260424T192147
CREATED:20190224T161545Z
LAST-MODIFIED:20190224T161545Z
UID:1844-1554282900-1554293700@nukkekamari.fi
SUMMARY:12234K NALLEKAHVILA PORIN SEUDUNKANSALAISOPISTO
DESCRIPTION:Opit valmistamaan aidon antiikkinallen tai perinnelelun mohairkankaasta: koira\, kettu\, kissa tai kani ja pupu pääsiäispöydän koristeeksi. Työ ommellaan käsin. Lisätietoa ja tarvittavat materiaalit netissä. *** Pahvinivelet saavat lelut liikuttamaan kaikkia jäseniä ja käsin puhalletut lasisilmät saavat lelut elämään. Täytemateriaalina käytetään ekokuitua. Perinnelelun voi valmistaa vaikka lahjaksi. Opettajalta voi ostaa materiaalia. Materiaaleista eri maksu\, alkaen 35 e / hahmo. Ota mukaan: sakset\, nuppineulat\, merkitsemisvälineet (tussi)\, silmäneula ja nahkaneula. \nOpettaja: Ruuhikorpi-Mäki Teija \nPaikkatilanne: Osallistujamaksimi 12\, kurssi on täynnä\, voit ilmoittautua varalle. \nOpetuspaikka:  Opistotalo: Trappukamari\, Gallen-Kallelankatu 14\, 28100 Pori  \n\nPäivä ja kello: Ke: 09.15 – 12.15 \nKevätlukukausi: 30.1.2019 – 10.4.2019 (40 oppituntia) \nKurssimaksu: 40\,00 € \nIlmoittautuminen alkaa: 9.1.2019 9:30:00
URL:https://nukkekamari.fi/tapahtuma/12234k-nallekahvila-porin-seudunkansalaisopisto-6/
END:VEVENT
BEGIN:VEVENT
DTSTART;TZID=Europe/Helsinki:20190405T163000
DTEND;TZID=Europe/Helsinki:20190405T204500
DTSTAMP:20260424T192147
CREATED:20190224T161758Z
LAST-MODIFIED:20190224T161758Z
UID:1848-1554481800-1554497100@nukkekamari.fi
SUMMARY:1104025 PERINNELELUT RAUMAN KANSALAISOPISTO
DESCRIPTION:Opit valmistamaan aidon pyörillä olevan\, vedettävän antiikkinallen tai perinnelelun mohairkankaasta: kissa\, kettu\, koira tai kani. Työ ommellaan käsin. Pahvinivelet saavat lelut liikuttamaan kaikkia jäseniä ja käsin puhalletut lasisilmät saavat lelut elämään. Täytemateriaalina käytetään ekokuitua. Opettajalta voi ostaa materiaalia. Materiaaleista eri maksu\, alkaen 35€/hahmo. \nIlmoittautuminen alkaa: 3.1.2019 18:00:00 \nOpettaja: opettaja Teija Ruuhikorpi-Mäki \nPaikkatilanne: Osallistujamaksimi 14\, kurssilla on tilaa. \nOpetuspaikka: Opistotalo\, 310 \,  Aittakarinkatu 10\, 26100 RAUMA  \n\nPäivä ja kello: Ke: 17.00-20.15 Pe: 16.30-20.45 La: 10.00-16.30 Su: 10.00-16.30 \nKevätlukukausi: 5.4.2019 – 10.4.2019 \nKurssimaksu: 31\,00 €
URL:https://nukkekamari.fi/tapahtuma/1104025-perinnelelut-rauman-kansalaisopisto/
END:VEVENT
BEGIN:VEVENT
DTSTART;TZID=Europe/Helsinki:20190406T100000
DTEND;TZID=Europe/Helsinki:20190406T163000
DTSTAMP:20260424T192147
CREATED:20190224T161825Z
LAST-MODIFIED:20190224T161825Z
UID:1850-1554544800-1554568200@nukkekamari.fi
SUMMARY:1104025 PERINNELELUT RAUMAN KANSALAISOPISTO
DESCRIPTION:Opit valmistamaan aidon pyörillä olevan\, vedettävän antiikkinallen tai perinnelelun mohairkankaasta: kissa\, kettu\, koira tai kani. Työ ommellaan käsin. Pahvinivelet saavat lelut liikuttamaan kaikkia jäseniä ja käsin puhalletut lasisilmät saavat lelut elämään. Täytemateriaalina käytetään ekokuitua. Opettajalta voi ostaa materiaalia. Materiaaleista eri maksu\, alkaen 35€/hahmo. \nIlmoittautuminen alkaa: 3.1.2019 18:00:00 \nOpettaja: opettaja Teija Ruuhikorpi-Mäki \nPaikkatilanne: Osallistujamaksimi 14\, kurssilla on tilaa. \nOpetuspaikka: Opistotalo\, 310 \,  Aittakarinkatu 10\, 26100 RAUMA  \n\nPäivä ja kello: Ke: 17.00-20.15 Pe: 16.30-20.45 La: 10.00-16.30 Su: 10.00-16.30 \nKevätlukukausi: 5.4.2019 – 10.4.2019 \nKurssimaksu: 31\,00 €
URL:https://nukkekamari.fi/tapahtuma/1104025-perinnelelut-rauman-kansalaisopisto-2/
END:VEVENT
BEGIN:VEVENT
DTSTART;TZID=Europe/Helsinki:20190407T100000
DTEND;TZID=Europe/Helsinki:20190407T163000
DTSTAMP:20260424T192147
CREATED:20190224T161853Z
LAST-MODIFIED:20190224T161853Z
UID:1852-1554631200-1554654600@nukkekamari.fi
SUMMARY:1104025 PERINNELELUT RAUMAN KANSALAISOPISTO
DESCRIPTION:Opit valmistamaan aidon pyörillä olevan\, vedettävän antiikkinallen tai perinnelelun mohairkankaasta: kissa\, kettu\, koira tai kani. Työ ommellaan käsin. Pahvinivelet saavat lelut liikuttamaan kaikkia jäseniä ja käsin puhalletut lasisilmät saavat lelut elämään. Täytemateriaalina käytetään ekokuitua. Opettajalta voi ostaa materiaalia. Materiaaleista eri maksu\, alkaen 35€/hahmo. \nIlmoittautuminen alkaa: 3.1.2019 18:00:00 \nOpettaja: opettaja Teija Ruuhikorpi-Mäki \nPaikkatilanne: Osallistujamaksimi 14\, kurssilla on tilaa. \nOpetuspaikka: Opistotalo\, 310 \,  Aittakarinkatu 10\, 26100 RAUMA  \n\nPäivä ja kello: Ke: 17.00-20.15 Pe: 16.30-20.45 La: 10.00-16.30 Su: 10.00-16.30 \nKevätlukukausi: 5.4.2019 – 10.4.2019 \nKurssimaksu: 31\,00 €
URL:https://nukkekamari.fi/tapahtuma/1104025-perinnelelut-rauman-kansalaisopisto-3/
END:VEVENT
BEGIN:VEVENT
DTSTART;TZID=Europe/Helsinki:20190408T161500
DTEND;TZID=Europe/Helsinki:20190408T191500
DTSTAMP:20260424T192147
CREATED:20190224T161325Z
LAST-MODIFIED:20190224T161449Z
UID:1841-1554740100-1554750900@nukkekamari.fi
SUMMARY:12222K NUKKEKURSSI A PORIN SEUDUN KANSALAISOPISTO
DESCRIPTION:Oletko kiinnostunut uudesta harrastuksesta? Haluatko jatkaa mielenkiintoista harrastustasi? Tule tutustumaan antiikkinukkien ihmeelliseen maailmaan ja tekemään itse ikioma nukke. Voit valmistaa perinteisin menetelmin Martta-nuken\, Heubach-tehtaan luonnenuken\, nukkekodin nuken tai leikittävän Sveitsinnuken. Lisätietoa ja tarvittavat materiaalit netissä. *** Opit hiomaan\, pohjustamaan ja maalaamaan nuken kasvot. Vartalo ommellaan kankaasta ja täytetään tiiviiksi. Saat paljon tietoa nukkien historiasta ja eri aikakausien vaatetuksesta\, joita voi valmistaa ommellen\, neuloen tai virkaten. Materiaaleista ja työvälineiden käytöstä 23 e maksu. Nukkepaketit alkaen 31 e. Kurssilaisille lähetetään tietoa kurssista ja materiaaleista. \nOpettaja: Ruuhikorpi-Mäki Teija \nPaikkatilanne: Osallistujamaksimi 12\, kurssi on täynnä\, voit ilmoittautua varalle. \nOpetuspaikka:  Opistotalo: Trappukamari\, Gallen-Kallelankatu 14\, 28100 Pori  \n\nPäivä ja kello: Ma: 16.15 – 19.15 \nKevätlukukausi: 28.1.2019 – 8.4.2019 (40 oppituntia) \nKurssimaksu: 40\,00 € \nIlmoittautuminen alkaa: 9.1.2019 9:30:00
URL:https://nukkekamari.fi/tapahtuma/12222k-nukkekurssi-a-porin-seudun-kansalaisopisto-10/
END:VEVENT
BEGIN:VEVENT
DTSTART;TZID=Europe/Helsinki:20190410T091500
DTEND;TZID=Europe/Helsinki:20190410T121500
DTSTAMP:20260424T192147
CREATED:20190224T161626Z
LAST-MODIFIED:20190224T161626Z
UID:1846-1554887700-1554898500@nukkekamari.fi
SUMMARY:12234K NALLEKAHVILA PORIN SEUDUNKANSALAISOPISTO
DESCRIPTION:Opit valmistamaan aidon antiikkinallen tai perinnelelun mohairkankaasta: koira\, kettu\, kissa tai kani ja pupu pääsiäispöydän koristeeksi. Työ ommellaan käsin. Lisätietoa ja tarvittavat materiaalit netissä. *** Pahvinivelet saavat lelut liikuttamaan kaikkia jäseniä ja käsin puhalletut lasisilmät saavat lelut elämään. Täytemateriaalina käytetään ekokuitua. Perinnelelun voi valmistaa vaikka lahjaksi. Opettajalta voi ostaa materiaalia. Materiaaleista eri maksu\, alkaen 35 e / hahmo. Ota mukaan: sakset\, nuppineulat\, merkitsemisvälineet (tussi)\, silmäneula ja nahkaneula. \nOpettaja: Ruuhikorpi-Mäki Teija \nPaikkatilanne: Osallistujamaksimi 12\, kurssi on täynnä\, voit ilmoittautua varalle. \nOpetuspaikka:  Opistotalo: Trappukamari\, Gallen-Kallelankatu 14\, 28100 Pori  \n\nPäivä ja kello: Ke: 09.15 – 12.15 \nKevätlukukausi: 30.1.2019 – 10.4.2019 (40 oppituntia) \nKurssimaksu: 40\,00 € \nIlmoittautuminen alkaa: 9.1.2019 9:30:00
URL:https://nukkekamari.fi/tapahtuma/12234k-nallekahvila-porin-seudunkansalaisopisto-7/
END:VEVENT
BEGIN:VEVENT
DTSTART;TZID=Europe/Helsinki:20190410T170000
DTEND;TZID=Europe/Helsinki:20190410T201500
DTSTAMP:20260424T192147
CREATED:20190224T161926Z
LAST-MODIFIED:20190224T161926Z
UID:1854-1554915600-1554927300@nukkekamari.fi
SUMMARY:1104025 PERINNELELUT RAUMAN KANSALAISOPISTO
DESCRIPTION:Opit valmistamaan aidon pyörillä olevan\, vedettävän antiikkinallen tai perinnelelun mohairkankaasta: kissa\, kettu\, koira tai kani. Työ ommellaan käsin. Pahvinivelet saavat lelut liikuttamaan kaikkia jäseniä ja käsin puhalletut lasisilmät saavat lelut elämään. Täytemateriaalina käytetään ekokuitua. Opettajalta voi ostaa materiaalia. Materiaaleista eri maksu\, alkaen 35€/hahmo. \nIlmoittautuminen alkaa: 3.1.2019 18:00:00 \nOpettaja: opettaja Teija Ruuhikorpi-Mäki \nPaikkatilanne: Osallistujamaksimi 14\, kurssilla on tilaa. \nOpetuspaikka: Opistotalo\, 310 \,  Aittakarinkatu 10\, 26100 RAUMA  \n\nPäivä ja kello: Ke: 17.00-20.15 Pe: 16.30-20.45 La: 10.00-16.30 Su: 10.00-16.30 \nKevätlukukausi: 5.4.2019 – 10.4.2019 \nKurssimaksu: 31\,00 €
URL:https://nukkekamari.fi/tapahtuma/1104025-perinnelelut-rauman-kansalaisopisto-4/
END:VEVENT
BEGIN:VEVENT
DTSTART;TZID=Europe/Helsinki:20190417T091500
DTEND;TZID=Europe/Helsinki:20190417T121500
DTSTAMP:20260424T192147
CREATED:20190224T155343Z
LAST-MODIFIED:20190305T173410Z
UID:1804-1555492500-1555503300@nukkekamari.fi
SUMMARY:12234K NALLEKAHVILA PORIN SEUDUNKANSALAISOPISTO
DESCRIPTION:Opit valmistamaan aidon antiikkinallen tai perinnelelun mohairkankaasta: koira\, kettu\, kissa tai kani ja pupu pääsiäispöydän koristeeksi. Työ ommellaan käsin. Lisätietoa ja tarvittavat materiaalit netissä. *** Pahvinivelet saavat lelut liikuttamaan kaikkia jäseniä ja käsin puhalletut lasisilmät saavat lelut elämään. Täytemateriaalina käytetään ekokuitua. Perinnelelun voi valmistaa vaikka lahjaksi. Opettajalta voi ostaa materiaalia. Materiaaleista eri maksu\, alkaen 35 e / hahmo. Ota mukaan: sakset\, nuppineulat\, merkitsemisvälineet (tussi)\, silmäneula ja nahkaneula. \nOpettaja: Ruuhikorpi-Mäki Teija \nPaikkatilanne: Osallistujamaksimi 12\, kurssi on täynnä\, voit ilmoittautua varalle. \nOpetuspaikka:  Opistotalo: Trappukamari\, Gallen-Kallelankatu 14\, 28100 Pori  \n\nPäivä ja kello: Ke: 09.15 – 12.15 \nKevätlukukausi: 30.1.2019 – 10.4.2019 (40 oppituntia) \nKurssimaksu: 40\,00 € \nIlmoittautuminen alkaa: 9.1.2019 9:30:00
URL:https://nukkekamari.fi/tapahtuma/12234k-nallekahvila-porin-seudunkansalaisopisto-2/
END:VEVENT
END:VCALENDAR