BEGIN:VCALENDAR
VERSION:2.0
PRODID:-//Nukkekamari - ECPv6.15.20//NONSGML v1.0//EN
CALSCALE:GREGORIAN
METHOD:PUBLISH
X-WR-CALNAME:Nukkekamari
X-ORIGINAL-URL:https://nukkekamari.fi
X-WR-CALDESC:Tapahtumat Nukkekamari
REFRESH-INTERVAL;VALUE=DURATION:PT1H
X-Robots-Tag:noindex
X-PUBLISHED-TTL:PT1H
BEGIN:VTIMEZONE
TZID:Europe/Helsinki
BEGIN:DAYLIGHT
TZOFFSETFROM:+0200
TZOFFSETTO:+0300
TZNAME:EEST
DTSTART:20180325T010000
END:DAYLIGHT
BEGIN:STANDARD
TZOFFSETFROM:+0300
TZOFFSETTO:+0200
TZNAME:EET
DTSTART:20181028T010000
END:STANDARD
BEGIN:DAYLIGHT
TZOFFSETFROM:+0200
TZOFFSETTO:+0300
TZNAME:EEST
DTSTART:20190331T010000
END:DAYLIGHT
BEGIN:STANDARD
TZOFFSETFROM:+0300
TZOFFSETTO:+0200
TZNAME:EET
DTSTART:20191027T010000
END:STANDARD
BEGIN:DAYLIGHT
TZOFFSETFROM:+0200
TZOFFSETTO:+0300
TZNAME:EEST
DTSTART:20200329T010000
END:DAYLIGHT
BEGIN:STANDARD
TZOFFSETFROM:+0300
TZOFFSETTO:+0200
TZNAME:EET
DTSTART:20201025T010000
END:STANDARD
END:VTIMEZONE
BEGIN:VEVENT
DTSTART;TZID=Europe/Helsinki:20190125T163000
DTEND;TZID=Europe/Helsinki:20190125T201500
DTSTAMP:20260425T000215
CREATED:20190110T172425Z
LAST-MODIFIED:20190110T172425Z
UID:1740-1548433800-1548447300@nukkekamari.fi
SUMMARY:110406 Perinnenukke tai pehmolelu Huittisten seudun kansalaisopisto\, Eura
DESCRIPTION:Valmistetaan perinteinen Martta-nukke tai perinnepehmo. Opettaja tuo tarvittavat materiaalit ja työvälineet. Materiaalimaksu 23-35€. Opettaja lähettää kurssilaisille kirjeen ennen kurssin alkua. Kurssipäivät: pe 25.1. klo 16.30-20.15\, la-su 26.-27.1. klo 10.00-16.30 ja pe 8.2. klo 16.30-20.15\, la-su 9.-10.2. klo 10-16.30 \nhttps://www.opistopalvelut.fi/huittinen/course.php?l=fi&t=7835
URL:https://nukkekamari.fi/tapahtuma/110406-perinnenukke-tai-pehmolelu-huittisten-seudun-kansalaisopisto-eura/
END:VEVENT
BEGIN:VEVENT
DTSTART;TZID=Europe/Helsinki:20190126T100000
DTEND;TZID=Europe/Helsinki:20190126T163000
DTSTAMP:20260425T000215
CREATED:20190110T172513Z
LAST-MODIFIED:20190110T172513Z
UID:1742-1548496800-1548520200@nukkekamari.fi
SUMMARY:110406 Perinnenukke tai pehmolelu Huittisten seudun kansalaisopisto\, Eura
DESCRIPTION:Valmistetaan perinteinen Martta-nukke tai perinnepehmo. Opettaja tuo tarvittavat materiaalit ja työvälineet. Materiaalimaksu 23-35€. Opettaja lähettää kurssilaisille kirjeen ennen kurssin alkua. Kurssipäivät: pe 25.1. klo 16.30-20.15\, la-su 26.-27.1. klo 10.00-16.30 ja pe 8.2. klo 16.30-20.15\, la-su 9.-10.2. klo 10-16.30 \nhttps://www.opistopalvelut.fi/huittinen/course.php?l=fi&t=7835
URL:https://nukkekamari.fi/tapahtuma/110406-perinnenukke-tai-pehmolelu-huittisten-seudun-kansalaisopisto-eura-2/
END:VEVENT
BEGIN:VEVENT
DTSTART;TZID=Europe/Helsinki:20190127T100000
DTEND;TZID=Europe/Helsinki:20190127T163000
DTSTAMP:20260425T000215
CREATED:20190110T172614Z
LAST-MODIFIED:20190110T172614Z
UID:1745-1548583200-1548606600@nukkekamari.fi
SUMMARY:110406 Perinnenukke tai pehmolelu Huittisten seudun kansalaisopisto\, Eura
DESCRIPTION:Valmistetaan perinteinen Martta-nukke tai perinnepehmo. Opettaja tuo tarvittavat materiaalit ja työvälineet. Materiaalimaksu 23-35€. Opettaja lähettää kurssilaisille kirjeen ennen kurssin alkua. Kurssipäivät: pe 25.1. klo 16.30-20.15\, la-su 26.-27.1. klo 10.00-16.30 ja pe 8.2. klo 16.30-20.15\, la-su 9.-10.2. klo 10-16.30 \nhttps://www.opistopalvelut.fi/huittinen/course.php?l=fi&t=7835
URL:https://nukkekamari.fi/tapahtuma/110406-perinnenukke-tai-pehmolelu-huittisten-seudun-kansalaisopisto-eura-3/
END:VEVENT
BEGIN:VEVENT
DTSTART;TZID=Europe/Helsinki:20190128T161500
DTEND;TZID=Europe/Helsinki:20190128T191500
DTSTAMP:20260425T000215
CREATED:20190110T171529Z
LAST-MODIFIED:20190110T171529Z
UID:1730-1548692100-1548702900@nukkekamari.fi
SUMMARY:12222K Nukkekurssi A Porin seudun kansalaisopisto
DESCRIPTION:Oletko kiinnostunut uudesta harrastuksesta? Haluatko jatkaa mielenkiintoista harrastustasi? Tule tutustumaan antiikkinukkien ihmeelliseen maailmaan ja tekemään itse ikioma nukke. Voit valmistaa perinteisin menetelmin Martta-nuken\, Heubach-tehtaan luonnenuken\, nukkekodin nuken tai leikittävän Sveitsinnuken. Lisätietoa ja tarvittavat materiaalit netissä. *** Opit hiomaan\, pohjustamaan ja maalaamaan nuken kasvot. Vartalo ommellaan kankaasta ja täytetään tiiviiksi. Saat paljon tietoa nukkien historiasta ja eri aikakausien vaatetuksesta\, joita voi valmistaa ommellen\, neuloen tai virkaten. Materiaaleista ja työvälineiden käytöstä 23 e maksu. Nukkepaketit alkaen 31 e. Kurssilaisille lähetetään tietoa kurssista ja materiaaleista. \nhttps://opistopalvelut.fi/pori/course.php?l=fi&t=9559
URL:https://nukkekamari.fi/tapahtuma/12222k-nukkekurssi-a-porin-seudun-kansalaisopisto/
END:VEVENT
BEGIN:VEVENT
DTSTART;TZID=Europe/Helsinki:20190130T091500
DTEND;TZID=Europe/Helsinki:20190130T121500
DTSTAMP:20260425T000215
CREATED:20190103T195249Z
LAST-MODIFIED:20190103T195622Z
UID:1718-1548839700-1548850500@nukkekamari.fi
SUMMARY:Nallekahvila\, Porin seudun kansalaisopisto
DESCRIPTION:12234K NALLEKAHVILA\n\nOpit valmistamaan aidon antiikkinallen tai perinnelelun mohairkankaasta: koira\, kettu\, kissa tai kani ja pupu pääsiäispöydän koristeeksi. Työ ommellaan käsin. Lisätietoa ja tarvittavat materiaalit netissä. *** Pahvinivelet saavat lelut liikuttamaan kaikkia jäseniä ja käsin puhalletut lasisilmät saavat lelut elämään. Täytemateriaalina käytetään ekokuitua. Perinnelelun voi valmistaa vaikka lahjaksi. Opettajalta voi ostaa materiaalia. Materiaaleista eri maksu\, alkaen 35 e / hahmo.Opettaja: Ruuhikorpi-Mäki Teija \nPaikkatilanne: Osallistujamaksimi 12\, kurssilla on tilaa. \nOpetuspaikka:  Opistotalo: Trappukamari\, Gallen-Kallelankatu 14\, 28100 Pori  \n\nPäivä ja kello: Ke: 09.15 – 12.15 \nKevätlukukausi: 30.1.2019 – 10.4.2019 (40 oppituntia) \nKurssimaksu: 40\,00 € \nIlmoittautuminen alkaa: 9.1.2019 9:30:00 (Ilmoittautumisen alkamiseen 6 päivää)
URL:https://nukkekamari.fi/tapahtuma/nallekahvila-porin-seudun-kansalaisopisto/
LOCATION:Porin seudun kansalaisopisto\, Gallen-Kallelankatu 14\, Pori\, 28100\, Suomi
END:VEVENT
END:VCALENDAR