BEGIN:VCALENDAR
VERSION:2.0
PRODID:-//Nukkekamari - ECPv6.15.20//NONSGML v1.0//EN
CALSCALE:GREGORIAN
METHOD:PUBLISH
X-WR-CALNAME:Nukkekamari
X-ORIGINAL-URL:https://nukkekamari.fi
X-WR-CALDESC:Tapahtumat Nukkekamari
REFRESH-INTERVAL;VALUE=DURATION:PT1H
X-Robots-Tag:noindex
X-PUBLISHED-TTL:PT1H
BEGIN:VTIMEZONE
TZID:Europe/Helsinki
BEGIN:DAYLIGHT
TZOFFSETFROM:+0200
TZOFFSETTO:+0300
TZNAME:EEST
DTSTART:20170326T010000
END:DAYLIGHT
BEGIN:STANDARD
TZOFFSETFROM:+0300
TZOFFSETTO:+0200
TZNAME:EET
DTSTART:20171029T010000
END:STANDARD
BEGIN:DAYLIGHT
TZOFFSETFROM:+0200
TZOFFSETTO:+0300
TZNAME:EEST
DTSTART:20180325T010000
END:DAYLIGHT
BEGIN:STANDARD
TZOFFSETFROM:+0300
TZOFFSETTO:+0200
TZNAME:EET
DTSTART:20181028T010000
END:STANDARD
BEGIN:DAYLIGHT
TZOFFSETFROM:+0200
TZOFFSETTO:+0300
TZNAME:EEST
DTSTART:20190331T010000
END:DAYLIGHT
BEGIN:STANDARD
TZOFFSETFROM:+0300
TZOFFSETTO:+0200
TZNAME:EET
DTSTART:20191027T010000
END:STANDARD
END:VTIMEZONE
BEGIN:VEVENT
DTSTART;TZID=Europe/Helsinki:20181101T100000
DTEND;TZID=Europe/Helsinki:20181101T130000
DTSTAMP:20260425T034110
CREATED:20180812T123906Z
LAST-MODIFIED:20180812T123906Z
UID:1477-1541066400-1541077200@nukkekamari.fi
SUMMARY:Nukkekurssi B\, Pori seudun kansalaisopisto 13.9.-29.11.2018
DESCRIPTION:Nukkekurssi B\, Pori seudun kansalaisopisto 13.9.-29.11.2018 klo 10-13.
URL:https://nukkekamari.fi/tapahtuma/nukkekurssi-b-pori-seudun-kansalaisopisto-13-9-29-11-2018/
END:VEVENT
BEGIN:VEVENT
DTSTART;TZID=Europe/Helsinki:20181102T170000
DTEND;TZID=Europe/Helsinki:20181104T170000
DTSTAMP:20260425T034110
CREATED:20180724T123522Z
LAST-MODIFIED:20180812T130737Z
UID:1406-1541178000-1541350800@nukkekamari.fi
SUMMARY:Vanhan ajan tonttuja ja enkeleitä\, Sataopisto\, Eura 2.11.-4.11. ja 7.11.2018
DESCRIPTION:Vanhan ajan tonttuja ja enkeleitä\, Sataopisto\, Eura 2.11-4.11. ja 7.11.2018 \nhttps://www.opistopalvelut.fi/huittinen/course.php?l=fi&t=7541
URL:https://nukkekamari.fi/tapahtuma/vanhan-ajan-tonttuja-ja-enkeleita-sataopisto-eura/
END:VEVENT
BEGIN:VEVENT
DTSTART;TZID=Europe/Helsinki:20181105T161500
DTEND;TZID=Europe/Helsinki:20181105T191500
DTSTAMP:20260425T034110
CREATED:20180724T121605Z
LAST-MODIFIED:20180812T122549Z
UID:1355-1541434500-1541445300@nukkekamari.fi
SUMMARY:Nukkekurssi A\, Porin seudun kansalaisopisto 10.9.-19.11.2018
DESCRIPTION:Nukkekurssi A\, Porin seudun kansalaisopisto  maanantaisin 10.9.-19.11.2018  klo 16.15-19.15.
URL:https://nukkekamari.fi/tapahtuma/nukkekurssi-a-porin-seudun-kansalaisopisto-9/
END:VEVENT
BEGIN:VEVENT
DTSTART;TZID=Europe/Helsinki:20181107T091500
DTEND;TZID=Europe/Helsinki:20181107T121500
DTSTAMP:20260425T034110
CREATED:20180812T121546Z
LAST-MODIFIED:20180812T121546Z
UID:1452-1541582100-1541592900@nukkekamari.fi
SUMMARY:Nallekahvila A Porin seudun kansalaisopisto keskiviikkoisin 12.9.-28.11.2018
DESCRIPTION:Nallekahvila A Porin seudun kansalaisopisto keskiviikkoisin 12.9.-28.11.2018
URL:https://nukkekamari.fi/tapahtuma/nallekahvila-a-porin-seudun-kansalaisopisto-keskiviikkoisin-12-9-28-11-2018-8/
END:VEVENT
BEGIN:VEVENT
DTSTART;TZID=Europe/Helsinki:20181107T170000
DTEND;TZID=Europe/Helsinki:20181107T200000
DTSTAMP:20260425T034110
CREATED:20180812T130816Z
LAST-MODIFIED:20180812T130845Z
UID:1508-1541610000-1541620800@nukkekamari.fi
SUMMARY:Vanhan ajan tonttuja ja enkeleitä\, Sataopisto\, Eura 2.11.-4.11. ja 7.11.2018
DESCRIPTION:Vanhan ajan tonttuja ja enkeleitä\, Sataopisto\, Eura 2.11.-4.11. ja 7.11.2018 \nhttps://www.opistopalvelut.fi/huittinen/course.php?l=fi&t=7541
URL:https://nukkekamari.fi/tapahtuma/vanhan-ajan-tonttuja-ja-enkeleita-sataopisto-eura-2-11-4-11-ja-7-11-2018/
END:VEVENT
BEGIN:VEVENT
DTSTART;TZID=Europe/Helsinki:20181108T100000
DTEND;TZID=Europe/Helsinki:20181108T130000
DTSTAMP:20260425T034110
CREATED:20180724T122227Z
LAST-MODIFIED:20180812T124025Z
UID:1377-1541671200-1541682000@nukkekamari.fi
SUMMARY:Nukkekurssi B\, Pori seudun kansalaisopisto 13.9.-29.11.2018
DESCRIPTION:Nukkekurssi B\, Pori seudun kansalaisopisto torstaisin 13.9.-29.11.2018 klo 10-13
URL:https://nukkekamari.fi/tapahtuma/nukkekurssi-b-pori-seudun-kansalaisopisto-9/
END:VEVENT
BEGIN:VEVENT
DTSTART;TZID=Europe/Helsinki:20181109T160000
DTEND;TZID=Europe/Helsinki:20181111T170000
DTSTAMP:20260425T034110
CREATED:20180724T123716Z
LAST-MODIFIED:20180812T131021Z
UID:1408-1541779200-1541955600@nukkekamari.fi
SUMMARY:Vanhan ajan tonttuja ja enkeleitä Rauman kansalaisopisto A 9.11.-11.11. ja 14.11.2018
DESCRIPTION:Vanhan ajan tonttuja ja enkeleitä Rauman kansalaisopisto A 9.11.-11.11. ja 14.11.2018 \nhttps://www.opistopalvelut.fi/rauma/course.php?l=fi&t=7640
URL:https://nukkekamari.fi/tapahtuma/vanhan-ajan-tonttuja-ja-enkeleita-rauman-kansalaisopisto-a-9-11-11-11-ja-14-11-2018/
END:VEVENT
BEGIN:VEVENT
DTSTART;TZID=Europe/Helsinki:20181112T161500
DTEND;TZID=Europe/Helsinki:20181112T191500
DTSTAMP:20260425T034110
CREATED:20180724T121652Z
LAST-MODIFIED:20180812T122619Z
UID:1357-1542039300-1542050100@nukkekamari.fi
SUMMARY:Nukkekurssi A\, Porin seudun kansalaisopisto 10.9.-19.11.2018
DESCRIPTION:Nukkekurssi A\, Porin seudun kansalaisopisto  maanantaisin 10.9.-19.11.2018  klo 16.15-19.15.
URL:https://nukkekamari.fi/tapahtuma/nukkekurssi-a-porin-seudun-kansalaisopisto-10/
END:VEVENT
BEGIN:VEVENT
DTSTART;TZID=Europe/Helsinki:20181114T080000
DTEND;TZID=Europe/Helsinki:20181114T170000
DTSTAMP:20260425T034110
CREATED:20180812T121841Z
LAST-MODIFIED:20180812T121841Z
UID:1458-1542182400-1542214800@nukkekamari.fi
SUMMARY:Nallekahvila A Porin seudun kansalaisopisto keskiviikkoisin Ei kokoontumista 14.11.2018
DESCRIPTION:Nallekahvila A Porin seudun kansalaisopisto keskiviikkoisin Ei kokoontumista 14.11.2018
URL:https://nukkekamari.fi/tapahtuma/nallekahvila-a-porin-seudun-kansalaisopisto-keskiviikkoisin-ei-kokoontumista-14-11-2018/
END:VEVENT
BEGIN:VEVENT
DTSTART;TZID=Europe/Helsinki:20181115T100000
DTEND;TZID=Europe/Helsinki:20181115T130000
DTSTAMP:20260425T034110
CREATED:20180724T122255Z
LAST-MODIFIED:20180812T124215Z
UID:1379-1542276000-1542286800@nukkekamari.fi
SUMMARY:Nukkekurssi B\, Pori seudun kansalaisopisto 13.9.-29.11.2018 Ei kokoontumista 15.11.2018!
DESCRIPTION:Nukkekurssi B\, Pori seudun kansalaisopisto torstaisin 13.9.-29.11.2018 klo 10-13 Ei kokoontumista 15.11.2018.
URL:https://nukkekamari.fi/tapahtuma/nukkekurssi-b-pori-seudun-kansalaisopisto-10/
END:VEVENT
BEGIN:VEVENT
DTSTART;TZID=Europe/Helsinki:20181119T161500
DTEND;TZID=Europe/Helsinki:20181119T191500
DTSTAMP:20260425T034110
CREATED:20180724T121741Z
LAST-MODIFIED:20180812T122641Z
UID:1359-1542644100-1542654900@nukkekamari.fi
SUMMARY:Nukkekurssi A\, Porin seudun kansalaisopisto 10.9.-19.11.2018
DESCRIPTION:Nukkekurssi A\, Porin seudun kansalaisopisto  maanantaisin 10.9.-19.11.2018  klo 16.15-19.15.
URL:https://nukkekamari.fi/tapahtuma/nukkekurssi-a-porin-seudun-kansalaisopisto-11/
END:VEVENT
BEGIN:VEVENT
DTSTART;TZID=Europe/Helsinki:20181121T091500
DTEND;TZID=Europe/Helsinki:20181121T121500
DTSTAMP:20260425T034110
CREATED:20180812T121634Z
LAST-MODIFIED:20180812T121634Z
UID:1454-1542791700-1542802500@nukkekamari.fi
SUMMARY:Nallekahvila A Porin seudun kansalaisopisto keskiviikkoisin 12.9.-28.11.2018
DESCRIPTION:Nallekahvila A Porin seudun kansalaisopisto keskiviikkoisin 12.9.-28.11.2018
URL:https://nukkekamari.fi/tapahtuma/nallekahvila-a-porin-seudun-kansalaisopisto-keskiviikkoisin-12-9-28-11-2018-9/
END:VEVENT
BEGIN:VEVENT
DTSTART;TZID=Europe/Helsinki:20181122T100000
DTEND;TZID=Europe/Helsinki:20181122T130000
DTSTAMP:20260425T034110
CREATED:20180724T122321Z
LAST-MODIFIED:20180812T124243Z
UID:1381-1542880800-1542891600@nukkekamari.fi
SUMMARY:Nukkekurssi B\, Pori seudun kansalaisopisto 13.9.-29.11.2018
DESCRIPTION:Nukkekurssi B\, Pori seudun kansalaisopisto torstaisin 13.9.-29.11.2018 klo 10-13
URL:https://nukkekamari.fi/tapahtuma/nukkekurssi-b-pori-seudun-kansalaisopisto-11/
END:VEVENT
BEGIN:VEVENT
DTSTART;TZID=Europe/Helsinki:20181123T160000
DTEND;TZID=Europe/Helsinki:20181125T170000
DTSTAMP:20260425T034110
CREATED:20180724T123755Z
LAST-MODIFIED:20180812T131135Z
UID:1410-1542988800-1543165200@nukkekamari.fi
SUMMARY:Vanhan ajan tonttuja ja enkeleitä Rauman kansalaisopisto B 23.11.-25.11. ja 28.11.2018
DESCRIPTION:Vanhan ajan tonttuja ja enkeleitä Rauman kansalaisopisto B 23.11.-25.11. ja 28.11.2018
URL:https://nukkekamari.fi/tapahtuma/vanhan-ajan-tonttuja-ja-enkeleita-rauman-kansalaisopisto-b-23-11-25-11-ja-28-11-2018/
END:VEVENT
BEGIN:VEVENT
DTSTART;TZID=Europe/Helsinki:20181128T091500
DTEND;TZID=Europe/Helsinki:20181128T121500
DTSTAMP:20260425T034110
CREATED:20180812T121714Z
LAST-MODIFIED:20180812T121714Z
UID:1456-1543396500-1543407300@nukkekamari.fi
SUMMARY:Nallekahvila A Porin seudun kansalaisopisto keskiviikkoisin 12.9.-28.11.2018
DESCRIPTION:Nallekahvila A Porin seudun kansalaisopisto keskiviikkoisin 12.9.-28.11.2018
URL:https://nukkekamari.fi/tapahtuma/nallekahvila-a-porin-seudun-kansalaisopisto-keskiviikkoisin-12-9-28-11-2018-10/
END:VEVENT
BEGIN:VEVENT
DTSTART;TZID=Europe/Helsinki:20181129T100000
DTEND;TZID=Europe/Helsinki:20181129T130000
DTSTAMP:20260425T034110
CREATED:20180724T122346Z
LAST-MODIFIED:20180812T124255Z
UID:1383-1543485600-1543496400@nukkekamari.fi
SUMMARY:Nukkekurssi B\, Pori seudun kansalaisopisto 13.9.-29.11.2018
DESCRIPTION:Nukkekurssi B\, Pori seudun kansalaisopisto torstaisin 13.9.-29.11.2018 klo 10-13
URL:https://nukkekamari.fi/tapahtuma/nukkekurssi-b-pori-seudun-kansalaisopisto-12/
END:VEVENT
BEGIN:VEVENT
DTSTART;TZID=Europe/Helsinki:20181130T170000
DTEND;TZID=Europe/Helsinki:20181202T170000
DTSTAMP:20260425T034110
CREATED:20180724T123833Z
LAST-MODIFIED:20180812T131412Z
UID:1412-1543597200-1543770000@nukkekamari.fi
SUMMARY:Vanhan ajan tonttuja ja enkeleitä \, Vakkaopisto 30.11.-2.12. ja 4.12.2018
DESCRIPTION:https://opistopalvelut.fi/vakkaopisto/course.php?l=fi&t=8143Vanhan ajan tonttuja ja enkeleitä \, Vakkaopisto 30.11.-2.12.2018
URL:https://nukkekamari.fi/tapahtuma/vanhan-ajan-tonttuja-ja-enkeleita-vakkaopisto-30-11-2-12-2018/
END:VEVENT
END:VCALENDAR