BEGIN:VCALENDAR
VERSION:2.0
PRODID:-//Nukkekamari - ECPv6.15.20//NONSGML v1.0//EN
CALSCALE:GREGORIAN
METHOD:PUBLISH
X-ORIGINAL-URL:https://nukkekamari.fi
X-WR-CALDESC:Tapahtumat Nukkekamari
REFRESH-INTERVAL;VALUE=DURATION:PT1H
X-Robots-Tag:noindex
X-PUBLISHED-TTL:PT1H
BEGIN:VTIMEZONE
TZID:Europe/Helsinki
BEGIN:DAYLIGHT
TZOFFSETFROM:+0200
TZOFFSETTO:+0300
TZNAME:EEST
DTSTART:20170326T010000
END:DAYLIGHT
BEGIN:STANDARD
TZOFFSETFROM:+0300
TZOFFSETTO:+0200
TZNAME:EET
DTSTART:20171029T010000
END:STANDARD
BEGIN:DAYLIGHT
TZOFFSETFROM:+0200
TZOFFSETTO:+0300
TZNAME:EEST
DTSTART:20180325T010000
END:DAYLIGHT
BEGIN:STANDARD
TZOFFSETFROM:+0300
TZOFFSETTO:+0200
TZNAME:EET
DTSTART:20181028T010000
END:STANDARD
BEGIN:DAYLIGHT
TZOFFSETFROM:+0200
TZOFFSETTO:+0300
TZNAME:EEST
DTSTART:20190331T010000
END:DAYLIGHT
BEGIN:STANDARD
TZOFFSETFROM:+0300
TZOFFSETTO:+0200
TZNAME:EET
DTSTART:20191027T010000
END:STANDARD
END:VTIMEZONE
BEGIN:VEVENT
DTSTART;TZID=Europe/Helsinki:20181001T161500
DTEND;TZID=Europe/Helsinki:20181001T191500
DTSTAMP:20260425T052509
CREATED:20180724T121159Z
LAST-MODIFIED:20180812T122326Z
UID:1345-1538410500-1538421300@nukkekamari.fi
SUMMARY:Nukkekurssi A\, Porin seudun kansalaisopisto 10.9.-19.11.2018
DESCRIPTION:Nukkekurssi A\, Porin seudun kansalaisopisto maanantaisin 10.9.-19.11.2018  klo 16.15-19.15.
URL:https://nukkekamari.fi/tapahtuma/nukkekurssi-a-porin-seudun-kansalaisopisto-4/
END:VEVENT
BEGIN:VEVENT
DTSTART;TZID=Europe/Helsinki:20181002T100000
DTEND;TZID=Europe/Helsinki:20181002T163000
DTSTAMP:20260425T052509
CREATED:20180724T122922Z
LAST-MODIFIED:20180812T130118Z
UID:1398-1538474400-1538497800@nukkekamari.fi
SUMMARY:Vanhan ajan tonttuja ja enkeleitä A 2.10.\, 9.10. ja 16.10.2018 Porin seudun kansalaisopisto
DESCRIPTION:https://opistopalvelut.fi/pori/course.php?l=fi&t=6506Vanhan ajan tonttuja ja enkeleitä A Porin seudun kansalaisopisto tiistaisin 2.10.-16.10.2018\, klo 10-16.30
URL:https://nukkekamari.fi/tapahtuma/vanhan-ajan-tonttuja-ja-enkeleita-a/
END:VEVENT
BEGIN:VEVENT
DTSTART;TZID=Europe/Helsinki:20181003T091500
DTEND;TZID=Europe/Helsinki:20181003T121500
DTSTAMP:20260425T052509
CREATED:20180812T120742Z
LAST-MODIFIED:20180812T120742Z
UID:1442-1538558100-1538568900@nukkekamari.fi
SUMMARY:Nallekahvila A Porin seudun kansalaisopisto keskiviikkoisin 12.9.-28.11.2018
DESCRIPTION:Nallekahvila A Porin seudun kansalaisopisto keskiviikkoisin 12.9.-28.11.2018
URL:https://nukkekamari.fi/tapahtuma/nallekahvila-a-porin-seudun-kansalaisopisto-keskiviikkoisin-12-9-28-11-2018-4/
END:VEVENT
BEGIN:VEVENT
DTSTART;TZID=Europe/Helsinki:20181004T100000
DTEND;TZID=Europe/Helsinki:20181004T130000
DTSTAMP:20260425T052509
CREATED:20180724T122000Z
LAST-MODIFIED:20180812T123604Z
UID:1367-1538647200-1538658000@nukkekamari.fi
SUMMARY:Nukkekurssi B\, Pori seudun kansalaisopisto 13.9.-29.11.2018
DESCRIPTION:Nukkekurssi B\, Pori seudun kansalaisopisto torstaisin 13.9.-29.11.2018 klo 10-13
URL:https://nukkekamari.fi/tapahtuma/nukkekurssi-b-pori-seudun-kansalaisopisto-4/
END:VEVENT
BEGIN:VEVENT
DTSTART;TZID=Europe/Helsinki:20181005T170000
DTEND;TZID=Europe/Helsinki:20181005T201500
DTSTAMP:20260425T052509
CREATED:20180724T122722Z
LAST-MODIFIED:20180812T124443Z
UID:1392-1538758800-1538770500@nukkekamari.fi
SUMMARY:Nukkekurssi Rauman kansalaisopisto 21.9.-23.9. ja 5.10.-7.10.2018
DESCRIPTION:Nukkekurssi Rauman kansalaisopisto 21.9.-23.9. ja 5.10.-7.10.2018 pe klo 17-20.15\, la ja su klo 10-16.30
URL:https://nukkekamari.fi/tapahtuma/nukkekurssi-rauman-kansalaisopisto-4/
END:VEVENT
BEGIN:VEVENT
DTSTART;TZID=Europe/Helsinki:20181006T100000
DTEND;TZID=Europe/Helsinki:20181006T163000
DTSTAMP:20260425T052509
CREATED:20180724T122753Z
LAST-MODIFIED:20180812T124455Z
UID:1394-1538820000-1538843400@nukkekamari.fi
SUMMARY:Nukkekurssi Rauman kansalaisopisto 21.9.-23.9. ja 5.10.-7.10.2018
DESCRIPTION:Nukkekurssi Rauman kansalaisopisto 21.9.-23.9. ja 5.10.-7.10.2018 pe klo 17-20.15\, la ja su klo 10-16.30
URL:https://nukkekamari.fi/tapahtuma/nukkekurssi-rauman-kansalaisopisto-5/
END:VEVENT
BEGIN:VEVENT
DTSTART;TZID=Europe/Helsinki:20181007T100000
DTEND;TZID=Europe/Helsinki:20181007T163000
DTSTAMP:20260425T052509
CREATED:20180724T122822Z
LAST-MODIFIED:20180812T124503Z
UID:1396-1538906400-1538929800@nukkekamari.fi
SUMMARY:Nukkekurssi Rauman kansalaisopisto 21.9.-23.9. ja 5.10.-7.10.2018
DESCRIPTION:Nukkekurssi Rauman kansalaisopisto 21.9.-23.9. ja 5.10.-7.10.2018 pe klo 17-20.15\, la ja su klo 10-16.30
URL:https://nukkekamari.fi/tapahtuma/nukkekurssi-rauman-kansalaisopisto-6/
END:VEVENT
BEGIN:VEVENT
DTSTART;TZID=Europe/Helsinki:20181008T161500
DTEND;TZID=Europe/Helsinki:20181008T191500
DTSTAMP:20260425T052509
CREATED:20180724T121251Z
LAST-MODIFIED:20180812T122350Z
UID:1347-1539015300-1539026100@nukkekamari.fi
SUMMARY:Nukkekurssi A\, Porin seudun kansalaisopisto 10.9.-19.11.2018
DESCRIPTION:Nukkekurssi A\, Porin seudun kansalaisopisto  maanantaisin 10.9.-19.11.2018  klo 16.15-19.15.
URL:https://nukkekamari.fi/tapahtuma/nukkekurssi-a-porin-seudun-kansalaisopisto-5/
END:VEVENT
BEGIN:VEVENT
DTSTART;TZID=Europe/Helsinki:20181009T100000
DTEND;TZID=Europe/Helsinki:20181009T163000
DTSTAMP:20260425T052509
CREATED:20180724T122957Z
LAST-MODIFIED:20180812T130049Z
UID:1400-1539079200-1539102600@nukkekamari.fi
SUMMARY:Vanhan ajan tonttuja ja enkeleitä A 2.10.\, 9.10. ja 16.10.2018 Porin seudun kansalaisopisto
DESCRIPTION:https://opistopalvelut.fi/pori/course.php?l=fi&t=6506Vanhan ajan tonttuja ja enkeleitä A Porin seudun kansalaisopisto tiistaisin 2.10.-16.10.2018\, klo 10-16.30
URL:https://nukkekamari.fi/tapahtuma/vanhan-ajan-tonttuja-ja-enkeleita-a-2/
END:VEVENT
BEGIN:VEVENT
DTSTART;TZID=Europe/Helsinki:20181010T091500
DTEND;TZID=Europe/Helsinki:20181010T121500
DTSTAMP:20260425T052509
CREATED:20180812T120822Z
LAST-MODIFIED:20180812T120822Z
UID:1444-1539162900-1539173700@nukkekamari.fi
SUMMARY:Nallekahvila A Porin seudun kansalaisopisto keskiviikkoisin 12.9.-28.11.2018
DESCRIPTION:Nallekahvila A Porin seudun kansalaisopisto keskiviikkoisin 12.9.-28.11.2018
URL:https://nukkekamari.fi/tapahtuma/nallekahvila-a-porin-seudun-kansalaisopisto-keskiviikkoisin-12-9-28-11-2018-5/
END:VEVENT
BEGIN:VEVENT
DTSTART;TZID=Europe/Helsinki:20181011T100000
DTEND;TZID=Europe/Helsinki:20181011T130000
DTSTAMP:20260425T052509
CREATED:20180724T122026Z
LAST-MODIFIED:20180812T123629Z
UID:1369-1539252000-1539262800@nukkekamari.fi
SUMMARY:Nukkekurssi B\, Pori seudun kansalaisopisto 13.9.-29.11.2018
DESCRIPTION:Nukkekurssi B\, Pori seudun kansalaisopisto torstaisin 13.9.-29.11.2018 klo 10-13
URL:https://nukkekamari.fi/tapahtuma/nukkekurssi-b-pori-seudun-kansalaisopisto-5/
END:VEVENT
BEGIN:VEVENT
DTSTART;TZID=Europe/Helsinki:20181012T170000
DTEND;TZID=Europe/Helsinki:20181014T170000
DTSTAMP:20260425T052509
CREATED:20180724T123026Z
LAST-MODIFIED:20181003T162721Z
UID:1402-1539363600-1539536400@nukkekamari.fi
SUMMARY:Vanhan ajan tonttuja ja enkeleitä Sastamalan opisto\, Kiikoinen 12.10.-14.10.2018
DESCRIPTION:Vanhan ajan tonttuja ja enkeleitä Sastamalan opisto\, Kiikoinen 12.10.-14.10.2018
URL:https://nukkekamari.fi/tapahtuma/vanhan-ajan-tonttuja-ja-enkeleita-a-3/
END:VEVENT
BEGIN:VEVENT
DTSTART;TZID=Europe/Helsinki:20181015T161500
DTEND;TZID=Europe/Helsinki:20181015T191500
DTSTAMP:20260425T052509
CREATED:20180724T121333Z
LAST-MODIFIED:20180812T122418Z
UID:1349-1539620100-1539630900@nukkekamari.fi
SUMMARY:Nukkekurssi A\, Porin seudun kansalaisopisto 10.9.-19.11.2018
DESCRIPTION:Nukkekurssi A\, Porin seudun kansalaisopisto  maanantaisin 10.9.-19.11.2018  klo 16.15-19.15.
URL:https://nukkekamari.fi/tapahtuma/nukkekurssi-a-porin-seudun-kansalaisopisto-6/
END:VEVENT
BEGIN:VEVENT
DTSTART;TZID=Europe/Helsinki:20181016T100000
DTEND;TZID=Europe/Helsinki:20181016T163000
DTSTAMP:20260425T052509
CREATED:20180812T125946Z
LAST-MODIFIED:20180812T125946Z
UID:1500-1539684000-1539707400@nukkekamari.fi
SUMMARY:Vanhan ajan tonttuja ja enkeleitä A Porin seudun kansalaisopisto tiistaisin 2.10.-16.10.2018\, klo 10-16.30
DESCRIPTION:Vanhan ajan tonttuja ja enkeleitä A Porin seudun kansalaisopisto tiistaisin 2.10.-16.10.2018\, klo 10-16.30 \nhttps://opistopalvelut.fi/pori/course.php?l=fi&t=6506
URL:https://nukkekamari.fi/tapahtuma/vanhan-ajan-tonttuja-ja-enkeleita-a-porin-seudun-kansalaisopisto-tiistaisin-2-10-16-10-2018-klo-10-16-30/
END:VEVENT
BEGIN:VEVENT
DTSTART;TZID=Europe/Helsinki:20181017T091500
DTEND;TZID=Europe/Helsinki:20181017T121500
DTSTAMP:20260425T052509
CREATED:20180812T120919Z
LAST-MODIFIED:20180812T120919Z
UID:1446-1539767700-1539778500@nukkekamari.fi
SUMMARY:Nallekahvila A Porin seudun kansalaisopisto keskiviikkoisin 12.9.-28.11.2018
DESCRIPTION:Nallekahvila A Porin seudun kansalaisopisto keskiviikkoisin 12.9.-28.11.2018
URL:https://nukkekamari.fi/tapahtuma/nallekahvila-a-porin-seudun-kansalaisopisto-keskiviikkoisin-12-9-28-11-2018-6/
END:VEVENT
BEGIN:VEVENT
DTSTART;TZID=Europe/Helsinki:20181018T100000
DTEND;TZID=Europe/Helsinki:20181018T130000
DTSTAMP:20260425T052509
CREATED:20180724T122053Z
LAST-MODIFIED:20180812T123650Z
UID:1371-1539856800-1539867600@nukkekamari.fi
SUMMARY:Nukkekurssi B\, Pori seudun kansalaisopisto 13.9.-29.11.2018
DESCRIPTION:Nukkekurssi B\, Pori seudun kansalaisopisto torstaisin 13.9.-29.11.2018 klo 10-13
URL:https://nukkekamari.fi/tapahtuma/nukkekurssi-b-pori-seudun-kansalaisopisto-6/
END:VEVENT
BEGIN:VEVENT
DTSTART;TZID=Europe/Helsinki:20181022T080000
DTEND;TZID=Europe/Helsinki:20181028T170000
DTSTAMP:20260425T052509
CREATED:20180812T121131Z
LAST-MODIFIED:20180812T121131Z
UID:1448-1540195200-1540746000@nukkekamari.fi
SUMMARY:Nukkekamari lomailee 22.10.-28.10.2018
DESCRIPTION:
URL:https://nukkekamari.fi/tapahtuma/nukkekamari-lomailee-22-10-28-10-2018/
END:VEVENT
BEGIN:VEVENT
DTSTART;TZID=Europe/Helsinki:20181029T161500
DTEND;TZID=Europe/Helsinki:20181029T191500
DTSTAMP:20260425T052509
CREATED:20180724T121524Z
LAST-MODIFIED:20180812T122504Z
UID:1353-1540829700-1540840500@nukkekamari.fi
SUMMARY:Nukkekurssi A\, Porin seudun kansalaisopisto 10.9.-19.11.2018
DESCRIPTION:Nukkekurssi A\, Porin seudun kansalaisopisto  maanantaisin 10.9.-19.11.2018  klo 16.15-19.15.
URL:https://nukkekamari.fi/tapahtuma/nukkekurssi-a-porin-seudun-kansalaisopisto-8/
END:VEVENT
BEGIN:VEVENT
DTSTART;TZID=Europe/Helsinki:20181031T091500
DTEND;TZID=Europe/Helsinki:20181031T121500
DTSTAMP:20260425T052509
CREATED:20180812T121316Z
LAST-MODIFIED:20180812T121316Z
UID:1450-1540977300-1540988100@nukkekamari.fi
SUMMARY:Nallekahvila A Porin seudun kansalaisopisto keskiviikkoisin 12.9.-28.11.2018
DESCRIPTION:Nallekahvila A Porin seudun kansalaisopisto keskiviikkoisin 12.9.-28.11.2018
URL:https://nukkekamari.fi/tapahtuma/nallekahvila-a-porin-seudun-kansalaisopisto-keskiviikkoisin-12-9-28-11-2018-7/
END:VEVENT
END:VCALENDAR