BEGIN:VCALENDAR
VERSION:2.0
PRODID:-//Nukkekamari - ECPv6.15.20//NONSGML v1.0//EN
CALSCALE:GREGORIAN
METHOD:PUBLISH
X-ORIGINAL-URL:https://nukkekamari.fi
X-WR-CALDESC:Tapahtumat Nukkekamari
REFRESH-INTERVAL;VALUE=DURATION:PT1H
X-Robots-Tag:noindex
X-PUBLISHED-TTL:PT1H
BEGIN:VTIMEZONE
TZID:Europe/Helsinki
BEGIN:DAYLIGHT
TZOFFSETFROM:+0200
TZOFFSETTO:+0300
TZNAME:EEST
DTSTART:20170326T010000
END:DAYLIGHT
BEGIN:STANDARD
TZOFFSETFROM:+0300
TZOFFSETTO:+0200
TZNAME:EET
DTSTART:20171029T010000
END:STANDARD
BEGIN:DAYLIGHT
TZOFFSETFROM:+0200
TZOFFSETTO:+0300
TZNAME:EEST
DTSTART:20180325T010000
END:DAYLIGHT
BEGIN:STANDARD
TZOFFSETFROM:+0300
TZOFFSETTO:+0200
TZNAME:EET
DTSTART:20181028T010000
END:STANDARD
BEGIN:DAYLIGHT
TZOFFSETFROM:+0200
TZOFFSETTO:+0300
TZNAME:EEST
DTSTART:20190331T010000
END:DAYLIGHT
BEGIN:STANDARD
TZOFFSETFROM:+0300
TZOFFSETTO:+0200
TZNAME:EET
DTSTART:20191027T010000
END:STANDARD
END:VTIMEZONE
BEGIN:VEVENT
DTSTART;TZID=Europe/Helsinki:20180404T091500
DTEND;TZID=Europe/Helsinki:20180404T121500
DTSTAMP:20260425T150911
CREATED:20180106T101637Z
LAST-MODIFIED:20180108T164304Z
UID:1049-1522833300-1522844100@nukkekamari.fi
SUMMARY:17236K NALLEKAHVILA A Porin seudun kansalaisopisto
DESCRIPTION:Opit valmistamaan aidon antiikkinallen tai perinnelelun mohairkankaasta: koira\, kettu\, kissa tai kani. Työ ommellaan käsin. Pahvinivelet saavat lelut liikuttamaan kaikkia jäseniä ja käsin puhalletut lasisilmät saavat lelut elämään. Täytemateriaalina käytetään ekokuitua. Perinnelelun voi valmistaa vaikka lahjaksi. Katso lisätiedot. Opettajalta voi ostaa materiaalia. Materiaaleista eri maksu\, alkaen 35 e / hahmo. \nIlmoittautuminen alkaa: 4.1.2018 10:00:00 \nOpettaja: Teija Ruuhikorpi-Mäki \nPaikkatilanne: Osallistujamaksimi 14\, kurssilla on tilaa. \nOpetuspaikka: Opistotalo: Trappukamari\,  Gallen-Kallelankatu 14\, 28100 Pori  \n\nPäivä ja kello: Ke: 09.15-12.15 \nKevätlukukausi: 31.1.2018 – 11.4.2018 (40 oppituntia) \nKurssimaksu: 40\,00 €
URL:https://nukkekamari.fi/tapahtuma/17236k-nallekahvila-a-9/
END:VEVENT
BEGIN:VEVENT
DTSTART;TZID=Europe/Helsinki:20180405T100000
DTEND;TZID=Europe/Helsinki:20180405T130000
DTSTAMP:20260425T150911
CREATED:20180106T100835Z
LAST-MODIFIED:20180108T164236Z
UID:1037-1522922400-1522933200@nukkekamari.fi
SUMMARY:17233K NUKKEKURSSI B Porin seudun kansalaisopisto
DESCRIPTION:Oletko kiinnostunut uudesta harrastuksesta? Haluatko jatkaa mielenkiintoista harrastustasi? Tule tutustumaan antiikkinukkien ihmeelliseen maailmaan ja tekemään itse ikioma nukke. Voit valmistaa perinteisin menetelmin Martta-nuken\, Heubach-tehtaan luonnenuken tai leikittävän Sveitsinnuken. Opit hiomaan\, pohjustamaan ja maalaamaan nuken kasvot. Vartalo ommellaan kankaasta ja täytetään tiiviiksi. Saat paljon tietoa nukkien historiasta ja eri aikakausien vaatetuksesta\,joita voi valmistaa ommellen\, neuloen tai virkaten. Materiaaleista ja työvälineiden käytöstä 23 e maksu. Nukkepaketit alkaen 31 e. Kurssilaisille lähetetään tietoa kurssista ja materiaaleista. \nIlmoittautuminen alkaa: 4.1.2018 10:00:00 \nOpettaja: Teija Ruuhikorpi-Mäki \nPaikkatilanne: Osallistujamaksimi 14\, kurssilla on tilaa. \nOpetuspaikka: Opistotalo: Trappukamari\,  Gallen-Kallelankatu 14\, 28100 Pori  \n\nPäivä ja kello: To: 10.00-13.00 \nKevätlukukausi: 1.2.2018 – 19.4.2018 (40 oppituntia) \nKurssimaksu: 40\,00 €
URL:https://nukkekamari.fi/tapahtuma/17233k-nukkekurssi-b-8/
END:VEVENT
BEGIN:VEVENT
DTSTART;TZID=Europe/Helsinki:20180406T170000
DTEND;TZID=Europe/Helsinki:20180406T201500
DTSTAMP:20260425T150911
CREATED:20180106T102400Z
LAST-MODIFIED:20180108T164202Z
UID:1057-1523034000-1523045700@nukkekamari.fi
SUMMARY:1104027 NUKKE-KURSSI Rauman kansalaisopisto
DESCRIPTION:Tutustutaan antiikkinukkien ihmeelliseen maailmaan ja tehdään ikioma nukke. Voit valmistaa perinteisin menetelmin Martta-nuken\, Heubach-tehtaan luonnenuken tai leikittävän Sveitsinnuken. Opit hiomaan\, pohjustamaan ja maalaamaan nuken kasvot. Vartalo ommellaan kankaasta ja täytetään tiiviiksi. Kurssilla saat paljon tietoa nukkien historiasta ja eri aikakausien vaatetuksesta. Materiaaleista ja työvälineiden käytöstä 23 € maksu. Nukkepaketit alkaen 31 €. Kokoontumiset 23.3.-25.3. ja 6.4.-8.4. Ilmoittautuminen 9.3. mennessä materiaalitilausten vuoksi. Kurssilaisille lähetetään tietoa  kurssista ja materiaaleista. Lisätietoja www.nukkekamari.fi \nIlmoittautuminen alkaa: 3.1.2018 18:00:00 \nOpettaja: opettaja Teija Ruuhikorpi-Mäki \nPaikkatilanne: Osallistujamaksimi 14\, kurssilla on tilaa. \nOpetuspaikka: Opistotalo\, siiven tekstiili\,  Aittakarinkatu 10\, 26100 RAUMA  \n\nPäivä ja kello: Pe: 17.00-20.15 La: 10.00-16.30 Su: 10.00-16.30 \nKevätlukukausi: 23.3.2018 – 8.4.2018 \nKurssimaksu: 41\,00 €
URL:https://nukkekamari.fi/tapahtuma/1104027-nukke-kurssi-4/
END:VEVENT
BEGIN:VEVENT
DTSTART;TZID=Europe/Helsinki:20180407T100000
DTEND;TZID=Europe/Helsinki:20180407T163000
DTSTAMP:20260425T150911
CREATED:20180106T102441Z
LAST-MODIFIED:20180108T164143Z
UID:1058-1523095200-1523118600@nukkekamari.fi
SUMMARY:1104027 NUKKE-KURSSI Rauman kansalaisopisto
DESCRIPTION:Tutustutaan antiikkinukkien ihmeelliseen maailmaan ja tehdään ikioma nukke. Voit valmistaa perinteisin menetelmin Martta-nuken\, Heubach-tehtaan luonnenuken tai leikittävän Sveitsinnuken. Opit hiomaan\, pohjustamaan ja maalaamaan nuken kasvot. Vartalo ommellaan kankaasta ja täytetään tiiviiksi. Kurssilla saat paljon tietoa nukkien historiasta ja eri aikakausien vaatetuksesta. Materiaaleista ja työvälineiden käytöstä 23 € maksu. Nukkepaketit alkaen 31 €. Kokoontumiset 23.3.-25.3. ja 6.4.-8.4. Ilmoittautuminen 9.3. mennessä materiaalitilausten vuoksi. Kurssilaisille lähetetään tietoa  kurssista ja materiaaleista. Lisätietoja www.nukkekamari.fi \nIlmoittautuminen alkaa: 3.1.2018 18:00:00 \nOpettaja: opettaja Teija Ruuhikorpi-Mäki \nPaikkatilanne: Osallistujamaksimi 14\, kurssilla on tilaa. \nOpetuspaikka: Opistotalo\, siiven tekstiili\,  Aittakarinkatu 10\, 26100 RAUMA  \n\nPäivä ja kello: Pe: 17.00-20.15 La: 10.00-16.30 Su: 10.00-16.30 \nKevätlukukausi: 23.3.2018 – 8.4.2018 \nKurssimaksu: 41\,00 €
URL:https://nukkekamari.fi/tapahtuma/1104027-nukke-kurssi-5/
END:VEVENT
BEGIN:VEVENT
DTSTART;TZID=Europe/Helsinki:20180408T100000
DTEND;TZID=Europe/Helsinki:20180408T163000
DTSTAMP:20260425T150911
CREATED:20180106T102514Z
LAST-MODIFIED:20180108T164113Z
UID:1059-1523181600-1523205000@nukkekamari.fi
SUMMARY:1104027 NUKKE-KURSSI Rauman kansalaisopisto
DESCRIPTION:Tutustutaan antiikkinukkien ihmeelliseen maailmaan ja tehdään ikioma nukke. Voit valmistaa perinteisin menetelmin Martta-nuken\, Heubach-tehtaan luonnenuken tai leikittävän Sveitsinnuken. Opit hiomaan\, pohjustamaan ja maalaamaan nuken kasvot. Vartalo ommellaan kankaasta ja täytetään tiiviiksi. Kurssilla saat paljon tietoa nukkien historiasta ja eri aikakausien vaatetuksesta. Materiaaleista ja työvälineiden käytöstä 23 € maksu. Nukkepaketit alkaen 31 €. Kokoontumiset 23.3.-25.3. ja 6.4.-8.4. Ilmoittautuminen 9.3. mennessä materiaalitilausten vuoksi. Kurssilaisille lähetetään tietoa  kurssista ja materiaaleista. Lisätietoja www.nukkekamari.fi \nIlmoittautuminen alkaa: 3.1.2018 18:00:00 \nOpettaja: opettaja Teija Ruuhikorpi-Mäki \nPaikkatilanne: Osallistujamaksimi 14\, kurssilla on tilaa. \nOpetuspaikka: Opistotalo\, siiven tekstiili\,  Aittakarinkatu 10\, 26100 RAUMA  \n\nPäivä ja kello: Pe: 17.00-20.15 La: 10.00-16.30 Su: 10.00-16.30 \nKevätlukukausi: 23.3.2018 – 8.4.2018 \nKurssimaksu: 41\,00 €
URL:https://nukkekamari.fi/tapahtuma/1104027-nukke-kurssi-6/
END:VEVENT
BEGIN:VEVENT
DTSTART;TZID=Europe/Helsinki:20180409T161500
DTEND;TZID=Europe/Helsinki:20180409T191500
DTSTAMP:20260425T150911
CREATED:20180106T100258Z
LAST-MODIFIED:20180108T164020Z
UID:1028-1523290500-1523301300@nukkekamari.fi
SUMMARY:17230K NUKKEKURSSI A Porin seudun kansalaisopisto
DESCRIPTION:Oletko kiinnostunut uudesta harrastuksesta? Haluatko jatkaa mielenkiintoista harrastustasi? Tule tutustumaan antiikkinukkien ihmeelliseen maailmaan ja tekemään itse ikioma nukke. Voit valmistaa perinteisin menetelmin Martta-nuken\, Heubach-tehtaan luonnenuken tai leikittävän Sveitsinnuken. Opit hiomaan\, pohjustamaan ja maalaamaan nuken kasvot. Vartalo ommellaan kankaasta ja täytetään tiiviiksi. Saat paljon tietoa nukkien historiasta ja eri aikakausien vaatetuksesta\,joita voi valmistaa ommellen\, neuloen tai virkaten. Materiaaleista ja työvälineiden käytöstä 23 e maksu. Nukkepaketit alkaen 31 e. Kurssilaisille lähetetään tietoa kurssista ja materiaaleista. \nIlmoittautuminen alkaa: 4.1.2018 10:00:00 \nOpettaja: Teija Ruuhikorpi-Mäki \nPaikkatilanne: Osallistujamaksimi 14\, kurssilla on tilaa. \nOpetuspaikka: Opistotalo: Trappukamari\,  Gallen-Kallelankatu 14\, 28100 Pori  \n\nPäivä ja kello: Ma: 16.15-19.15 \nKevätlukukausi: 29.1.2018 – 16.4.2018 (40 oppituntia) \nKurssimaksu: 40\,00 €
URL:https://nukkekamari.fi/tapahtuma/17230k-nukkekurssi-a-9/
END:VEVENT
BEGIN:VEVENT
DTSTART;TZID=Europe/Helsinki:20180411T091500
DTEND;TZID=Europe/Helsinki:20180411T121500
DTSTAMP:20260425T150911
CREATED:20180106T101708Z
LAST-MODIFIED:20180108T163959Z
UID:1050-1523438100-1523448900@nukkekamari.fi
SUMMARY:17236K NALLEKAHVILA A Porin seudun kansalaisopisto
DESCRIPTION:Opit valmistamaan aidon antiikkinallen tai perinnelelun mohairkankaasta: koira\, kettu\, kissa tai kani. Työ ommellaan käsin. Pahvinivelet saavat lelut liikuttamaan kaikkia jäseniä ja käsin puhalletut lasisilmät saavat lelut elämään. Täytemateriaalina käytetään ekokuitua. Perinnelelun voi valmistaa vaikka lahjaksi. Katso lisätiedot. Opettajalta voi ostaa materiaalia. Materiaaleista eri maksu\, alkaen 35 e / hahmo. \nIlmoittautuminen alkaa: 4.1.2018 10:00:00 \nOpettaja: Teija Ruuhikorpi-Mäki \nPaikkatilanne: Osallistujamaksimi 14\, kurssilla on tilaa. \nOpetuspaikka: Opistotalo: Trappukamari\,  Gallen-Kallelankatu 14\, 28100 Pori  \n\nPäivä ja kello: Ke: 09.15-12.15 \nKevätlukukausi: 31.1.2018 – 11.4.2018 (40 oppituntia) \nKurssimaksu: 40\,00 €
URL:https://nukkekamari.fi/tapahtuma/17236k-nallekahvila-a-10/
END:VEVENT
BEGIN:VEVENT
DTSTART;TZID=Europe/Helsinki:20180412T100000
DTEND;TZID=Europe/Helsinki:20180412T130000
DTSTAMP:20260425T150911
CREATED:20180106T100908Z
LAST-MODIFIED:20180108T163939Z
UID:1038-1523527200-1523538000@nukkekamari.fi
SUMMARY:17233K NUKKEKURSSI B Porin seudun kansalaisopisto
DESCRIPTION:Oletko kiinnostunut uudesta harrastuksesta? Haluatko jatkaa mielenkiintoista harrastustasi? Tule tutustumaan antiikkinukkien ihmeelliseen maailmaan ja tekemään itse ikioma nukke. Voit valmistaa perinteisin menetelmin Martta-nuken\, Heubach-tehtaan luonnenuken tai leikittävän Sveitsinnuken. Opit hiomaan\, pohjustamaan ja maalaamaan nuken kasvot. Vartalo ommellaan kankaasta ja täytetään tiiviiksi. Saat paljon tietoa nukkien historiasta ja eri aikakausien vaatetuksesta\,joita voi valmistaa ommellen\, neuloen tai virkaten. Materiaaleista ja työvälineiden käytöstä 23 e maksu. Nukkepaketit alkaen 31 e. Kurssilaisille lähetetään tietoa kurssista ja materiaaleista. \nIlmoittautuminen alkaa: 4.1.2018 10:00:00 \nOpettaja: Teija Ruuhikorpi-Mäki \nPaikkatilanne: Osallistujamaksimi 14\, kurssilla on tilaa. \nOpetuspaikka: Opistotalo: Trappukamari\,  Gallen-Kallelankatu 14\, 28100 Pori  \n\nPäivä ja kello: To: 10.00-13.00 \nKevätlukukausi: 1.2.2018 – 19.4.2018 (40 oppituntia) \nKurssimaksu: 40\,00 €
URL:https://nukkekamari.fi/tapahtuma/17233k-nukkekurssi-b-9/
END:VEVENT
BEGIN:VEVENT
DTSTART;TZID=Europe/Helsinki:20180416T161500
DTEND;TZID=Europe/Helsinki:20180416T191500
DTSTAMP:20260425T150911
CREATED:20180106T100338Z
LAST-MODIFIED:20180108T163918Z
UID:1029-1523895300-1523906100@nukkekamari.fi
SUMMARY:17230K NUKKEKURSSI A Porin seudun kansalaisopisto
DESCRIPTION:Oletko kiinnostunut uudesta harrastuksesta? Haluatko jatkaa mielenkiintoista harrastustasi? Tule tutustumaan antiikkinukkien ihmeelliseen maailmaan ja tekemään itse ikioma nukke. Voit valmistaa perinteisin menetelmin Martta-nuken\, Heubach-tehtaan luonnenuken tai leikittävän Sveitsinnuken. Opit hiomaan\, pohjustamaan ja maalaamaan nuken kasvot. Vartalo ommellaan kankaasta ja täytetään tiiviiksi. Saat paljon tietoa nukkien historiasta ja eri aikakausien vaatetuksesta\,joita voi valmistaa ommellen\, neuloen tai virkaten. Materiaaleista ja työvälineiden käytöstä 23 e maksu. Nukkepaketit alkaen 31 e. Kurssilaisille lähetetään tietoa kurssista ja materiaaleista.Ilmoittautuminen alkaa: 4.1.2018 10:00:00 \nOpettaja: Teija Ruuhikorpi-Mäki \nPaikkatilanne: Osallistujamaksimi 14\, kurssilla on tilaa. \nOpetuspaikka: Opistotalo: Trappukamari\, Gallen-Kallelankatu 14\, 28100 Pori\nPäivä ja kello: Ma: 16.15-19.15 \nKevätlukukausi: 29.1.2018 – 16.4.2018 (40 oppituntia) \nKurssimaksu: 40\,00 €
URL:https://nukkekamari.fi/tapahtuma/17230k-nukkekurssi-a-10/
END:VEVENT
BEGIN:VEVENT
DTSTART;TZID=Europe/Helsinki:20180419T100000
DTEND;TZID=Europe/Helsinki:20180419T130000
DTSTAMP:20260425T150911
CREATED:20180106T100949Z
LAST-MODIFIED:20180108T163853Z
UID:1039-1524132000-1524142800@nukkekamari.fi
SUMMARY:17233K NUKKEKURSSI B Porin seudun kansalaisopisto
DESCRIPTION:Oletko kiinnostunut uudesta harrastuksesta? Haluatko jatkaa mielenkiintoista harrastustasi? Tule tutustumaan antiikkinukkien ihmeelliseen maailmaan ja tekemään itse ikioma nukke. Voit valmistaa perinteisin menetelmin Martta-nuken\, Heubach-tehtaan luonnenuken tai leikittävän Sveitsinnuken. Opit hiomaan\, pohjustamaan ja maalaamaan nuken kasvot. Vartalo ommellaan kankaasta ja täytetään tiiviiksi. Saat paljon tietoa nukkien historiasta ja eri aikakausien vaatetuksesta\,joita voi valmistaa ommellen\, neuloen tai virkaten. Materiaaleista ja työvälineiden käytöstä 23 e maksu. Nukkepaketit alkaen 31 e. Kurssilaisille lähetetään tietoa kurssista ja materiaaleista. \nIlmoittautuminen alkaa: 4.1.2018 10:00:00 \nOpettaja: Teija Ruuhikorpi-Mäki \nPaikkatilanne: Osallistujamaksimi 14\, kurssilla on tilaa. \nOpetuspaikka: Opistotalo: Trappukamari\,  Gallen-Kallelankatu 14\, 28100 Pori  \n\nPäivä ja kello: To: 10.00-13.00 \nKevätlukukausi: 1.2.2018 – 19.4.2018 (40 oppituntia) \nKurssimaksu: 40\,00 €
URL:https://nukkekamari.fi/tapahtuma/17233k-nukkekurssi-b-10/
END:VEVENT
BEGIN:VEVENT
DTSTART;TZID=Europe/Helsinki:20180420T163000
DTEND;TZID=Europe/Helsinki:20180420T210000
DTSTAMP:20260425T150911
CREATED:20180106T101812Z
LAST-MODIFIED:20180108T163823Z
UID:1051-1524241800-1524258000@nukkekamari.fi
SUMMARY:17239K NALLEKAHVILA B Porin seudun kansalaisopisto
DESCRIPTION:Opit valmistamaan aidon antiikkinallen tai perinnelelun mohairkankaasta: koira\, kettu\, kissa tai kani. Työ ommellaan käsin. Pahvinivelet saavat lelut liikuttamaan kaikkia jäseniä ja käsin puhalletut lasisilmät saavat lelut elämään. Täytemateriaalina käytetään ekokuitua. Perinnelelun voi valmistaa vaikka lahjaksi. Katso lisätiedot. Opettajalta voi ostaa materiaalia. Materiaaleista eri maksu\, alkaen 35 e / hahmo. \nIlmoittautuminen alkaa: 4.1.2018 10:00:00 \nOpettaja: Teija Ruuhikorpi-Mäki \nPaikkatilanne: Osallistujamaksimi 14\, kurssilla on tilaa. \nOpetuspaikka: Opistotalo: Trappukamari\,  Gallen-Kallelankatu 14\, 28100 Pori  \n\nPäivä ja kello: Pe: 16.30-21.00 La: 09.00-15.30 Su: 09.00-15.30 \nKevätlukukausi: 20.4.2018 – 22.4.2018 (22 oppituntia) \nKurssimaksu: 28\,00 €
URL:https://nukkekamari.fi/tapahtuma/17239k-nallekahvila-b/
END:VEVENT
BEGIN:VEVENT
DTSTART;TZID=Europe/Helsinki:20180421T090000
DTEND;TZID=Europe/Helsinki:20180421T153000
DTSTAMP:20260425T150911
CREATED:20180106T101856Z
LAST-MODIFIED:20180108T163801Z
UID:1052-1524301200-1524324600@nukkekamari.fi
SUMMARY:17239K NALLEKAHVILA B Porin seudun kansalaisopisto
DESCRIPTION:Opit valmistamaan aidon antiikkinallen tai perinnelelun mohairkankaasta: koira\, kettu\, kissa tai kani. Työ ommellaan käsin. Pahvinivelet saavat lelut liikuttamaan kaikkia jäseniä ja käsin puhalletut lasisilmät saavat lelut elämään. Täytemateriaalina käytetään ekokuitua. Perinnelelun voi valmistaa vaikka lahjaksi. Katso lisätiedot. Opettajalta voi ostaa materiaalia. Materiaaleista eri maksu\, alkaen 35 e / hahmo. \nIlmoittautuminen alkaa: 4.1.2018 10:00:00 \nOpettaja: Teija Ruuhikorpi-Mäki \nPaikkatilanne: Osallistujamaksimi 14\, kurssilla on tilaa. \nOpetuspaikka: Opistotalo: Trappukamari\,  Gallen-Kallelankatu 14\, 28100 Pori  \n\nPäivä ja kello: Pe: 16.30-21.00 La: 09.00-15.30 Su: 09.00-15.30 \nKevätlukukausi: 20.4.2018 – 22.4.2018 (22 oppituntia) \nKurssimaksu: 28\,00 €
URL:https://nukkekamari.fi/tapahtuma/17239k-nallekahvila-b-2/
END:VEVENT
BEGIN:VEVENT
DTSTART;TZID=Europe/Helsinki:20180422T090000
DTEND;TZID=Europe/Helsinki:20180422T153000
DTSTAMP:20260425T150911
CREATED:20180106T101927Z
LAST-MODIFIED:20180108T163708Z
UID:1053-1524387600-1524411000@nukkekamari.fi
SUMMARY:17239K NALLEKAHVILA B  Porin seudun kansalaisopisto
DESCRIPTION:Opit valmistamaan aidon antiikkinallen tai perinnelelun mohairkankaasta: koira\, kettu\, kissa tai kani. Työ ommellaan käsin. Pahvinivelet saavat lelut liikuttamaan kaikkia jäseniä ja käsin puhalletut lasisilmät saavat lelut elämään. Täytemateriaalina käytetään ekokuitua. Perinnelelun voi valmistaa vaikka lahjaksi. Katso lisätiedot. Opettajalta voi ostaa materiaalia. Materiaaleista eri maksu\, alkaen 35 e / hahmo. \nIlmoittautuminen alkaa: 4.1.2018 10:00:00 \nOpettaja: Teija Ruuhikorpi-Mäki \nPaikkatilanne: Osallistujamaksimi 14\, kurssilla on tilaa. \nOpetuspaikka: Opistotalo: Trappukamari\,  Gallen-Kallelankatu 14\, 28100 Pori  \n\nPäivä ja kello: Pe: 16.30-21.00 La: 09.00-15.30 Su: 09.00-15.30 \nKevätlukukausi: 20.4.2018 – 22.4.2018 (22 oppituntia) \nKurssimaksu: 28\,00 €
URL:https://nukkekamari.fi/tapahtuma/17239k-nallekahvila-b-3/
END:VEVENT
BEGIN:VEVENT
DTSTART;TZID=Europe/Helsinki:20180427T170000
DTEND;TZID=Europe/Helsinki:20180427T210000
DTSTAMP:20260425T150911
CREATED:20180308T141332Z
LAST-MODIFIED:20180308T141332Z
UID:1283-1524848400-1524862800@nukkekamari.fi
SUMMARY:1104292 PERINNELELUKURSSI\, Uusikaupunki\, Vakka opisto
DESCRIPTION:Kurssilla valmistetaan vanhanajan nalle\, kissa\, koira\, kettu\, pupu tai ankka Mohair-kankaasta perinteisin menetelmin ja materiaalein. Lelulle tulee liikkuvat nivelet päähän\, käsiin ja jalkoihin sekä häntään. Käsin puhalletut lasisilmät antavat lelulle tuikkivan katseen ja se täytetään joko puulastulla tai erikoisvanulla. Opettajalta voi ostaa materiaalia\, näistä eri maksu. Materiaalikustannus alk. 30 e / hahmo. Opettaja lähettää kirjeen kurssista ennen kurssin alkua. Lyhytkurssi. \nIlmoittautuminen alkaa: 4.1.2018 9:00:00 \nIlmoittaudu viimeistään: 1.3.2018 0:00:00 \nOpettaja: Käsityön ja taideaineiden suunnittelijaopettaja\, nukentekijä Teija Ruuhikorpi-Mäki \nPaikkatilanne: Osallistujamaksimi 12\, kurssilla on tilaa. \nOpetuspaikka: Pohitullin koulu\, opiston kädentaidot\,  Pohjoistullitie 3\, 23500 Uusikaupunki  \n\nPäivä ja kello: Pe: 17.00-21.00 La: 10.00-16.30 Su: 10.00-16.30 \nKevätlukukausi: 27.4.2018 – 29.4.2018 (21 oppituntia) \nKurssimaksu: 30\,00 €
URL:https://nukkekamari.fi/tapahtuma/1104292-perinnelelukurssi-uusikaupunki-vakka-opisto-2/
END:VEVENT
BEGIN:VEVENT
DTSTART;TZID=Europe/Helsinki:20180428T100000
DTEND;TZID=Europe/Helsinki:20180428T163000
DTSTAMP:20260425T150911
CREATED:20180308T141416Z
LAST-MODIFIED:20180308T141416Z
UID:1285-1524909600-1524933000@nukkekamari.fi
SUMMARY:1104292 PERINNELELUKURSSI\, Uusikaupunki\, Vakka opisto
DESCRIPTION:Kurssilla valmistetaan vanhanajan nalle\, kissa\, koira\, kettu\, pupu tai ankka Mohair-kankaasta perinteisin menetelmin ja materiaalein. Lelulle tulee liikkuvat nivelet päähän\, käsiin ja jalkoihin sekä häntään. Käsin puhalletut lasisilmät antavat lelulle tuikkivan katseen ja se täytetään joko puulastulla tai erikoisvanulla. Opettajalta voi ostaa materiaalia\, näistä eri maksu. Materiaalikustannus alk. 30 e / hahmo. Opettaja lähettää kirjeen kurssista ennen kurssin alkua. Lyhytkurssi. \nIlmoittautuminen alkaa: 4.1.2018 9:00:00 \nIlmoittaudu viimeistään: 1.3.2018 0:00:00 \nOpettaja: Käsityön ja taideaineiden suunnittelijaopettaja\, nukentekijä Teija Ruuhikorpi-Mäki \nPaikkatilanne: Osallistujamaksimi 12\, kurssilla on tilaa. \nOpetuspaikka: Pohitullin koulu\, opiston kädentaidot\,  Pohjoistullitie 3\, 23500 Uusikaupunki  \n\nPäivä ja kello: Pe: 17.00-21.00 La: 10.00-16.30 Su: 10.00-16.30 \nKevätlukukausi: 27.4.2018 – 29.4.2018 (21 oppituntia) \nKurssimaksu: 30\,00 €
URL:https://nukkekamari.fi/tapahtuma/1104292-perinnelelukurssi-uusikaupunki-vakka-opisto-3/
END:VEVENT
BEGIN:VEVENT
DTSTART;TZID=Europe/Helsinki:20180429T100000
DTEND;TZID=Europe/Helsinki:20180429T163000
DTSTAMP:20260425T150911
CREATED:20180308T141453Z
LAST-MODIFIED:20180308T141453Z
UID:1287-1524996000-1525019400@nukkekamari.fi
SUMMARY:1104292 PERINNELELUKURSSI\, Uusikaupunki\, Vakka opisto
DESCRIPTION:Kurssilla valmistetaan vanhanajan nalle\, kissa\, koira\, kettu\, pupu tai ankka Mohair-kankaasta perinteisin menetelmin ja materiaalein. Lelulle tulee liikkuvat nivelet päähän\, käsiin ja jalkoihin sekä häntään. Käsin puhalletut lasisilmät antavat lelulle tuikkivan katseen ja se täytetään joko puulastulla tai erikoisvanulla. Opettajalta voi ostaa materiaalia\, näistä eri maksu. Materiaalikustannus alk. 30 e / hahmo. Opettaja lähettää kirjeen kurssista ennen kurssin alkua. Lyhytkurssi. \nIlmoittautuminen alkaa: 4.1.2018 9:00:00 \nIlmoittaudu viimeistään: 1.3.2018 0:00:00 \nOpettaja: Käsityön ja taideaineiden suunnittelijaopettaja\, nukentekijä Teija Ruuhikorpi-Mäki \nPaikkatilanne: Osallistujamaksimi 12\, kurssilla on tilaa. \nOpetuspaikka: Pohitullin koulu\, opiston kädentaidot\,  Pohjoistullitie 3\, 23500 Uusikaupunki  \n\nPäivä ja kello: Pe: 17.00-21.00 La: 10.00-16.30 Su: 10.00-16.30 \nKevätlukukausi: 27.4.2018 – 29.4.2018 (21 oppituntia) \nKurssimaksu: 30\,00 €
URL:https://nukkekamari.fi/tapahtuma/1104292-perinnelelukurssi-uusikaupunki-vakka-opisto-4/
CATEGORIES:Kurssit
END:VEVENT
END:VCALENDAR