BEGIN:VCALENDAR
VERSION:2.0
PRODID:-//Nukkekamari - ECPv6.15.20//NONSGML v1.0//EN
CALSCALE:GREGORIAN
METHOD:PUBLISH
X-ORIGINAL-URL:https://nukkekamari.fi
X-WR-CALDESC:Tapahtumat Nukkekamari
REFRESH-INTERVAL;VALUE=DURATION:PT1H
X-Robots-Tag:noindex
X-PUBLISHED-TTL:PT1H
BEGIN:VTIMEZONE
TZID:Europe/Helsinki
BEGIN:DAYLIGHT
TZOFFSETFROM:+0200
TZOFFSETTO:+0300
TZNAME:EEST
DTSTART:20170326T010000
END:DAYLIGHT
BEGIN:STANDARD
TZOFFSETFROM:+0300
TZOFFSETTO:+0200
TZNAME:EET
DTSTART:20171029T010000
END:STANDARD
BEGIN:DAYLIGHT
TZOFFSETFROM:+0200
TZOFFSETTO:+0300
TZNAME:EEST
DTSTART:20180325T010000
END:DAYLIGHT
BEGIN:STANDARD
TZOFFSETFROM:+0300
TZOFFSETTO:+0200
TZNAME:EET
DTSTART:20181028T010000
END:STANDARD
BEGIN:DAYLIGHT
TZOFFSETFROM:+0200
TZOFFSETTO:+0300
TZNAME:EEST
DTSTART:20190331T010000
END:DAYLIGHT
BEGIN:STANDARD
TZOFFSETFROM:+0300
TZOFFSETTO:+0200
TZNAME:EET
DTSTART:20191027T010000
END:STANDARD
END:VTIMEZONE
BEGIN:VEVENT
DTSTART;TZID=Europe/Helsinki:20180201T100000
DTEND;TZID=Europe/Helsinki:20180201T130000
DTSTAMP:20260425T182024
CREATED:20180106T100436Z
LAST-MODIFIED:20180108T170742Z
UID:1030-1517479200-1517490000@nukkekamari.fi
SUMMARY:17233K NUKKEKURSSI B Porin seudun kansalaisopisto
DESCRIPTION:Oletko kiinnostunut uudesta harrastuksesta? Haluatko jatkaa mielenkiintoista harrastustasi? Tule tutustumaan antiikkinukkien ihmeelliseen maailmaan ja tekemään itse ikioma nukke. Voit valmistaa perinteisin menetelmin Martta-nuken\, Heubach-tehtaan luonnenuken tai leikittävän Sveitsinnuken. Opit hiomaan\, pohjustamaan ja maalaamaan nuken kasvot. Vartalo ommellaan kankaasta ja täytetään tiiviiksi. Saat paljon tietoa nukkien historiasta ja eri aikakausien vaatetuksesta\,joita voi valmistaa ommellen\, neuloen tai virkaten. Materiaaleista ja työvälineiden käytöstä 23 e maksu. Nukkepaketit alkaen 31 e. Kurssilaisille lähetetään tietoa kurssista ja materiaaleista. \nIlmoittautuminen alkaa: 4.1.2018 10:00:00 \nOpettaja: Teija Ruuhikorpi-Mäki \nPaikkatilanne: Osallistujamaksimi 14\, kurssilla on tilaa. \nOpetuspaikka: Opistotalo: Trappukamari\,  Gallen-Kallelankatu 14\, 28100 Pori  \n\nPäivä ja kello: To: 10.00-13.00 \nKevätlukukausi: 1.2.2018 – 19.4.2018 (40 oppituntia) \nKurssimaksu: 40\,00 €
URL:https://nukkekamari.fi/tapahtuma/17233k-nukkekurssi-b/
END:VEVENT
BEGIN:VEVENT
DTSTART;TZID=Europe/Helsinki:20180205T161500
DTEND;TZID=Europe/Helsinki:20180205T191500
DTSTAMP:20260425T182024
CREATED:20180106T095709Z
LAST-MODIFIED:20180108T170731Z
UID:1021-1517847300-1517858100@nukkekamari.fi
SUMMARY:17230K NUKKEKURSSI A Porin seudun kansalaisopisto
DESCRIPTION:Oletko kiinnostunut uudesta harrastuksesta? Haluatko jatkaa mielenkiintoista harrastustasi? Tule tutustumaan antiikkinukkien ihmeelliseen maailmaan ja tekemään itse ikioma nukke. Voit valmistaa perinteisin menetelmin Martta-nuken\, Heubach-tehtaan luonnenuken tai leikittävän Sveitsinnuken. Opit hiomaan\, pohjustamaan ja maalaamaan nuken kasvot. Vartalo ommellaan kankaasta ja täytetään tiiviiksi. Saat paljon tietoa nukkien historiasta ja eri aikakausien vaatetuksesta\,joita voi valmistaa ommellen\, neuloen tai virkaten. Materiaaleista ja työvälineiden käytöstä 23 e maksu. Nukkepaketit alkaen 31 e. Kurssilaisille lähetetään tietoa kurssista ja materiaaleista. \nIlmoittautuminen alkaa: 4.1.2018 10:00:00 \nOpettaja: Teija Ruuhikorpi-Mäki \nPaikkatilanne: Osallistujamaksimi 14\, kurssilla on tilaa. \nOpetuspaikka: Opistotalo: Trappukamari\,  Gallen-Kallelankatu 14\, 28100 Pori  \n\nPäivä ja kello: Ma: 16.15-19.15 \nKevätlukukausi: 29.1.2018 – 16.4.2018 (40 oppituntia) \nKurssimaksu: 40\,00 €
URL:https://nukkekamari.fi/tapahtuma/17230k-nukkekurssi-a-2/
END:VEVENT
BEGIN:VEVENT
DTSTART;TZID=Europe/Helsinki:20180207T091500
DTEND;TZID=Europe/Helsinki:20180207T121500
DTSTAMP:20260425T182024
CREATED:20180106T101139Z
LAST-MODIFIED:20180108T170707Z
UID:1041-1517994900-1518005700@nukkekamari.fi
SUMMARY:17236K NALLEKAHVILA A Porin seudun kansalaisopisto
DESCRIPTION:Opit valmistamaan aidon antiikkinallen tai perinnelelun mohairkankaasta: koira\, kettu\, kissa tai kani. Työ ommellaan käsin. Pahvinivelet saavat lelut liikuttamaan kaikkia jäseniä ja käsin puhalletut lasisilmät saavat lelut elämään. Täytemateriaalina käytetään ekokuitua. Perinnelelun voi valmistaa vaikka lahjaksi. Katso lisätiedot. Opettajalta voi ostaa materiaalia. Materiaaleista eri maksu\, alkaen 35 e / hahmo. \nIlmoittautuminen alkaa: 4.1.2018 10:00:00 \nOpettaja: Teija Ruuhikorpi-Mäki \nPaikkatilanne: Osallistujamaksimi 14\, kurssilla on tilaa. \nOpetuspaikka: Opistotalo: Trappukamari\,  Gallen-Kallelankatu 14\, 28100 Pori  \n\nPäivä ja kello: Ke: 09.15-12.15 \nKevätlukukausi: 31.1.2018 – 11.4.2018 (40 oppituntia) \nKurssimaksu: 40\,00 €
URL:https://nukkekamari.fi/tapahtuma/17236k-nallekahvila-a-2/
END:VEVENT
BEGIN:VEVENT
DTSTART;TZID=Europe/Helsinki:20180208T100000
DTEND;TZID=Europe/Helsinki:20180208T130000
DTSTAMP:20260425T182024
CREATED:20180106T100512Z
LAST-MODIFIED:20180108T170648Z
UID:1031-1518084000-1518094800@nukkekamari.fi
SUMMARY:17233K NUKKEKURSSI B Porin seudun kansalaisopisto
DESCRIPTION:Oletko kiinnostunut uudesta harrastuksesta? Haluatko jatkaa mielenkiintoista harrastustasi? Tule tutustumaan antiikkinukkien ihmeelliseen maailmaan ja tekemään itse ikioma nukke. Voit valmistaa perinteisin menetelmin Martta-nuken\, Heubach-tehtaan luonnenuken tai leikittävän Sveitsinnuken. Opit hiomaan\, pohjustamaan ja maalaamaan nuken kasvot. Vartalo ommellaan kankaasta ja täytetään tiiviiksi. Saat paljon tietoa nukkien historiasta ja eri aikakausien vaatetuksesta\,joita voi valmistaa ommellen\, neuloen tai virkaten. Materiaaleista ja työvälineiden käytöstä 23 e maksu. Nukkepaketit alkaen 31 e. Kurssilaisille lähetetään tietoa kurssista ja materiaaleista. \nIlmoittautuminen alkaa: 4.1.2018 10:00:00 \nOpettaja: Teija Ruuhikorpi-Mäki \nPaikkatilanne: Osallistujamaksimi 14\, kurssilla on tilaa. \nOpetuspaikka: Opistotalo: Trappukamari\,  Gallen-Kallelankatu 14\, 28100 Pori  \n\nPäivä ja kello: To: 10.00-13.00 \nKevätlukukausi: 1.2.2018 – 19.4.2018 (40 oppituntia) \nKurssimaksu: 40\,00 €
URL:https://nukkekamari.fi/tapahtuma/17233k-nukkekurssi-b-2/
END:VEVENT
BEGIN:VEVENT
DTSTART;TZID=Europe/Helsinki:20180212T161500
DTEND;TZID=Europe/Helsinki:20180212T191500
DTSTAMP:20260425T182024
CREATED:20180106T095744Z
LAST-MODIFIED:20180108T170013Z
UID:1022-1518452100-1518462900@nukkekamari.fi
SUMMARY:17230K NUKKEKURSSI A Porin seudun kansalaisopisto
DESCRIPTION:Oletko kiinnostunut uudesta harrastuksesta? Haluatko jatkaa mielenkiintoista harrastustasi? Tule tutustumaan antiikkinukkien ihmeelliseen maailmaan ja tekemään itse ikioma nukke. Voit valmistaa perinteisin menetelmin Martta-nuken\, Heubach-tehtaan luonnenuken tai leikittävän Sveitsinnuken. Opit hiomaan\, pohjustamaan ja maalaamaan nuken kasvot. Vartalo ommellaan kankaasta ja täytetään tiiviiksi. Saat paljon tietoa nukkien historiasta ja eri aikakausien vaatetuksesta\,joita voi valmistaa ommellen\, neuloen tai virkaten. Materiaaleista ja työvälineiden käytöstä 23 e maksu. Nukkepaketit alkaen 31 e. Kurssilaisille lähetetään tietoa kurssista ja materiaaleista. \nIlmoittautuminen alkaa: 4.1.2018 10:00:00 \nOpettaja: Teija Ruuhikorpi-Mäki \nPaikkatilanne: Osallistujamaksimi 14\, kurssilla on tilaa. \nOpetuspaikka: Opistotalo: Trappukamari\,  Gallen-Kallelankatu 14\, 28100 Pori  \n\nPäivä ja kello: Ma: 16.15-19.15 \nKevätlukukausi: 29.1.2018 – 16.4.2018 (40 oppituntia) \nKurssimaksu: 40\,00 €
URL:https://nukkekamari.fi/tapahtuma/17230k-nukkekurssi-a-3/
END:VEVENT
BEGIN:VEVENT
DTSTART;TZID=Europe/Helsinki:20180214T091500
DTEND;TZID=Europe/Helsinki:20180214T121500
DTSTAMP:20260425T182024
CREATED:20180106T101212Z
LAST-MODIFIED:20180108T170005Z
UID:1042-1518599700-1518610500@nukkekamari.fi
SUMMARY:17236K NALLEKAHVILA A Porin seudun kansalaisopisto
DESCRIPTION:Opit valmistamaan aidon antiikkinallen tai perinnelelun mohairkankaasta: koira\, kettu\, kissa tai kani. Työ ommellaan käsin. Pahvinivelet saavat lelut liikuttamaan kaikkia jäseniä ja käsin puhalletut lasisilmät saavat lelut elämään. Täytemateriaalina käytetään ekokuitua. Perinnelelun voi valmistaa vaikka lahjaksi. Katso lisätiedot. Opettajalta voi ostaa materiaalia. Materiaaleista eri maksu\, alkaen 35 e / hahmo. \nIlmoittautuminen alkaa: 4.1.2018 10:00:00 \nOpettaja: Teija Ruuhikorpi-Mäki \nPaikkatilanne: Osallistujamaksimi 14\, kurssilla on tilaa. \nOpetuspaikka: Opistotalo: Trappukamari\,  Gallen-Kallelankatu 14\, 28100 Pori  \n\nPäivä ja kello: Ke: 09.15-12.15 \nKevätlukukausi: 31.1.2018 – 11.4.2018 (40 oppituntia) \nKurssimaksu: 40\,00 €
URL:https://nukkekamari.fi/tapahtuma/17236k-nallekahvila-a-3/
END:VEVENT
BEGIN:VEVENT
DTSTART;TZID=Europe/Helsinki:20180215T100000
DTEND;TZID=Europe/Helsinki:20180215T130000
DTSTAMP:20260425T182024
CREATED:20180106T100541Z
LAST-MODIFIED:20180108T165959Z
UID:1032-1518688800-1518699600@nukkekamari.fi
SUMMARY:17233K NUKKEKURSSI B Porin seudun kansalaisopisto
DESCRIPTION:Oletko kiinnostunut uudesta harrastuksesta? Haluatko jatkaa mielenkiintoista harrastustasi? Tule tutustumaan antiikkinukkien ihmeelliseen maailmaan ja tekemään itse ikioma nukke. Voit valmistaa perinteisin menetelmin Martta-nuken\, Heubach-tehtaan luonnenuken tai leikittävän Sveitsinnuken. Opit hiomaan\, pohjustamaan ja maalaamaan nuken kasvot. Vartalo ommellaan kankaasta ja täytetään tiiviiksi. Saat paljon tietoa nukkien historiasta ja eri aikakausien vaatetuksesta\,joita voi valmistaa ommellen\, neuloen tai virkaten. Materiaaleista ja työvälineiden käytöstä 23 e maksu. Nukkepaketit alkaen 31 e. Kurssilaisille lähetetään tietoa kurssista ja materiaaleista. \nIlmoittautuminen alkaa: 4.1.2018 10:00:00 \nOpettaja: Teija Ruuhikorpi-Mäki \nPaikkatilanne: Osallistujamaksimi 14\, kurssilla on tilaa. \nOpetuspaikka: Opistotalo: Trappukamari\,  Gallen-Kallelankatu 14\, 28100 Pori  \n\nPäivä ja kello: To: 10.00-13.00 \nKevätlukukausi: 1.2.2018 – 19.4.2018 (40 oppituntia) \nKurssimaksu: 40\,00 €
URL:https://nukkekamari.fi/tapahtuma/17233k-nukkekurssi-b-3/
END:VEVENT
BEGIN:VEVENT
DTSTART;TZID=Europe/Helsinki:20180226T161500
DTEND;TZID=Europe/Helsinki:20180226T191500
DTSTAMP:20260425T182024
CREATED:20180106T095827Z
LAST-MODIFIED:20180108T165952Z
UID:1023-1519661700-1519672500@nukkekamari.fi
SUMMARY:17230K NUKKEKURSSI A Porin seudun kansalaisopisto
DESCRIPTION:Oletko kiinnostunut uudesta harrastuksesta? Haluatko jatkaa mielenkiintoista harrastustasi? Tule tutustumaan antiikkinukkien ihmeelliseen maailmaan ja tekemään itse ikioma nukke. Voit valmistaa perinteisin menetelmin Martta-nuken\, Heubach-tehtaan luonnenuken tai leikittävän Sveitsinnuken. Opit hiomaan\, pohjustamaan ja maalaamaan nuken kasvot. Vartalo ommellaan kankaasta ja täytetään tiiviiksi. Saat paljon tietoa nukkien historiasta ja eri aikakausien vaatetuksesta\,joita voi valmistaa ommellen\, neuloen tai virkaten. Materiaaleista ja työvälineiden käytöstä 23 e maksu. Nukkepaketit alkaen 31 e. Kurssilaisille lähetetään tietoa kurssista ja materiaaleista. \nIlmoittautuminen alkaa: 4.1.2018 10:00:00 \nOpettaja: Teija Ruuhikorpi-Mäki \nPaikkatilanne: Osallistujamaksimi 14\, kurssilla on tilaa. \nOpetuspaikka: Opistotalo: Trappukamari\,  Gallen-Kallelankatu 14\, 28100 Pori  \n\nPäivä ja kello: Ma: 16.15-19.15 \nKevätlukukausi: 29.1.2018 – 16.4.2018 (40 oppituntia) \nKurssimaksu: 40\,00 €
URL:https://nukkekamari.fi/tapahtuma/17230k-nukkekurssi-a-4/
END:VEVENT
BEGIN:VEVENT
DTSTART;TZID=Europe/Helsinki:20180228T091500
DTEND;TZID=Europe/Helsinki:20180228T121500
DTSTAMP:20260425T182024
CREATED:20180106T101248Z
LAST-MODIFIED:20180108T165944Z
UID:1043-1519809300-1519820100@nukkekamari.fi
SUMMARY:17236K NALLEKAHVILA A Porin seudun kansalaisopisto
DESCRIPTION:Opit valmistamaan aidon antiikkinallen tai perinnelelun mohairkankaasta: koira\, kettu\, kissa tai kani. Työ ommellaan käsin. Pahvinivelet saavat lelut liikuttamaan kaikkia jäseniä ja käsin puhalletut lasisilmät saavat lelut elämään. Täytemateriaalina käytetään ekokuitua. Perinnelelun voi valmistaa vaikka lahjaksi. Katso lisätiedot. Opettajalta voi ostaa materiaalia. Materiaaleista eri maksu\, alkaen 35 e / hahmo. \nIlmoittautuminen alkaa: 4.1.2018 10:00:00 \nOpettaja: Teija Ruuhikorpi-Mäki \nPaikkatilanne: Osallistujamaksimi 14\, kurssilla on tilaa. \nOpetuspaikka: Opistotalo: Trappukamari\,  Gallen-Kallelankatu 14\, 28100 Pori  \n\nPäivä ja kello: Ke: 09.15-12.15 \nKevätlukukausi: 31.1.2018 – 11.4.2018 (40 oppituntia) \nKurssimaksu: 40\,00 €
URL:https://nukkekamari.fi/tapahtuma/17236k-nallekahvila-a-4/
END:VEVENT
END:VCALENDAR