BEGIN:VCALENDAR
VERSION:2.0
PRODID:-//Nukkekamari - ECPv6.15.20//NONSGML v1.0//EN
CALSCALE:GREGORIAN
METHOD:PUBLISH
X-WR-CALNAME:Nukkekamari
X-ORIGINAL-URL:https://nukkekamari.fi
X-WR-CALDESC:Tapahtumat Nukkekamari
REFRESH-INTERVAL;VALUE=DURATION:PT1H
X-Robots-Tag:noindex
X-PUBLISHED-TTL:PT1H
BEGIN:VTIMEZONE
TZID:Europe/Helsinki
BEGIN:DAYLIGHT
TZOFFSETFROM:+0200
TZOFFSETTO:+0300
TZNAME:EEST
DTSTART:20160327T010000
END:DAYLIGHT
BEGIN:STANDARD
TZOFFSETFROM:+0300
TZOFFSETTO:+0200
TZNAME:EET
DTSTART:20161030T010000
END:STANDARD
BEGIN:DAYLIGHT
TZOFFSETFROM:+0200
TZOFFSETTO:+0300
TZNAME:EEST
DTSTART:20170326T010000
END:DAYLIGHT
BEGIN:STANDARD
TZOFFSETFROM:+0300
TZOFFSETTO:+0200
TZNAME:EET
DTSTART:20171029T010000
END:STANDARD
BEGIN:DAYLIGHT
TZOFFSETFROM:+0200
TZOFFSETTO:+0300
TZNAME:EEST
DTSTART:20180325T010000
END:DAYLIGHT
BEGIN:STANDARD
TZOFFSETFROM:+0300
TZOFFSETTO:+0200
TZNAME:EET
DTSTART:20181028T010000
END:STANDARD
END:VTIMEZONE
BEGIN:VEVENT
DTSTART;TZID=Europe/Helsinki:20171201T163000
DTEND;TZID=Europe/Helsinki:20171201T204500
DTSTAMP:20260425T210816
CREATED:20170901T153220Z
LAST-MODIFIED:20170901T153220Z
UID:924-1512145800-1512161100@nukkekamari.fi
SUMMARY:VANHANAJAN TONTTU / MAAHINEN / ENKELI Rauman kansalaisopisto
DESCRIPTION:Tonttu ilmestyi suomalaiseen kulttuuriin 1800-luvun lopulla. Valmistetaan noin 50 cm pitkä nostalginen vanhan ajan tonttu. Tontun pää on paperimassaa\, joka hiotaan ja maalataan. Tontulle maalataan kasvot ja ilme. Lampaantaljasta ommellaan hiukset ja parta. Tontulle tehdään taipuisa vartalo ja ommellaan yksilölliset villavaatteet. Opettaja tuo kaikki tarvittavat materiaalit ja työvälineet\, alk. 30 € / pää ja muu materiaalimaksu 23 €. Materiaalimaksu sisältää tarvittavien työvälineiden käytön ja materiaalit ”alastoman” tontun valmistamiseen. Vaatetuskankaat eivät sisälly materiaalimaksuun.\nKurssilaisille lähetetään tietoa kurssista ja materiaaleista (materiaalitilaus 23.11.mennessä). Lisätietoja www.nukkekamari.fi \nHUOM! Tällä kurssilla voi tehdä myös uutuutena enkeleitä! \nIlmoittautuminen alkaa: 30.8.2017 18:00:00 \nOpettaja: opettaja Teija Ruuhikorpi-Mäki \nPaikkatilanne: Osallistujamaksimi 14\, Ilmoittautuneita 14\, Varalla 6\, Vapaita paikkoja 0 \nOpetuspaikka: Opistotalo\, siiven tekstiili\,  Aittakarinkatu 10\, 26100 RAUMA  \n\nPäivä ja kello: To: 17.00-20.15 Pe: 16.30-20.45 La: 10.00-16.30 Su: 10.00-16.30 \nSyyslukukausi: 1.12.2017 – 7.12.2017 \nKurssimaksu: 31\,00 €
URL:https://nukkekamari.fi/tapahtuma/vanhanajan-tonttu-maahinen-enkeli-rauman-kansalaisopisto/
CATEGORIES:Kurssit,Tapahtumat
END:VEVENT
BEGIN:VEVENT
DTSTART;TZID=Europe/Helsinki:20171202T100000
DTEND;TZID=Europe/Helsinki:20171202T163000
DTSTAMP:20260425T210816
CREATED:20170901T153334Z
LAST-MODIFIED:20170901T153334Z
UID:925-1512208800-1512232200@nukkekamari.fi
SUMMARY:VANHANAJAN TONTTU / MAAHINEN / ENKELI Rauman kansalaisopisto
DESCRIPTION:Tonttu ilmestyi suomalaiseen kulttuuriin 1800-luvun lopulla. Valmistetaan noin 50 cm pitkä nostalginen vanhan ajan tonttu. Tontun pää on paperimassaa\, joka hiotaan ja maalataan. Tontulle maalataan kasvot ja ilme. Lampaantaljasta ommellaan hiukset ja parta. Tontulle tehdään taipuisa vartalo ja ommellaan yksilölliset villavaatteet. Opettaja tuo kaikki tarvittavat materiaalit ja työvälineet\, alk. 30 € / pää ja muu materiaalimaksu 23 €. Materiaalimaksu sisältää tarvittavien työvälineiden käytön ja materiaalit ”alastoman” tontun valmistamiseen. Vaatetuskankaat eivät sisälly materiaalimaksuun.\nKurssilaisille lähetetään tietoa kurssista ja materiaaleista (materiaalitilaus 23.11.mennessä). Lisätietoja www.nukkekamari.fi \nHUOM! Tällä kurssilla voi tehdä myös uutuutena enkeleitä! \nIlmoittautuminen alkaa: 30.8.2017 18:00:00 \nOpettaja: opettaja Teija Ruuhikorpi-Mäki \nPaikkatilanne: Osallistujamaksimi 14\, Ilmoittautuneita 14\, Varalla 6\, Vapaita paikkoja 0 \nOpetuspaikka: Opistotalo\, siiven tekstiili\,  Aittakarinkatu 10\, 26100 RAUMA  \n\nPäivä ja kello: To: 17.00-20.15 Pe: 16.30-20.45 La: 10.00-16.30 Su: 10.00-16.30 \nSyyslukukausi: 1.12.2017 – 7.12.2017 \nKurssimaksu: 31\,00 €
URL:https://nukkekamari.fi/tapahtuma/vanhanajan-tonttu-maahinen-enkeli-rauman-kansalaisopisto-2/
CATEGORIES:Kurssit,Tapahtumat
END:VEVENT
BEGIN:VEVENT
DTSTART;TZID=Europe/Helsinki:20171203T100000
DTEND;TZID=Europe/Helsinki:20171203T163000
DTSTAMP:20260425T210816
CREATED:20170901T153409Z
LAST-MODIFIED:20170901T153409Z
UID:926-1512295200-1512318600@nukkekamari.fi
SUMMARY:VANHANAJAN TONTTU / MAAHINEN / ENKELI Rauman kansalaisopisto
DESCRIPTION:Tonttu ilmestyi suomalaiseen kulttuuriin 1800-luvun lopulla. Valmistetaan noin 50 cm pitkä nostalginen vanhan ajan tonttu. Tontun pää on paperimassaa\, joka hiotaan ja maalataan. Tontulle maalataan kasvot ja ilme. Lampaantaljasta ommellaan hiukset ja parta. Tontulle tehdään taipuisa vartalo ja ommellaan yksilölliset villavaatteet. Opettaja tuo kaikki tarvittavat materiaalit ja työvälineet\, alk. 30 € / pää ja muu materiaalimaksu 23 €. Materiaalimaksu sisältää tarvittavien työvälineiden käytön ja materiaalit ”alastoman” tontun valmistamiseen. Vaatetuskankaat eivät sisälly materiaalimaksuun.\nKurssilaisille lähetetään tietoa kurssista ja materiaaleista (materiaalitilaus 23.11.mennessä). Lisätietoja www.nukkekamari.fi \nHUOM! Tällä kurssilla voi tehdä myös uutuutena enkeleitä! \nIlmoittautuminen alkaa: 30.8.2017 18:00:00 \nOpettaja: opettaja Teija Ruuhikorpi-Mäki \nPaikkatilanne: Osallistujamaksimi 14\, Ilmoittautuneita 14\, Varalla 6\, Vapaita paikkoja 0 \nOpetuspaikka: Opistotalo\, siiven tekstiili\,  Aittakarinkatu 10\, 26100 RAUMA  \n\nPäivä ja kello: To: 17.00-20.15 Pe: 16.30-20.45 La: 10.00-16.30 Su: 10.00-16.30 \nSyyslukukausi: 1.12.2017 – 7.12.2017 \nKurssimaksu: 31\,00 €
URL:https://nukkekamari.fi/tapahtuma/vanhanajan-tonttu-maahinen-enkeli-rauman-kansalaisopisto-3/
CATEGORIES:Kurssit,Tapahtumat
END:VEVENT
BEGIN:VEVENT
DTSTART;TZID=Europe/Helsinki:20171207T100000
DTEND;TZID=Europe/Helsinki:20171207T130000
DTSTAMP:20260425T210816
CREATED:20170901T143518Z
LAST-MODIFIED:20170901T143947Z
UID:891-1512640800-1512651600@nukkekamari.fi
SUMMARY:MARTTA-NUKKE KURSSI B Porin seudun kansalaisopisto
DESCRIPTION:Martta-nukke on yleisnimitys Turun Martta-yhdistyksen nukketeollisuuden valmistamille nukeille\, joita valmistettiin Turussa vuosina 1908-1974. Nykyään nuo nuket ovat keräilykohteita. Nuket valmistetaan aitojen antiikkisten Martta-nukkien tapaan. Näitä nukkeja\, joilla pää oli tehty paperimassasta ja vartalo kankaasta sahanpurutäyttein\, oli sodan jälkeen lähes joka kodissa. Opitaan hiomaan\, pohjustamaan\, ja maalaamaan nuken pää ja kädet. Nukelle maalataan kasvot ja hiukset. Vartalo ommellaan lakanakankaasta ja täytetään se tiiviiksi sahanpurulla. Kurssi sisältää paljon tietoa myös Martta-nukkien historiasta. Annetaan ohjeita nukkien vaatetuksesta\, joita voi valmistaa ommellen\, neuloen tai virkaten. Materiaaleista ja työvälineiden käytöstä  23 e maksu. Nukkepaketit alkaen 31 e. Opettajalta voi ostaa materiaalia. Opettaja lähettää kurssista kirjeen ennen kurssin alkua. Ei kokoontumista 28.9.\, 9.11. eikä 7.12. \nOpettaja: Teija Ruuhikorpi-Mäki \nPaikkatilanne: Osallistujamaksimi 14\, kurssilla on tilaa. \nOpetuspaikka: Opistotalo: Trappukamari\,  Gallen-Kallelankatu 14\, 28100 Pori  \n\nPäivä ja kello: To: 10.00-13.00 \nKevätlukukausi: 14.9.2017 – 14.12.2017 (40 oppituntia) \nKurssimaksu: 40\,00 €
URL:https://nukkekamari.fi/tapahtuma/martta-nukke-kurssi-b-porin-seudun-kansalaisopisto-9/
CATEGORIES:Kurssit,Tapahtumat
END:VEVENT
BEGIN:VEVENT
DTSTART;TZID=Europe/Helsinki:20171207T170000
DTEND;TZID=Europe/Helsinki:20171207T201500
DTSTAMP:20260425T210816
CREATED:20170901T153445Z
LAST-MODIFIED:20170901T153445Z
UID:927-1512666000-1512677700@nukkekamari.fi
SUMMARY:VANHANAJAN TONTTU / MAAHINEN / ENKELI Rauman kansalaisopisto
DESCRIPTION:Tonttu ilmestyi suomalaiseen kulttuuriin 1800-luvun lopulla. Valmistetaan noin 50 cm pitkä nostalginen vanhan ajan tonttu. Tontun pää on paperimassaa\, joka hiotaan ja maalataan. Tontulle maalataan kasvot ja ilme. Lampaantaljasta ommellaan hiukset ja parta. Tontulle tehdään taipuisa vartalo ja ommellaan yksilölliset villavaatteet. Opettaja tuo kaikki tarvittavat materiaalit ja työvälineet\, alk. 30 € / pää ja muu materiaalimaksu 23 €. Materiaalimaksu sisältää tarvittavien työvälineiden käytön ja materiaalit ”alastoman” tontun valmistamiseen. Vaatetuskankaat eivät sisälly materiaalimaksuun.\nKurssilaisille lähetetään tietoa kurssista ja materiaaleista (materiaalitilaus 23.11.mennessä). Lisätietoja www.nukkekamari.fi \nHUOM! Tällä kurssilla voi tehdä myös uutuutena enkeleitä! \nIlmoittautuminen alkaa: 30.8.2017 18:00:00 \nOpettaja: opettaja Teija Ruuhikorpi-Mäki \nPaikkatilanne: Osallistujamaksimi 14\, Ilmoittautuneita 14\, Varalla 6\, Vapaita paikkoja 0 \nOpetuspaikka: Opistotalo\, siiven tekstiili\,  Aittakarinkatu 10\, 26100 RAUMA  \n\nPäivä ja kello: To: 17.00-20.15 Pe: 16.30-20.45 La: 10.00-16.30 Su: 10.00-16.30 \nSyyslukukausi: 1.12.2017 – 7.12.2017 \nKurssimaksu: 31\,00 €
URL:https://nukkekamari.fi/tapahtuma/vanhanajan-tonttu-maahinen-enkeli-rauman-kansalaisopisto-4/
CATEGORIES:Kurssit,Tapahtumat
END:VEVENT
BEGIN:VEVENT
DTSTART;TZID=Europe/Helsinki:20171208T170000
DTEND;TZID=Europe/Helsinki:20171208T210000
DTSTAMP:20260425T210816
CREATED:20170901T155219Z
LAST-MODIFIED:20170901T155219Z
UID:934-1512752400-1512766800@nukkekamari.fi
SUMMARY:VANHANAJAN TONTTU/ENKELI\, Uusikaupunki
DESCRIPTION:Tonttu ilmestyi suomalaiseen kulttuuriin 1800-luvun lopulla. Valmistetaan noin 50 cm pitkä nostalginen vanhan ajan tonttu. Tontun päon paperimassaa\, joka hiotaan ja maalataan. Tontulle maalataan kasvot ja ilme. Lampaantaljasta ommellaan hiukset ja parta. Tontulle tehdään taipuisa vartalo ja ommellaan yksilölliset villavaatteet. Opettaja tuo kaikki tarvittavat materiaalit ja työvälineet\, alk. 30 € / pää ja muu materiaalimaksu 23 €. Materiaalimaksu sisältää tarvittavien työvälineiden käytön ja materiaalit ”alastoman” tontun valmistamiseen. Vaatetuskankaat eivät sisälly materiaalimaksuun.. Ilm. 23.11. mennessä materiaalitilausten vuoksi. Kurssilaisille lähetetään tietoa kurssista ja materiaaleista. Lisätietoja www.nukkekamari.fi \nHUOM! Tällä kurssilla voit tehdä myös uutuutena enkeleitä! \nIlmoittautuminen alkaa: 16.8.2017 17:00:00 \nIlmoittaudu viimeistään: 23.11.2017 0:00:00 \nOpettaja: Käsityön ja taideaineiden suunnittelijaopettaja\, nukentekijä Teija Ruuhikorpi-Mäki \nPaikkatilanne: Osallistujamaksimi 12\, kurssilla on tilaa. \nOpetuspaikka: Pohitullin koulu\, opiston kädentaidot\,  Pohjoistullitie 3\, 23500 Uusikaupunki  \n\nPäivä ja kello: Pe: 17.00-21.00 La: 10.00-16.30 Su: 10.00-16.30 \nSyyslukukausi: 8.12.2017 – 10.12.2017 (21 oppituntia) \nKurssimaksu: 30\,00 €
URL:https://nukkekamari.fi/tapahtuma/vanhanajan-tonttuenkeli-uusikaupunki/
CATEGORIES:Kurssit,Tapahtumat
END:VEVENT
BEGIN:VEVENT
DTSTART;TZID=Europe/Helsinki:20171209T100000
DTEND;TZID=Europe/Helsinki:20171209T163000
DTSTAMP:20260425T210816
CREATED:20170901T155318Z
LAST-MODIFIED:20170901T155318Z
UID:935-1512813600-1512837000@nukkekamari.fi
SUMMARY:VANHANAJAN TONTTU/ENKELI\, Uusikaupunki
DESCRIPTION:Tonttu ilmestyi suomalaiseen kulttuuriin 1800-luvun lopulla. Valmistetaan noin 50 cm pitkä nostalginen vanhan ajan tonttu. Tontun päon paperimassaa\, joka hiotaan ja maalataan. Tontulle maalataan kasvot ja ilme. Lampaantaljasta ommellaan hiukset ja parta. Tontulle tehdään taipuisa vartalo ja ommellaan yksilölliset villavaatteet. Opettaja tuo kaikki tarvittavat materiaalit ja työvälineet\, alk. 30 € / pää ja muu materiaalimaksu 23 €. Materiaalimaksu sisältää tarvittavien työvälineiden käytön ja materiaalit ”alastoman” tontun valmistamiseen. Vaatetuskankaat eivät sisälly materiaalimaksuun.. Ilm. 23.11. mennessä materiaalitilausten vuoksi. Kurssilaisille lähetetään tietoa kurssista ja materiaaleista. Lisätietoja www.nukkekamari.fi \nHUOM! Tällä kurssilla voit tehdä myös uutuutena enkeleitä! \nIlmoittautuminen alkaa: 16.8.2017 17:00:00 \nIlmoittaudu viimeistään: 23.11.2017 0:00:00 \nOpettaja: Käsityön ja taideaineiden suunnittelijaopettaja\, nukentekijä Teija Ruuhikorpi-Mäki \nPaikkatilanne: Osallistujamaksimi 12\, kurssilla on tilaa. \nOpetuspaikka: Pohitullin koulu\, opiston kädentaidot\,  Pohjoistullitie 3\, 23500 Uusikaupunki  \n\nPäivä ja kello: Pe: 17.00-21.00 La: 10.00-16.30 Su: 10.00-16.30 \nSyyslukukausi: 8.12.2017 – 10.12.2017 (21 oppituntia) \nKurssimaksu: 30\,00 €
URL:https://nukkekamari.fi/tapahtuma/vanhanajan-tonttuenkeli-uusikaupunki-2/
CATEGORIES:Kurssit,Tapahtumat
END:VEVENT
BEGIN:VEVENT
DTSTART;TZID=Europe/Helsinki:20171210T100000
DTEND;TZID=Europe/Helsinki:20171210T163000
DTSTAMP:20260425T210816
CREATED:20170901T155354Z
LAST-MODIFIED:20170901T155354Z
UID:936-1512900000-1512923400@nukkekamari.fi
SUMMARY:VANHANAJAN TONTTU/ENKELI\, Uusikaupunki
DESCRIPTION:Tonttu ilmestyi suomalaiseen kulttuuriin 1800-luvun lopulla. Valmistetaan noin 50 cm pitkä nostalginen vanhan ajan tonttu. Tontun päon paperimassaa\, joka hiotaan ja maalataan. Tontulle maalataan kasvot ja ilme. Lampaantaljasta ommellaan hiukset ja parta. Tontulle tehdään taipuisa vartalo ja ommellaan yksilölliset villavaatteet. Opettaja tuo kaikki tarvittavat materiaalit ja työvälineet\, alk. 30 € / pää ja muu materiaalimaksu 23 €. Materiaalimaksu sisältää tarvittavien työvälineiden käytön ja materiaalit ”alastoman” tontun valmistamiseen. Vaatetuskankaat eivät sisälly materiaalimaksuun.. Ilm. 23.11. mennessä materiaalitilausten vuoksi. Kurssilaisille lähetetään tietoa kurssista ja materiaaleista. Lisätietoja www.nukkekamari.fi \nHUOM! Tällä kurssilla voit tehdä myös uutuutena enkeleitä! \nIlmoittautuminen alkaa: 16.8.2017 17:00:00 \nIlmoittaudu viimeistään: 23.11.2017 0:00:00 \nOpettaja: Käsityön ja taideaineiden suunnittelijaopettaja\, nukentekijä Teija Ruuhikorpi-Mäki \nPaikkatilanne: Osallistujamaksimi 12\, kurssilla on tilaa. \nOpetuspaikka: Pohitullin koulu\, opiston kädentaidot\,  Pohjoistullitie 3\, 23500 Uusikaupunki  \n\nPäivä ja kello: Pe: 17.00-21.00 La: 10.00-16.30 Su: 10.00-16.30 \nSyyslukukausi: 8.12.2017 – 10.12.2017 (21 oppituntia) \nKurssimaksu: 30\,00 €
URL:https://nukkekamari.fi/tapahtuma/vanhanajan-tonttuenkeli-uusikaupunki-3/
CATEGORIES:Kurssit,Tapahtumat
END:VEVENT
END:VCALENDAR